Workbook

Sheet R8.9
A1: 区別住民基本台帳世帯人口一覧表
L2: 46266
A3: 地区 | B3: ＮＯ | C3: 区 | D3: 世帯数 | E3: 男 | F3: 女 | G3: 計 | H3: 地区 | I3: ＮＯ | J3: 区 | K3: 世帯数 | L3: 男 | M3: 女 | N3: 計
B4: 1 | C4: 大門一番町 | D4: 126 | E4: 111 | F4: 112 | G4: 223 | I4: 55 | J4: 吉田一区 | K4: 606 | L4: 636 | M4: 612 | N4: 1248
B5: 2 | C5: 大門二番町 | D5: 334 | E5: 365 | F5: 384 | G5: 749 | H5: 吉 | I5: 56 | J5: 吉田二区 | K5: 575 | L5: 554 | M5: 589 | N5: 1143
A6: 大 | B6: 3 | C6: 大門三番町 | D6: 361 | E6: 382 | F6: 390 | G6: 772 | I6: 57 | J6: 吉田三区 | K6: 1051 | L6: 1103 | M6: 1091 | N6: 2194
B7: 4 | C7: 大門四番町 | D7: 215 | E7: 219 | F7: 259 | G7: 478 | H7: 田 | I7: 58 | J7: 吉田四区 | K7: 947 | L7: 1018 | M7: 946 | N7: 1964
B8: 5 | C8: 大門五番町 | D8: 615 | E8: 680 | F8: 644 | G8: 1324 | I8: 59 | J8: 吉田五区 | K8: 1238 | L8: 1351 | M8: 1379 | N8: 2730
B9: 6 | C9: 大門六番町 | D9: 398 | E9: 404 | F9: 433 | G9: 837 | H9: 計 | K9: 4417 | L9: 4662 | M9: 4617 | N9: 9279
A10: 門 | B10: 7 | C10: 大門七番町 | D10: 274 | E10: 255 | F10: 263 | G10: 518 | I10: 60 | J10: 上組 | K10: 184 | L10: 254 | M10: 239 | N10: 493
B11: 8 | C11: 大門八番町 | D11: 209 | E11: 172 | F11: 195 | G11: 367 | H11: 洗 | I11: 61 | J11: 元町 | K11: 152 | L11: 180 | M11: 181 | N11: 361
B12: 9 | C12: 大門七区 | D12: 2030 | E12: 2235 | F12: 2182 | G12: 4417 | I12: 62 | J12: 芦ノ田 | K12: 323 | L12: 394 | M12: 400 | N12: 794
B13: 13 | C13: 大門田川町 | D13: 224 | E13: 244 | F13: 263 | G13: 507 | I13: 63 | J13: 太田 | K13: 519 | L13: 643 | M13: 660 | N13: 1303
A14: 計 | D14: 4786 | E14: 5067 | F14: 5125 | G14: 10192 | H14: 馬 | I14: 64 | J14: 岩垂 | K14: 234 | L14: 312 | M14: 296 | N14: 608
B15: 20 | C15: 東山 | D15: 106 | E15: 119 | F15: 114 | G15: 233 | I15: 65 | J15: 下小曽部 | K15: 277 | L15: 325 | M15: 352 | N15: 677
B16: 21 | C16: 柿沢 | D16: 160 | E16: 188 | F16: 196 | G16: 384 | I16: 66 | J16: 上小曽部 | K16: 132 | L16: 132 | M16: 143 | N16: 275
B17: 22 | C17: 金井 | D17: 81 | E17: 108 | F17: 93 | G17: 201 | H17: 計 | K17: 1821 | L17: 2240 | M17: 2271 | N17: 4511
A18: 塩 | B18: 23 | C18: 上西条 | D18: 215 | E18: 269 | F18: 284 | G18: 553 | I18: 70 | J18: 桔梗ケ原 | K18: 845 | L18: 862 | M18: 892 | N18: 1754
B19: 24 | C19: 中西条 | D19: 81 | E19: 102 | F19: 120 | G19: 222 | I19: 72 | J19: 平出 | K19: 311 | L19: 423 | M19: 389 | N19: 812
A20: 尻 | B20: 25 | C20: 下西条 | D20: 216 | E20: 256 | F20: 270 | G20: 526 | H20: 宗 | I20: 73 | J20: 床尾 | K20: 243 | L20: 262 | M20: 288 | N20: 550
B21: 26 | C21: 堀ノ内 | D21: 385 | E21: 447 | F21: 474 | G21: 921 | I21: 74 | J21: 洗馬 | K21: 266 | L21: 324 | M21: 365 | N21: 689
A22: 東 | B22: 27 | C22: 長畝 | D22: 161 | E22: 191 | F22: 211 | G22: 402 | I22: 75 | J22: 牧野 | K22: 343 | L22: 389 | M22: 414 | N22: 803
B23: 28 | C23: 桟敷 | D23: 223 | E23: 233 | F23: 240 | G23: 473 | H23: 賀 | I23: 76 | J23: 本山 | K23: 155 | L23: 175 | M23: 175 | N23: 350
B24: 29 | C24: 町区 | D24: 983 | E24: 1189 | F24: 1173 | G24: 2362 | I24: 77 | J24: 日出塩 | K24: 46 | L24: 54 | M24: 58 | N24: 112
B25: 30 | C25: 松原 | D25: 55 | E25: 29 | F25: 46 | G25: 75 | I25: 78 | J25: 小井戸 | K25: 58 | L25: 36 | M25: 52 | N25: 88
B26: 31 | C26: みどり湖 | D26: 142 | E26: 149 | F26: 149 | G26: 298 | H26: 計 | K26: 2267 | L26: 2525 | M26: 2633 | N26: 5158
B27: 32 | C27: 峰原 | D27: 234 | E27: 285 | F27: 297 | G27: 582 | I27: 80 | J27: 古町 | K27: 152 | L27: 174 | M27: 179 | N27: 353
A28: 計 | D28: 3042 | E28: 3565 | F28: 3667 | G28: 7232 | H28: 北 | I28: 81 | J28: 宮前 | K28: 85 | L28: 106 | M28: 95 | N28: 201
B29: 35 | C29: 高出一区 | D29: 425 | E29: 491 | F29: 463 | G29: 954 | H29: 小 | I29: 82 | J29: 大出 | K29: 213 | L29: 245 | M29: 265 | N29: 510
A30: 高 | B30: 36 | C30: 高出二区 | D30: 838 | E30: 907 | F30: 848 | G30: 1755 | H30: 野 | I30: 83 | J30: 上田 | K30: 107 | L30: 110 | M30: 117 | N30: 227
B31: 37 | C31: 高出三区 | D31: 892 | E31: 994 | F31: 1001 | G31: 1995 | I31: 84 | J31: 勝弦 | K31: 202 | L31: 207 | M31: 184 | N31: 391
A32: 出 | B32: 38 | C32: 高出四区 | D32: 825 | E32: 883 | F32: 903 | G32: 1786 | H32: 計 | K32: 759 | L32: 842 | M32: 840 | N32: 1682
B33: 39 | C33: 高出五区 | D33: 650 | E33: 690 | F33: 623 | G33: 1313 | H33: 楢 川 | I33: 90 | J33: 贄川 | K33: 238 | L33: 249 | M33: 256 | N33: 505
A34: 計 | D34: 3630 | E34: 3965 | F34: 3838 | G34: 7803 | I34: 91 | J34: 木曽平沢 | K34: 417 | L34: 408 | M34: 442 | N34: 850
B35: 40 | C35: 南内田 | D35: 485 | E35: 538 | F35: 547 | G35: 1085 | I35: 92 | J35: 奈良井 | K35: 268 | L35: 261 | M35: 277 | N35: 538
A36: 片 | B36: 41 | C36: 北熊井 | D36: 481 | E36: 632 | F36: 631 | G36: 1263 | H36: 計 | K36: 923 | L36: 918 | M36: 975 | N36: 1893
B37: 42 | C37: 南熊井 | D37: 217 | E37: 241 | F37: 245 | G37: 486
A38: 丘 | B38: 43 | C38: 中挾 | D38: 33 | E38: 43 | F38: 41 | G38: 84
B39: 44 | C39: 君石 | D39: 138 | E39: 89 | F39: 134 | G39: 223 | K39: 世帯数 | L39: 男 | M39: 女 | N39: 計 | O39: （住民基本台帳合計） | P39: 世帯数 | Q39: 男 | R39: 女 | S39: 計
B40: 45 | C40: 内田原 | D40: 153 | E40: 174 | F40: 199 | G40: 373 | H40: 住民基本台帳合計 | K40: =D14+D28+D34+D41+D46+K9+K17+K26+K32+K36 -> 29689 | L40: =E14+E28+E34+E41+E46+L9+L17+L26+L32+L36 -> 32375 | M40: =F14+F28+F34+F41+F46+M9+M17+M26+M32+M36 -> 32339 | N40: =L40+M40 -> 64714 | O40: 前年同月数値 | P40: ='R7.9'!K40 -> 29371 | Q40: ='R7.9'!L40 -> 32525 | R40: ='R7.9'!M40 -> 32437 | S40: ='R7.9'!N40 -> 64962
...

Sheet R8.8
A1: 区別住民基本台帳世帯人口一覧表
L2: 46235
A3: 地区 | B3: ＮＯ | C3: 区 | D3: 世帯数 | E3: 男 | F3: 女 | G3: 計 | H3: 地区 | I3: ＮＯ | J3: 区 | K3: 世帯数 | L3: 男 | M3: 女 | N3: 計
B4: 1 | C4: 大門一番町 | D4: 130 | E4: 114 | F4: 115 | G4: 229 | I4: 55 | J4: 吉田一区 | K4: 604 | L4: 633 | M4: 610 | N4: 1243
B5: 2 | C5: 大門二番町 | D5: 334 | E5: 363 | F5: 385 | G5: 748 | H5: 吉 | I5: 56 | J5: 吉田二区 | K5: 581 | L5: 560 | M5: 595 | N5: 1155
A6: 大 | B6: 3 | C6: 大門三番町 | D6: 363 | E6: 386 | F6: 390 | G6: 776 | I6: 57 | J6: 吉田三区 | K6: 1053 | L6: 1101 | M6: 1092 | N6: 2193
B7: 4 | C7: 大門四番町 | D7: 214 | E7: 220 | F7: 259 | G7: 479 | H7: 田 | I7: 58 | J7: 吉田四区 | K7: 946 | L7: 1023 | M7: 946 | N7: 1969
B8: 5 | C8: 大門五番町 | D8: 614 | E8: 681 | F8: 643 | G8: 1324 | I8: 59 | J8: 吉田五区 | K8: 1237 | L8: 1349 | M8: 1379 | N8: 2728
B9: 6 | C9: 大門六番町 | D9: 400 | E9: 406 | F9: 433 | G9: 839 | H9: 計 | K9: 4421 | L9: 4666 | M9: 4622 | N9: 9288
A10: 門 | B10: 7 | C10: 大門七番町 | D10: 275 | E10: 255 | F10: 263 | G10: 518 | I10: 60 | J10: 上組 | K10: 184 | L10: 254 | M10: 239 | N10: 493
B11: 8 | C11: 大門八番町 | D11: 209 | E11: 172 | F11: 198 | G11: 370 | H11: 洗 | I11: 61 | J11: 元町 | K11: 154 | L11: 180 | M11: 185 | N11: 365
B12: 9 | C12: 大門七区 | D12: 2027 | E12: 2227 | F12: 2182 | G12: 4409 | I12: 62 | J12: 芦ノ田 | K12: 322 | L12: 393 | M12: 400 | N12: 793
B13: 13 | C13: 大門田川町 | D13: 224 | E13: 244 | F13: 264 | G13: 508 | I13: 63 | J13: 太田 | K13: 518 | L13: 641 | M13: 655 | N13: 1296
A14: 計 | D14: 4790 | E14: 5068 | F14: 5132 | G14: 10200 | H14: 馬 | I14: 64 | J14: 岩垂 | K14: 234 | L14: 313 | M14: 295 | N14: 608
B15: 20 | C15: 東山 | D15: 104 | E15: 118 | F15: 113 | G15: 231 | I15: 65 | J15: 下小曽部 | K15: 277 | L15: 328 | M15: 351 | N15: 679
B16: 21 | C16: 柿沢 | D16: 160 | E16: 187 | F16: 195 | G16: 382 | I16: 66 | J16: 上小曽部 | K16: 134 | L16: 135 | M16: 143 | N16: 278
B17: 22 | C17: 金井 | D17: 81 | E17: 109 | F17: 93 | G17: 202 | H17: 計 | K17: 1823 | L17: 2244 | M17: 2268 | N17: 4512
A18: 塩 | B18: 23 | C18: 上西条 | D18: 215 | E18: 271 | F18: 284 | G18: 555 | I18: 70 | J18: 桔梗ケ原 | K18: 843 | L18: 863 | M18: 888 | N18: 1751
B19: 24 | C19: 中西条 | D19: 80 | E19: 102 | F19: 117 | G19: 219 | I19: 72 | J19: 平出 | K19: 311 | L19: 423 | M19: 391 | N19: 814
A20: 尻 | B20: 25 | C20: 下西条 | D20: 215 | E20: 256 | F20: 268 | G20: 524 | H20: 宗 | I20: 73 | J20: 床尾 | K20: 241 | L20: 260 | M20: 287 | N20: 547
B21: 26 | C21: 堀ノ内 | D21: 383 | E21: 446 | F21: 469 | G21: 915 | I21: 74 | J21: 洗馬 | K21: 268 | L21: 324 | M21: 367 | N21: 691
A22: 東 | B22: 27 | C22: 長畝 | D22: 160 | E22: 191 | F22: 211 | G22: 402 | I22: 75 | J22: 牧野 | K22: 343 | L22: 391 | M22: 413 | N22: 804
B23: 28 | C23: 桟敷 | D23: 222 | E23: 232 | F23: 240 | G23: 472 | H23: 賀 | I23: 76 | J23: 本山 | K23: 155 | L23: 175 | M23: 177 | N23: 352
B24: 29 | C24: 町区 | D24: 987 | E24: 1195 | F24: 1174 | G24: 2369 | I24: 77 | J24: 日出塩 | K24: 46 | L24: 55 | M24: 58 | N24: 113
B25: 30 | C25: 松原 | D25: 56 | E25: 29 | F25: 47 | G25: 76 | I25: 78 | J25: 小井戸 | K25: 59 | L25: 37 | M25: 53 | N25: 90
B26: 31 | C26: みどり湖 | D26: 142 | E26: 148 | F26: 149 | G26: 297 | H26: 計 | K26: 2266 | L26: 2528 | M26: 2634 | N26: 5162
B27: 32 | C27: 峰原 | D27: 233 | E27: 284 | F27: 296 | G27: 580 | I27: 80 | J27: 古町 | K27: 153 | L27: 175 | M27: 179 | N27: 354
A28: 計 | D28: 3038 | E28: 3568 | F28: 3656 | G28: 7224 | H28: 北 | I28: 81 | J28: 宮前 | K28: 85 | L28: 106 | M28: 96 | N28: 202
B29: 35 | C29: 高出一区 | D29: 422 | E29: 490 | F29: 461 | G29: 951 | H29: 小 | I29: 82 | J29: 大出 | K29: 214 | L29: 244 | M29: 267 | N29: 511
A30: 高 | B30: 36 | C30: 高出二区 | D30: 831 | E30: 902 | F30: 845 | G30: 1747 | H30: 野 | I30: 83 | J30: 上田 | K30: 107 | L30: 112 | M30: 118 | N30: 230
B31: 37 | C31: 高出三区 | D31: 893 | E31: 991 | F31: 997 | G31: 1988 | I31: 84 | J31: 勝弦 | K31: 202 | L31: 207 | M31: 185 | N31: 392
A32: 出 | B32: 38 | C32: 高出四区 | D32: 830 | E32: 884 | F32: 905 | G32: 1789 | H32: 計 | K32: 761 | L32: 844 | M32: 845 | N32: 1689
B33: 39 | C33: 高出五区 | D33: 649 | E33: 694 | F33: 618 | G33: 1312 | H33: 楢 川 | I33: 90 | J33: 贄川 | K33: 238 | L33: 250 | M33: 255 | N33: 505
A34: 計 | D34: 3625 | E34: 3961 | F34: 3826 | G34: 7787 | I34: 91 | J34: 木曽平沢 | K34: 420 | L34: 407 | M34: 447 | N34: 854
B35: 40 | C35: 南内田 | D35: 489 | E35: 542 | F35: 549 | G35: 1091 | I35: 92 | J35: 奈良井 | K35: 262 | L35: 260 | M35: 275 | N35: 535
A36: 片 | B36: 41 | C36: 北熊井 | D36: 481 | E36: 634 | F36: 633 | G36: 1267 | H36: 計 | K36: 920 | L36: 917 | M36: 977 | N36: 1894
B37: 42 | C37: 南熊井 | D37: 217 | E37: 242 | F37: 245 | G37: 487
A38: 丘 | B38: 43 | C38: 中挾 | D38: 34 | E38: 43 | F38: 44 | G38: 87
B39: 44 | C39: 君石 | D39: 140 | E39: 91 | F39: 137 | G39: 228 | K39: 世帯数 | L39: 男 | M39: 女 | N39: 計 | O39: （住民基本台帳合計） | P39: 世帯数 | Q39: 男 | R39: 女 | S39: 計
B40: 45 | C40: 内田原 | D40: 154 | E40: 175 | F40: 200 | G40: 375 | H40: 住民基本台帳合計 | K40: =D14+D28+D34+D41+D46+K9+K17+K26+K32+K36 -> 29705 | L40: =E14+E28+E34+E41+E46+L9+L17+L26+L32+L36 -> 32402 | M40: =F14+F28+F34+F41+F46+M9+M17+M26+M32+M36 -> 32348 | N40: =L40+M40 -> 64750 | O40: 前年同月数値 | P40: ='R7.8'!K40 -> 29328 | Q40: ='R7.8'!L40 -> 32526 | R40: ='R7.8'!M40 -> 32428 | S40: ='R7.8'!N40 -> 64954
...

Sheet R8.7
A1: 区別住民基本台帳世帯人口一覧表
L2: 46204
A3: 地区 | B3: ＮＯ | C3: 区 | D3: 世帯数 | E3: 男 | F3: 女 | G3: 計 | H3: 地区 | I3: ＮＯ | J3: 区 | K3: 世帯数 | L3: 男 | M3: 女 | N3: 計
B4: 1 | C4: 大門一番町 | D4: 127 | E4: 111 | F4: 115 | G4: 226 | I4: 55 | J4: 吉田一区 | K4: 601 | L4: 625 | M4: 609 | N4: 1234
B5: 2 | C5: 大門二番町 | D5: 336 | E5: 364 | F5: 382 | G5: 746 | H5: 吉 | I5: 56 | J5: 吉田二区 | K5: 584 | L5: 565 | M5: 598 | N5: 1163
A6: 大 | B6: 3 | C6: 大門三番町 | D6: 357 | E6: 384 | F6: 392 | G6: 776 | I6: 57 | J6: 吉田三区 | K6: 1054 | L6: 1095 | M6: 1094 | N6: 2189
B7: 4 | C7: 大門四番町 | D7: 212 | E7: 219 | F7: 256 | G7: 475 | H7: 田 | I7: 58 | J7: 吉田四区 | K7: 951 | L7: 1028 | M7: 948 | N7: 1976
B8: 5 | C8: 大門五番町 | D8: 611 | E8: 678 | F8: 645 | G8: 1323 | I8: 59 | J8: 吉田五区 | K8: 1238 | L8: 1344 | M8: 1380 | N8: 2724
B9: 6 | C9: 大門六番町 | D9: 403 | E9: 407 | F9: 437 | G9: 844 | H9: 計 | K9: 4428 | L9: 4657 | M9: 4629 | N9: 9286
A10: 門 | B10: 7 | C10: 大門七番町 | D10: 277 | E10: 257 | F10: 264 | G10: 521 | I10: 60 | J10: 上組 | K10: 183 | L10: 250 | M10: 237 | N10: 487
B11: 8 | C11: 大門八番町 | D11: 210 | E11: 171 | F11: 199 | G11: 370 | H11: 洗 | I11: 61 | J11: 元町 | K11: 152 | L11: 178 | M11: 183 | N11: 361
B12: 9 | C12: 大門七区 | D12: 2025 | E12: 2230 | F12: 2183 | G12: 4413 | I12: 62 | J12: 芦ノ田 | K12: 320 | L12: 392 | M12: 400 | N12: 792
B13: 13 | C13: 大門田川町 | D13: 223 | E13: 243 | F13: 262 | G13: 505 | I13: 63 | J13: 太田 | K13: 517 | L13: 641 | M13: 655 | N13: 1296
A14: 計 | D14: 4781 | E14: 5064 | F14: 5135 | G14: 10199 | H14: 馬 | I14: 64 | J14: 岩垂 | K14: 234 | L14: 312 | M14: 295 | N14: 607
B15: 20 | C15: 東山 | D15: 103 | E15: 117 | F15: 113 | G15: 230 | I15: 65 | J15: 下小曽部 | K15: 275 | L15: 327 | M15: 351 | N15: 678
B16: 21 | C16: 柿沢 | D16: 160 | E16: 187 | F16: 196 | G16: 383 | I16: 66 | J16: 上小曽部 | K16: 135 | L16: 136 | M16: 142 | N16: 278
B17: 22 | C17: 金井 | D17: 81 | E17: 109 | F17: 93 | G17: 202 | H17: 計 | K17: 1816 | L17: 2236 | M17: 2263 | N17: 4499
A18: 塩 | B18: 23 | C18: 上西条 | D18: 216 | E18: 272 | F18: 285 | G18: 557 | I18: 70 | J18: 桔梗ケ原 | K18: 847 | L18: 868 | M18: 889 | N18: 1757
B19: 24 | C19: 中西条 | D19: 81 | E19: 103 | F19: 117 | G19: 220 | I19: 72 | J19: 平出 | K19: 311 | L19: 424 | M19: 390 | N19: 814
A20: 尻 | B20: 25 | C20: 下西条 | D20: 213 | E20: 254 | F20: 269 | G20: 523 | H20: 宗 | I20: 73 | J20: 床尾 | K20: 241 | L20: 260 | M20: 287 | N20: 547
B21: 26 | C21: 堀ノ内 | D21: 384 | E21: 448 | F21: 470 | G21: 918 | I21: 74 | J21: 洗馬 | K21: 269 | L21: 327 | M21: 367 | N21: 694
A22: 東 | B22: 27 | C22: 長畝 | D22: 161 | E22: 192 | F22: 211 | G22: 403 | I22: 75 | J22: 牧野 | K22: 343 | L22: 391 | M22: 413 | N22: 804
B23: 28 | C23: 桟敷 | D23: 222 | E23: 233 | F23: 241 | G23: 474 | H23: 賀 | I23: 76 | J23: 本山 | K23: 157 | L23: 177 | M23: 181 | N23: 358
B24: 29 | C24: 町区 | D24: 984 | E24: 1192 | F24: 1176 | G24: 2368 | I24: 77 | J24: 日出塩 | K24: 46 | L24: 55 | M24: 58 | N24: 113
B25: 30 | C25: 松原 | D25: 56 | E25: 29 | F25: 47 | G25: 76 | I25: 78 | J25: 小井戸 | K25: 59 | L25: 37 | M25: 53 | N25: 90
B26: 31 | C26: みどり湖 | D26: 141 | E26: 148 | F26: 149 | G26: 297 | H26: 計 | K26: 2273 | L26: 2539 | M26: 2638 | N26: 5177
B27: 32 | C27: 峰原 | D27: 232 | E27: 284 | F27: 294 | G27: 578 | I27: 80 | J27: 古町 | K27: 152 | L27: 174 | M27: 179 | N27: 353
A28: 計 | D28: 3034 | E28: 3568 | F28: 3661 | G28: 7229 | H28: 北 | I28: 81 | J28: 宮前 | K28: 85 | L28: 106 | M28: 96 | N28: 202
B29: 35 | C29: 高出一区 | D29: 422 | E29: 491 | F29: 461 | G29: 952 | H29: 小 | I29: 82 | J29: 大出 | K29: 213 | L29: 244 | M29: 266 | N29: 510
A30: 高 | B30: 36 | C30: 高出二区 | D30: 834 | E30: 907 | F30: 846 | G30: 1753 | H30: 野 | I30: 83 | J30: 上田 | K30: 108 | L30: 114 | M30: 118 | N30: 232
B31: 37 | C31: 高出三区 | D31: 892 | E31: 991 | F31: 994 | G31: 1985 | I31: 84 | J31: 勝弦 | K31: 202 | L31: 208 | M31: 185 | N31: 393
A32: 出 | B32: 38 | C32: 高出四区 | D32: 831 | E32: 887 | F32: 907 | G32: 1794 | H32: 計 | K32: 760 | L32: 846 | M32: 844 | N32: 1690
B33: 39 | C33: 高出五区 | D33: 643 | E33: 687 | F33: 614 | G33: 1301 | H33: 楢 川 | I33: 90 | J33: 贄川 | K33: 238 | L33: 251 | M33: 254 | N33: 505
A34: 計 | D34: 3622 | E34: 3963 | F34: 3822 | G34: 7785 | I34: 91 | J34: 木曽平沢 | K34: 417 | L34: 408 | M34: 449 | N34: 857
B35: 40 | C35: 南内田 | D35: 489 | E35: 544 | F35: 549 | G35: 1093 | I35: 92 | J35: 奈良井 | K35: 262 | L35: 258 | M35: 279 | N35: 537
A36: 片 | B36: 41 | C36: 北熊井 | D36: 480 | E36: 634 | F36: 633 | G36: 1267 | H36: 計 | K36: 917 | L36: 917 | M36: 982 | N36: 1899
B37: 42 | C37: 南熊井 | D37: 217 | E37: 242 | F37: 244 | G37: 486
A38: 丘 | B38: 43 | C38: 中挾 | D38: 35 | E38: 43 | F38: 45 | G38: 88
B39: 44 | C39: 君石 | D39: 139 | E39: 91 | F39: 136 | G39: 227 | K39: 世帯数 | L39: 男 | M39: 女 | N39: 計 | O39: （住民基本台帳合計） | P39: 世帯数 | Q39: 男 | R39: 女 | S39: 計
B40: 45 | C40: 内田原 | D40: 153 | E40: 176 | F40: 202 | G40: 378 | H40: 住民基本台帳合計 | K40: =D14+D28+D34+D41+D46+K9+K17+K26+K32+K36 -> 29694 | L40: =E14+E28+E34+E41+E46+L9+L17+L26+L32+L36 -> 32399 | M40: =F14+F28+F34+F41+F46+M9+M17+M26+M32+M36 -> 32357 | N40: =L40+M40 -> 64756 | O40: 前年同月数値 | P40: ='R7.7'!K40 -> 29314 | Q40: ='R7.7'!L40 -> 32551 | R40: ='R7.7'!M40 -> 32407 | S40: ='R7.7'!N40 -> 64958
...

Sheet R8.6
A1: 区別住民基本台帳世帯人口一覧表
L2: 46174
A3: 地区 | B3: ＮＯ | C3: 区 | D3: 世帯数 | E3: 男 | F3: 女 | G3: 計 | H3: 地区 | I3: ＮＯ | J3: 区 | K3: 世帯数 | L3: 男 | M3: 女 | N3: 計
B4: 1 | C4: 大門一番町 | D4: 128 | E4: 113 | F4: 114 | G4: 227 | I4: 55 | J4: 吉田一区 | K4: 600 | L4: 626 | M4: 606 | N4: 1232
B5: 2 | C5: 大門二番町 | D5: 342 | E5: 367 | F5: 384 | G5: 751 | H5: 吉 | I5: 56 | J5: 吉田二区 | K5: 581 | L5: 563 | M5: 600 | N5: 1163
A6: 大 | B6: 3 | C6: 大門三番町 | D6: 356 | E6: 382 | F6: 391 | G6: 773 | I6: 57 | J6: 吉田三区 | K6: 1054 | L6: 1095 | M6: 1094 | N6: 2189
B7: 4 | C7: 大門四番町 | D7: 213 | E7: 220 | F7: 256 | G7: 476 | H7: 田 | I7: 58 | J7: 吉田四区 | K7: 945 | L7: 1023 | M7: 948 | N7: 1971
B8: 5 | C8: 大門五番町 | D8: 611 | E8: 680 | F8: 641 | G8: 1321 | I8: 59 | J8: 吉田五区 | K8: 1233 | L8: 1343 | M8: 1376 | N8: 2719
B9: 6 | C9: 大門六番町 | D9: 400 | E9: 406 | F9: 436 | G9: 842 | H9: 計 | K9: 4413 | L9: 4650 | M9: 4624 | N9: 9274
A10: 門 | B10: 7 | C10: 大門七番町 | D10: 277 | E10: 256 | F10: 263 | G10: 519 | I10: 60 | J10: 上組 | K10: 182 | L10: 250 | M10: 236 | N10: 486
B11: 8 | C11: 大門八番町 | D11: 211 | E11: 170 | F11: 198 | G11: 368 | H11: 洗 | I11: 61 | J11: 元町 | K11: 151 | L11: 178 | M11: 182 | N11: 360
B12: 9 | C12: 大門七区 | D12: 2020 | E12: 2222 | F12: 2169 | G12: 4391 | I12: 62 | J12: 芦ノ田 | K12: 321 | L12: 394 | M12: 400 | N12: 794
B13: 13 | C13: 大門田川町 | D13: 222 | E13: 244 | F13: 262 | G13: 506 | I13: 63 | J13: 太田 | K13: 518 | L13: 643 | M13: 655 | N13: 1298
A14: 計 | D14: 4780 | E14: 5060 | F14: 5114 | G14: 10174 | H14: 馬 | I14: 64 | J14: 岩垂 | K14: 235 | L14: 313 | M14: 297 | N14: 610
B15: 20 | C15: 東山 | D15: 102 | E15: 116 | F15: 114 | G15: 230 | I15: 65 | J15: 下小曽部 | K15: 274 | L15: 329 | M15: 351 | N15: 680
B16: 21 | C16: 柿沢 | D16: 160 | E16: 186 | F16: 197 | G16: 383 | I16: 66 | J16: 上小曽部 | K16: 135 | L16: 136 | M16: 142 | N16: 278
B17: 22 | C17: 金井 | D17: 81 | E17: 109 | F17: 93 | G17: 202 | H17: 計 | K17: 1816 | L17: 2243 | M17: 2263 | N17: 4506
A18: 塩 | B18: 23 | C18: 上西条 | D18: 216 | E18: 272 | F18: 285 | G18: 557 | I18: 70 | J18: 桔梗ケ原 | K18: 850 | L18: 870 | M18: 888 | N18: 1758
B19: 24 | C19: 中西条 | D19: 81 | E19: 103 | F19: 118 | G19: 221 | I19: 72 | J19: 平出 | K19: 314 | L19: 427 | M19: 393 | N19: 820
A20: 尻 | B20: 25 | C20: 下西条 | D20: 210 | E20: 253 | F20: 266 | G20: 519 | H20: 宗 | I20: 73 | J20: 床尾 | K20: 241 | L20: 260 | M20: 287 | N20: 547
B21: 26 | C21: 堀ノ内 | D21: 383 | E21: 445 | F21: 469 | G21: 914 | I21: 74 | J21: 洗馬 | K21: 268 | L21: 328 | M21: 367 | N21: 695
A22: 東 | B22: 27 | C22: 長畝 | D22: 161 | E22: 192 | F22: 211 | G22: 403 | I22: 75 | J22: 牧野 | K22: 343 | L22: 391 | M22: 414 | N22: 805
B23: 28 | C23: 桟敷 | D23: 224 | E23: 234 | F23: 243 | G23: 477 | H23: 賀 | I23: 76 | J23: 本山 | K23: 156 | L23: 178 | M23: 178 | N23: 356
B24: 29 | C24: 町区 | D24: 974 | E24: 1189 | F24: 1174 | G24: 2363 | I24: 77 | J24: 日出塩 | K24: 45 | L24: 55 | M24: 57 | N24: 112
B25: 30 | C25: 松原 | D25: 57 | E25: 29 | F25: 48 | G25: 77 | I25: 78 | J25: 小井戸 | K25: 59 | L25: 37 | M25: 53 | N25: 90
B26: 31 | C26: みどり湖 | D26: 140 | E26: 148 | F26: 149 | G26: 297 | H26: 計 | K26: 2276 | L26: 2546 | M26: 2637 | N26: 5183
B27: 32 | C27: 峰原 | D27: 233 | E27: 286 | F27: 295 | G27: 581 | I27: 80 | J27: 古町 | K27: 151 | L27: 173 | M27: 179 | N27: 352
A28: 計 | D28: 3022 | E28: 3562 | F28: 3662 | G28: 7224 | H28: 北 | I28: 81 | J28: 宮前 | K28: 88 | L28: 109 | M28: 97 | N28: 206
B29: 35 | C29: 高出一区 | D29: 425 | E29: 494 | F29: 461 | G29: 955 | H29: 小 | I29: 82 | J29: 大出 | K29: 215 | L29: 244 | M29: 267 | N29: 511
A30: 高 | B30: 36 | C30: 高出二区 | D30: 828 | E30: 896 | F30: 846 | G30: 1742 | H30: 野 | I30: 83 | J30: 上田 | K30: 109 | L30: 115 | M30: 119 | N30: 234
B31: 37 | C31: 高出三区 | D31: 896 | E31: 996 | F31: 993 | G31: 1989 | I31: 84 | J31: 勝弦 | K31: 203 | L31: 209 | M31: 185 | N31: 394
A32: 出 | B32: 38 | C32: 高出四区 | D32: 829 | E32: 889 | F32: 905 | G32: 1794 | H32: 計 | K32: 766 | L32: 850 | M32: 847 | N32: 1697
B33: 39 | C33: 高出五区 | D33: 642 | E33: 687 | F33: 614 | G33: 1301 | H33: 楢 川 | I33: 90 | J33: 贄川 | K33: 239 | L33: 253 | M33: 257 | N33: 510
A34: 計 | D34: 3620 | E34: 3962 | F34: 3819 | G34: 7781 | I34: 91 | J34: 木曽平沢 | K34: 417 | L34: 410 | M34: 449 | N34: 859
B35: 40 | C35: 南内田 | D35: 489 | E35: 546 | F35: 549 | G35: 1095 | I35: 92 | J35: 奈良井 | K35: 265 | L35: 262 | M35: 280 | N35: 542
A36: 片 | B36: 41 | C36: 北熊井 | D36: 481 | E36: 638 | F36: 634 | G36: 1272 | H36: 計 | K36: 921 | L36: 925 | M36: 986 | N36: 1911
B37: 42 | C37: 南熊井 | D37: 217 | E37: 242 | F37: 245 | G37: 487
A38: 丘 | B38: 43 | C38: 中挾 | D38: 35 | E38: 43 | F38: 45 | G38: 88
B39: 44 | C39: 君石 | D39: 140 | E39: 91 | F39: 138 | G39: 229 | K39: 世帯数 | L39: 男 | M39: 女 | N39: 計 | O39: （住民基本台帳合計） | P39: 世帯数 | Q39: 男 | R39: 女 | S39: 計
B40: 45 | C40: 内田原 | D40: 152 | E40: 175 | F40: 202 | G40: 377 | H40: 住民基本台帳合計 | K40: =D14+D28+D34+D41+D46+K9+K17+K26+K32+K36 -> 29667 | L40: =E14+E28+E34+E41+E46+L9+L17+L26+L32+L36 -> 32403 | M40: =F14+F28+F34+F41+F46+M9+M17+M26+M32+M36 -> 32342 | N40: =L40+M40 -> 64745 | O40: 前年同月数値 | P40: ='R7.6'!K40 -> 29274 | Q40: ='R7.6'!L40 -> 32559 | R40: ='R7.6'!M40 -> 32407 | S40: ='R7.6'!N40 -> 64966
...

Sheet R8.5
A1: 区別住民基本台帳世帯人口一覧表
L2: 46143
A3: 地区 | B3: ＮＯ | C3: 区 | D3: 世帯数 | E3: 男 | F3: 女 | G3: 計 | H3: 地区 | I3: ＮＯ | J3: 区 | K3: 世帯数 | L3: 男 | M3: 女 | N3: 計
B4: 1 | C4: 大門一番町 | D4: 127 | E4: 112 | F4: 115 | G4: 227 | I4: 55 | J4: 吉田一区 | K4: 603 | L4: 627 | M4: 613 | N4: 1240
B5: 2 | C5: 大門二番町 | D5: 334 | E5: 365 | F5: 382 | G5: 747 | H5: 吉 | I5: 56 | J5: 吉田二区 | K5: 578 | L5: 558 | M5: 602 | N5: 1160
A6: 大 | B6: 3 | C6: 大門三番町 | D6: 359 | E6: 388 | F6: 395 | G6: 783 | I6: 57 | J6: 吉田三区 | K6: 1053 | L6: 1093 | M6: 1087 | N6: 2180
B7: 4 | C7: 大門四番町 | D7: 212 | E7: 220 | F7: 256 | G7: 476 | H7: 田 | I7: 58 | J7: 吉田四区 | K7: 945 | L7: 1022 | M7: 947 | N7: 1969
B8: 5 | C8: 大門五番町 | D8: 607 | E8: 675 | F8: 638 | G8: 1313 | I8: 59 | J8: 吉田五区 | K8: 1228 | L8: 1340 | M8: 1372 | N8: 2712
B9: 6 | C9: 大門六番町 | D9: 401 | E9: 403 | F9: 435 | G9: 838 | H9: 計 | K9: 4407 | L9: 4640 | M9: 4621 | N9: 9261
A10: 門 | B10: 7 | C10: 大門七番町 | D10: 281 | E10: 260 | F10: 263 | G10: 523 | I10: 60 | J10: 上組 | K10: 182 | L10: 250 | M10: 236 | N10: 486
B11: 8 | C11: 大門八番町 | D11: 214 | E11: 171 | F11: 200 | G11: 371 | H11: 洗 | I11: 61 | J11: 元町 | K11: 152 | L11: 179 | M11: 182 | N11: 361
B12: 9 | C12: 大門七区 | D12: 2016 | E12: 2229 | F12: 2175 | G12: 4404 | I12: 62 | J12: 芦ノ田 | K12: 318 | L12: 390 | M12: 399 | N12: 789
B13: 13 | C13: 大門田川町 | D13: 222 | E13: 245 | F13: 260 | G13: 505 | I13: 63 | J13: 太田 | K13: 518 | L13: 643 | M13: 655 | N13: 1298
A14: 計 | D14: 4773 | E14: 5068 | F14: 5119 | G14: 10187 | H14: 馬 | I14: 64 | J14: 岩垂 | K14: 235 | L14: 314 | M14: 296 | N14: 610
B15: 20 | C15: 東山 | D15: 102 | E15: 116 | F15: 114 | G15: 230 | I15: 65 | J15: 下小曽部 | K15: 272 | L15: 329 | M15: 351 | N15: 680
B16: 21 | C16: 柿沢 | D16: 162 | E16: 189 | F16: 199 | G16: 388 | I16: 66 | J16: 上小曽部 | K16: 134 | L16: 135 | M16: 142 | N16: 277
B17: 22 | C17: 金井 | D17: 81 | E17: 109 | F17: 94 | G17: 203 | H17: 計 | K17: 1811 | L17: 2240 | M17: 2261 | N17: 4501
A18: 塩 | B18: 23 | C18: 上西条 | D18: 216 | E18: 273 | F18: 286 | G18: 559 | I18: 70 | J18: 桔梗ケ原 | K18: 850 | L18: 871 | M18: 884 | N18: 1755
B19: 24 | C19: 中西条 | D19: 81 | E19: 104 | F19: 118 | G19: 222 | I19: 72 | J19: 平出 | K19: 313 | L19: 426 | M19: 393 | N19: 819
A20: 尻 | B20: 25 | C20: 下西条 | D20: 211 | E20: 253 | F20: 267 | G20: 520 | H20: 宗 | I20: 73 | J20: 床尾 | K20: 240 | L20: 261 | M20: 285 | N20: 546
B21: 26 | C21: 堀ノ内 | D21: 383 | E21: 444 | F21: 470 | G21: 914 | I21: 74 | J21: 洗馬 | K21: 269 | L21: 332 | M21: 371 | N21: 703
A22: 東 | B22: 27 | C22: 長畝 | D22: 161 | E22: 193 | F22: 212 | G22: 405 | I22: 75 | J22: 牧野 | K22: 342 | L22: 391 | M22: 414 | N22: 805
B23: 28 | C23: 桟敷 | D23: 224 | E23: 234 | F23: 244 | G23: 478 | H23: 賀 | I23: 76 | J23: 本山 | K23: 156 | L23: 178 | M23: 178 | N23: 356
B24: 29 | C24: 町区 | D24: 973 | E24: 1188 | F24: 1172 | G24: 2360 | I24: 77 | J24: 日出塩 | K24: 45 | L24: 55 | M24: 56 | N24: 111
B25: 30 | C25: 松原 | D25: 57 | E25: 29 | F25: 48 | G25: 77 | I25: 78 | J25: 小井戸 | K25: 60 | L25: 37 | M25: 54 | N25: 91
B26: 31 | C26: みどり湖 | D26: 140 | E26: 149 | F26: 150 | G26: 299 | H26: 計 | K26: 2275 | L26: 2551 | M26: 2635 | N26: 5186
B27: 32 | C27: 峰原 | D27: 233 | E27: 286 | F27: 295 | G27: 581 | I27: 80 | J27: 古町 | K27: 150 | L27: 173 | M27: 178 | N27: 351
A28: 計 | D28: 3024 | E28: 3567 | F28: 3669 | G28: 7236 | H28: 北 | I28: 81 | J28: 宮前 | K28: 88 | L28: 108 | M28: 96 | N28: 204
B29: 35 | C29: 高出一区 | D29: 422 | E29: 490 | F29: 459 | G29: 949 | H29: 小 | I29: 82 | J29: 大出 | K29: 216 | L29: 246 | M29: 268 | N29: 514
A30: 高 | B30: 36 | C30: 高出二区 | D30: 821 | E30: 894 | F30: 840 | G30: 1734 | H30: 野 | I30: 83 | J30: 上田 | K30: 110 | L30: 115 | M30: 120 | N30: 235
B31: 37 | C31: 高出三区 | D31: 892 | E31: 994 | F31: 995 | G31: 1989 | I31: 84 | J31: 勝弦 | K31: 204 | L31: 210 | M31: 189 | N31: 399
A32: 出 | B32: 38 | C32: 高出四区 | D32: 828 | E32: 889 | F32: 906 | G32: 1795 | H32: 計 | K32: 768 | L32: 852 | M32: 851 | N32: 1703
B33: 39 | C33: 高出五区 | D33: 636 | E33: 684 | F33: 605 | G33: 1289 | H33: 楢 川 | I33: 90 | J33: 贄川 | K33: 240 | L33: 252 | M33: 258 | N33: 510
A34: 計 | D34: 3599 | E34: 3951 | F34: 3805 | G34: 7756 | I34: 91 | J34: 木曽平沢 | K34: 419 | L34: 410 | M34: 450 | N34: 860
B35: 40 | C35: 南内田 | D35: 489 | E35: 546 | F35: 549 | G35: 1095 | I35: 92 | J35: 奈良井 | K35: 264 | L35: 262 | M35: 280 | N35: 542
A36: 片 | B36: 41 | C36: 北熊井 | D36: 481 | E36: 636 | F36: 634 | G36: 1270 | H36: 計 | K36: 923 | L36: 924 | M36: 988 | N36: 1912
B37: 42 | C37: 南熊井 | D37: 216 | E37: 242 | F37: 246 | G37: 488
A38: 丘 | B38: 43 | C38: 中挾 | D38: 36 | E38: 44 | F38: 45 | G38: 89
B39: 44 | C39: 君石 | D39: 140 | E39: 91 | F39: 138 | G39: 229 | K39: 世帯数 | L39: 男 | M39: 女 | N39: 計 | O39: （住民基本台帳合計） | P39: 世帯数 | Q39: 男 | R39: 女 | S39: 計
B40: 45 | C40: 内田原 | D40: 152 | E40: 175 | F40: 202 | G40: 377 | H40: 住民基本台帳合計 | K40: =D14+D28+D34+D41+D46+K9+K17+K26+K32+K36 -> 29648 | L40: =E14+E28+E34+E41+E46+L9+L17+L26+L32+L36 -> 32409 | M40: =F14+F28+F34+F41+F46+M9+M17+M26+M32+M36 -> 32348 | N40: =L40+M40 -> 64757 | O40: 前年同月数値 | P40: ='R7.5'!K40 -> 29292 | Q40: ='R7.5'!L40 -> 32610 | R40: ='R7.5'!M40 -> 32425 | S40: ='R7.5'!N40 -> 65035
...

Sheet R8.4
A1: 区別住民基本台帳世帯人口一覧表
L2: 46113
A3: 地区 | B3: ＮＯ | C3: 区 | D3: 世帯数 | E3: 男 | F3: 女 | G3: 計 | H3: 地区 | I3: ＮＯ | J3: 区 | K3: 世帯数 | L3: 男 | M3: 女 | N3: 計
B4: 1 | C4: 大門一番町 | D4: 129 | E4: 113 | F4: 116 | G4: 229 | I4: 55 | J4: 吉田一区 | K4: 606 | L4: 629 | M4: 615 | N4: 1244
B5: 2 | C5: 大門二番町 | D5: 335 | E5: 367 | F5: 383 | G5: 750 | H5: 吉 | I5: 56 | J5: 吉田二区 | K5: 580 | L5: 565 | M5: 598 | N5: 1163
A6: 大 | B6: 3 | C6: 大門三番町 | D6: 364 | E6: 398 | F6: 398 | G6: 796 | I6: 57 | J6: 吉田三区 | K6: 1047 | L6: 1093 | M6: 1078 | N6: 2171
B7: 4 | C7: 大門四番町 | D7: 205 | E7: 212 | F7: 256 | G7: 468 | H7: 田 | I7: 58 | J7: 吉田四区 | K7: 943 | L7: 1028 | M7: 943 | N7: 1971
B8: 5 | C8: 大門五番町 | D8: 600 | E8: 671 | F8: 636 | G8: 1307 | I8: 59 | J8: 吉田五区 | K8: 1226 | L8: 1341 | M8: 1380 | N8: 2721
B9: 6 | C9: 大門六番町 | D9: 399 | E9: 403 | F9: 436 | G9: 839 | H9: 計 | K9: 4402 | L9: 4656 | M9: 4614 | N9: 9270
A10: 門 | B10: 7 | C10: 大門七番町 | D10: 285 | E10: 262 | F10: 268 | G10: 530 | I10: 60 | J10: 上組 | K10: 182 | L10: 251 | M10: 237 | N10: 488
B11: 8 | C11: 大門八番町 | D11: 215 | E11: 175 | F11: 199 | G11: 374 | H11: 洗 | I11: 61 | J11: 元町 | K11: 153 | L11: 180 | M11: 182 | N11: 362
B12: 9 | C12: 大門七区 | D12: 2000 | E12: 2218 | F12: 2158 | G12: 4376 | I12: 62 | J12: 芦ノ田 | K12: 315 | L12: 390 | M12: 395 | N12: 785
B13: 13 | C13: 大門田川町 | D13: 220 | E13: 244 | F13: 265 | G13: 509 | I13: 63 | J13: 太田 | K13: 519 | L13: 647 | M13: 657 | N13: 1304
A14: 計 | D14: 4752 | E14: 5063 | F14: 5115 | G14: 10178 | H14: 馬 | I14: 64 | J14: 岩垂 | K14: 229 | L14: 309 | M14: 301 | N14: 610
B15: 20 | C15: 東山 | D15: 102 | E15: 117 | F15: 114 | G15: 231 | I15: 65 | J15: 下小曽部 | K15: 271 | L15: 328 | M15: 350 | N15: 678
B16: 21 | C16: 柿沢 | D16: 162 | E16: 191 | F16: 197 | G16: 388 | I16: 66 | J16: 上小曽部 | K16: 136 | L16: 137 | M16: 144 | N16: 281
B17: 22 | C17: 金井 | D17: 81 | E17: 109 | F17: 96 | G17: 205 | H17: 計 | K17: 1805 | L17: 2242 | M17: 2266 | N17: 4508
A18: 塩 | B18: 23 | C18: 上西条 | D18: 216 | E18: 271 | F18: 288 | G18: 559 | I18: 70 | J18: 桔梗ケ原 | K18: 847 | L18: 872 | M18: 883 | N18: 1755
B19: 24 | C19: 中西条 | D19: 81 | E19: 104 | F19: 118 | G19: 222 | I19: 72 | J19: 平出 | K19: 312 | L19: 426 | M19: 392 | N19: 818
A20: 尻 | B20: 25 | C20: 下西条 | D20: 212 | E20: 254 | F20: 268 | G20: 522 | H20: 宗 | I20: 73 | J20: 床尾 | K20: 241 | L20: 264 | M20: 285 | N20: 549
B21: 26 | C21: 堀ノ内 | D21: 379 | E21: 439 | F21: 465 | G21: 904 | I21: 74 | J21: 洗馬 | K21: 268 | L21: 332 | M21: 371 | N21: 703
A22: 東 | B22: 27 | C22: 長畝 | D22: 161 | E22: 194 | F22: 213 | G22: 407 | I22: 75 | J22: 牧野 | K22: 342 | L22: 392 | M22: 416 | N22: 808
B23: 28 | C23: 桟敷 | D23: 224 | E23: 236 | F23: 244 | G23: 480 | H23: 賀 | I23: 76 | J23: 本山 | K23: 156 | L23: 179 | M23: 178 | N23: 357
B24: 29 | C24: 町区 | D24: 963 | E24: 1181 | F24: 1164 | G24: 2345 | I24: 77 | J24: 日出塩 | K24: 44 | L24: 55 | M24: 55 | N24: 110
B25: 30 | C25: 松原 | D25: 57 | E25: 29 | F25: 48 | G25: 77 | I25: 78 | J25: 小井戸 | K25: 62 | L25: 38 | M25: 56 | N25: 94
B26: 31 | C26: みどり湖 | D26: 140 | E26: 149 | F26: 150 | G26: 299 | H26: 計 | K26: 2272 | L26: 2558 | M26: 2636 | N26: 5194
B27: 32 | C27: 峰原 | D27: 233 | E27: 289 | F27: 297 | G27: 586 | I27: 80 | J27: 古町 | K27: 150 | L27: 174 | M27: 178 | N27: 352
A28: 計 | D28: 3011 | E28: 3563 | F28: 3662 | G28: 7225 | H28: 北 | I28: 81 | J28: 宮前 | K28: 88 | L28: 109 | M28: 96 | N28: 205
B29: 35 | C29: 高出一区 | D29: 425 | E29: 497 | F29: 460 | G29: 957 | H29: 小 | I29: 82 | J29: 大出 | K29: 217 | L29: 246 | M29: 271 | N29: 517
A30: 高 | B30: 36 | C30: 高出二区 | D30: 820 | E30: 895 | F30: 838 | G30: 1733 | H30: 野 | I30: 83 | J30: 上田 | K30: 110 | L30: 115 | M30: 120 | N30: 235
B31: 37 | C31: 高出三区 | D31: 895 | E31: 1003 | F31: 993 | G31: 1996 | I31: 84 | J31: 勝弦 | K31: 204 | L31: 210 | M31: 189 | N31: 399
A32: 出 | B32: 38 | C32: 高出四区 | D32: 818 | E32: 881 | F32: 895 | G32: 1776 | H32: 計 | K32: 769 | L32: 854 | M32: 854 | N32: 1708
B33: 39 | C33: 高出五区 | D33: 633 | E33: 685 | F33: 604 | G33: 1289 | H33: 楢 川 | I33: 90 | J33: 贄川 | K33: 242 | L33: 253 | M33: 261 | N33: 514
A34: 計 | D34: 3591 | E34: 3961 | F34: 3790 | G34: 7751 | I34: 91 | J34: 木曽平沢 | K34: 419 | L34: 413 | M34: 454 | N34: 867
B35: 40 | C35: 南内田 | D35: 490 | E35: 550 | F35: 552 | G35: 1102 | I35: 92 | J35: 奈良井 | K35: 258 | L35: 258 | M35: 273 | N35: 531
A36: 片 | B36: 41 | C36: 北熊井 | D36: 481 | E36: 635 | F36: 635 | G36: 1270 | H36: 計 | K36: 919 | L36: 924 | M36: 988 | N36: 1912
B37: 42 | C37: 南熊井 | D37: 209 | E37: 238 | F37: 246 | G37: 484
A38: 丘 | B38: 43 | C38: 中挾 | D38: 36 | E38: 44 | F38: 45 | G38: 89
B39: 44 | C39: 君石 | D39: 141 | E39: 92 | F39: 140 | G39: 232 | K39: 世帯数 | L39: 男 | M39: 女 | N39: 計 | O39: （住民基本台帳合計） | P39: 世帯数 | Q39: 男 | R39: 女 | S39: 計
B40: 45 | C40: 内田原 | D40: 151 | E40: 178 | F40: 204 | G40: 382 | H40: 住民基本台帳合計 | K40: =D14+D28+D34+D41+D46+K9+K17+K26+K32+K36 -> 29586 | L40: =E14+E28+E34+E41+E46+L9+L17+L26+L32+L36 -> 32460 | M40: =F14+F28+F34+F41+F46+M9+M17+M26+M32+M36 -> 32334 | N40: =L40+M40 -> 64794 | O40: 前年同月数値 | P40: ='R7.4'!K40 -> 29257 | Q40: ='R7.4'!L40 -> 32628 | R40: ='R7.4'!M40 -> 32405 | S40: ='R7.4'!N40 -> 65033
...

Sheet R8.3
A1: 区別住民基本台帳世帯人口一覧表
L2: 46082
A3: 地区 | B3: ＮＯ | C3: 区 | D3: 世帯数 | E3: 男 | F3: 女 | G3: 計 | H3: 地区 | I3: ＮＯ | J3: 区 | K3: 世帯数 | L3: 男 | M3: 女 | N3: 計
B4: 1 | C4: 大門一番町 | D4: 130 | E4: 115 | F4: 114 | G4: 229 | I4: 55 | J4: 吉田一区 | K4: 597 | L4: 624 | M4: 603 | N4: 1227
B5: 2 | C5: 大門二番町 | D5: 330 | E5: 362 | F5: 379 | G5: 741 | H5: 吉 | I5: 56 | J5: 吉田二区 | K5: 570 | L5: 562 | M5: 587 | N5: 1149
A6: 大 | B6: 3 | C6: 大門三番町 | D6: 369 | E6: 406 | F6: 403 | G6: 809 | I6: 57 | J6: 吉田三区 | K6: 1044 | L6: 1091 | M6: 1072 | N6: 2163
B7: 4 | C7: 大門四番町 | D7: 206 | E7: 217 | F7: 255 | G7: 472 | H7: 田 | I7: 58 | J7: 吉田四区 | K7: 939 | L7: 1028 | M7: 949 | N7: 1977
B8: 5 | C8: 大門五番町 | D8: 589 | E8: 662 | F8: 638 | G8: 1300 | I8: 59 | J8: 吉田五区 | K8: 1230 | L8: 1351 | M8: 1385 | N8: 2736
B9: 6 | C9: 大門六番町 | D9: 398 | E9: 407 | F9: 439 | G9: 846 | H9: 計 | K9: 4380 | L9: 4656 | M9: 4596 | N9: 9252
A10: 門 | B10: 7 | C10: 大門七番町 | D10: 273 | E10: 253 | F10: 269 | G10: 522 | I10: 60 | J10: 上組 | K10: 182 | L10: 252 | M10: 239 | N10: 491
B11: 8 | C11: 大門八番町 | D11: 214 | E11: 171 | F11: 197 | G11: 368 | H11: 洗 | I11: 61 | J11: 元町 | K11: 153 | L11: 180 | M11: 182 | N11: 362
B12: 9 | C12: 大門七区 | D12: 1976 | E12: 2206 | F12: 2148 | G12: 4354 | I12: 62 | J12: 芦ノ田 | K12: 315 | L12: 396 | M12: 396 | N12: 792
B13: 13 | C13: 大門田川町 | D13: 220 | E13: 244 | F13: 265 | G13: 509 | I13: 63 | J13: 太田 | K13: 516 | L13: 654 | M13: 659 | N13: 1313
A14: 計 | D14: 4705 | E14: 5043 | F14: 5107 | G14: 10150 | H14: 馬 | I14: 64 | J14: 岩垂 | K14: 225 | L14: 307 | M14: 298 | N14: 605
B15: 20 | C15: 東山 | D15: 103 | E15: 118 | F15: 114 | G15: 232 | I15: 65 | J15: 下小曽部 | K15: 269 | L15: 327 | M15: 348 | N15: 675
B16: 21 | C16: 柿沢 | D16: 161 | E16: 190 | F16: 196 | G16: 386 | I16: 66 | J16: 上小曽部 | K16: 137 | L16: 138 | M16: 145 | N16: 283
B17: 22 | C17: 金井 | D17: 80 | E17: 106 | F17: 94 | G17: 200 | H17: 計 | K17: 1797 | L17: 2254 | M17: 2267 | N17: 4521
A18: 塩 | B18: 23 | C18: 上西条 | D18: 216 | E18: 271 | F18: 291 | G18: 562 | I18: 70 | J18: 桔梗ケ原 | K18: 849 | L18: 882 | M18: 892 | N18: 1774
B19: 24 | C19: 中西条 | D19: 81 | E19: 104 | F19: 119 | G19: 223 | I19: 72 | J19: 平出 | K19: 313 | L19: 427 | M19: 396 | N19: 823
A20: 尻 | B20: 25 | C20: 下西条 | D20: 211 | E20: 254 | F20: 268 | G20: 522 | H20: 宗 | I20: 73 | J20: 床尾 | K20: 240 | L20: 263 | M20: 284 | N20: 547
B21: 26 | C21: 堀ノ内 | D21: 380 | E21: 441 | F21: 465 | G21: 906 | I21: 74 | J21: 洗馬 | K21: 267 | L21: 331 | M21: 365 | N21: 696
A22: 東 | B22: 27 | C22: 長畝 | D22: 161 | E22: 193 | F22: 215 | G22: 408 | I22: 75 | J22: 牧野 | K22: 342 | L22: 390 | M22: 415 | N22: 805
B23: 28 | C23: 桟敷 | D23: 225 | E23: 239 | F23: 247 | G23: 486 | H23: 賀 | I23: 76 | J23: 本山 | K23: 155 | L23: 180 | M23: 178 | N23: 358
B24: 29 | C24: 町区 | D24: 952 | E24: 1169 | F24: 1158 | G24: 2327 | I24: 77 | J24: 日出塩 | K24: 44 | L24: 56 | M24: 55 | N24: 111
B25: 30 | C25: 松原 | D25: 57 | E25: 29 | F25: 49 | G25: 78 | I25: 78 | J25: 小井戸 | K25: 63 | L25: 44 | M25: 55 | N25: 99
B26: 31 | C26: みどり湖 | D26: 140 | E26: 149 | F26: 155 | G26: 304 | H26: 計 | K26: 2273 | L26: 2573 | M26: 2640 | N26: 5213
B27: 32 | C27: 峰原 | D27: 233 | E27: 295 | F27: 300 | G27: 595 | I27: 80 | J27: 古町 | K27: 151 | L27: 174 | M27: 180 | N27: 354
A28: 計 | D28: 3000 | E28: 3558 | F28: 3671 | G28: 7229 | H28: 北 | I28: 81 | J28: 宮前 | K28: 89 | L28: 108 | M28: 99 | N28: 207
B29: 35 | C29: 高出一区 | D29: 421 | E29: 500 | F29: 461 | G29: 961 | H29: 小 | I29: 82 | J29: 大出 | K29: 218 | L29: 248 | M29: 271 | N29: 519
A30: 高 | B30: 36 | C30: 高出二区 | D30: 811 | E30: 893 | F30: 831 | G30: 1724 | H30: 野 | I30: 83 | J30: 上田 | K30: 110 | L30: 115 | M30: 120 | N30: 235
B31: 37 | C31: 高出三区 | D31: 888 | E31: 998 | F31: 985 | G31: 1983 | I31: 84 | J31: 勝弦 | K31: 203 | L31: 210 | M31: 187 | N31: 397
A32: 出 | B32: 38 | C32: 高出四区 | D32: 817 | E32: 874 | F32: 887 | G32: 1761 | H32: 計 | K32: 771 | L32: 855 | M32: 857 | N32: 1712
B33: 39 | C33: 高出五区 | D33: 634 | E33: 683 | F33: 611 | G33: 1294 | H33: 楢 川 | I33: 90 | J33: 贄川 | K33: 243 | L33: 253 | M33: 262 | N33: 515
A34: 計 | D34: 3571 | E34: 3948 | F34: 3775 | G34: 7723 | I34: 91 | J34: 木曽平沢 | K34: 418 | L34: 416 | M34: 455 | N34: 871
B35: 40 | C35: 南内田 | D35: 487 | E35: 546 | F35: 550 | G35: 1096 | I35: 92 | J35: 奈良井 | K35: 259 | L35: 261 | M35: 279 | N35: 540
A36: 片 | B36: 41 | C36: 北熊井 | D36: 480 | E36: 637 | F36: 636 | G36: 1273 | H36: 計 | K36: 920 | L36: 930 | M36: 996 | N36: 1926
B37: 42 | C37: 南熊井 | D37: 209 | E37: 238 | F37: 249 | G37: 487
A38: 丘 | B38: 43 | C38: 中挾 | D38: 36 | E38: 45 | F38: 45 | G38: 90
B39: 44 | C39: 君石 | D39: 142 | E39: 94 | F39: 141 | G39: 235 | K39: 世帯数 | L39: 男 | M39: 女 | N39: 計 | O39: （住民基本台帳合計） | P39: 世帯数 | Q39: 男 | R39: 女 | S39: 計
B40: 45 | C40: 内田原 | D40: 153 | E40: 185 | F40: 205 | G40: 390 | H40: 住民基本台帳合計 | K40: =D14+D28+D34+D41+D46+K9+K17+K26+K32+K36 -> 29423 | L40: =E14+E28+E34+E41+E46+L9+L17+L26+L32+L36 -> 32432 | M40: =F14+F28+F34+F41+F46+M9+M17+M26+M32+M36 -> 32342 | N40: =L40+M40 -> 64774 | O40: 前年同月数値 | P40: ='R7.3'!K40 -> 29062 | Q40: ='R7.3'!L40 -> 32629 | R40: ='R7.3'!M40 -> 32408 | S40: ='R7.3'!N40 -> 65037
...

Sheet R8.2
A1: 区別住民基本台帳世帯人口一覧表
L2: 46054
A3: 地区 | B3: ＮＯ | C3: 区 | D3: 世帯数 | E3: 男 | F3: 女 | G3: 計 | H3: 地区 | I3: ＮＯ | J3: 区 | K3: 世帯数 | L3: 男 | M3: 女 | N3: 計
B4: 1 | C4: 大門一番町 | D4: 130 | E4: 115 | F4: 114 | G4: 229 | I4: 55 | J4: 吉田一区 | K4: 580 | L4: 611 | M4: 594 | N4: 1205
B5: 2 | C5: 大門二番町 | D5: 327 | E5: 358 | F5: 378 | G5: 736 | H5: 吉 | I5: 56 | J5: 吉田二区 | K5: 571 | L5: 569 | M5: 591 | N5: 1160
A6: 大 | B6: 3 | C6: 大門三番町 | D6: 370 | E6: 407 | F6: 404 | G6: 811 | I6: 57 | J6: 吉田三区 | K6: 1037 | L6: 1087 | M6: 1066 | N6: 2153
B7: 4 | C7: 大門四番町 | D7: 209 | E7: 221 | F7: 257 | G7: 478 | H7: 田 | I7: 58 | J7: 吉田四区 | K7: 945 | L7: 1032 | M7: 953 | N7: 1985
B8: 5 | C8: 大門五番町 | D8: 586 | E8: 660 | F8: 634 | G8: 1294 | I8: 59 | J8: 吉田五区 | K8: 1229 | L8: 1354 | M8: 1393 | N8: 2747
B9: 6 | C9: 大門六番町 | D9: 395 | E9: 406 | F9: 439 | G9: 845 | H9: 計 | K9: 4362 | L9: 4653 | M9: 4597 | N9: 9250
A10: 門 | B10: 7 | C10: 大門七番町 | D10: 275 | E10: 254 | F10: 270 | G10: 524 | I10: 60 | J10: 上組 | K10: 182 | L10: 252 | M10: 240 | N10: 492
B11: 8 | C11: 大門八番町 | D11: 212 | E11: 168 | F11: 198 | G11: 366 | H11: 洗 | I11: 61 | J11: 元町 | K11: 153 | L11: 180 | M11: 182 | N11: 362
B12: 9 | C12: 大門七区 | D12: 1971 | E12: 2197 | F12: 2142 | G12: 4339 | I12: 62 | J12: 芦ノ田 | K12: 313 | L12: 393 | M12: 394 | N12: 787
B13: 13 | C13: 大門田川町 | D13: 221 | E13: 245 | F13: 267 | G13: 512 | I13: 63 | J13: 太田 | K13: 516 | L13: 653 | M13: 658 | N13: 1311
A14: 計 | D14: 4696 | E14: 5031 | F14: 5103 | G14: 10134 | H14: 馬 | I14: 64 | J14: 岩垂 | K14: 223 | L14: 305 | M14: 299 | N14: 604
B15: 20 | C15: 東山 | D15: 105 | E15: 118 | F15: 116 | G15: 234 | I15: 65 | J15: 下小曽部 | K15: 270 | L15: 328 | M15: 351 | N15: 679
B16: 21 | C16: 柿沢 | D16: 162 | E16: 191 | F16: 197 | G16: 388 | I16: 66 | J16: 上小曽部 | K16: 138 | L16: 139 | M16: 144 | N16: 283
B17: 22 | C17: 金井 | D17: 80 | E17: 106 | F17: 94 | G17: 200 | H17: 計 | K17: 1795 | L17: 2250 | M17: 2268 | N17: 4518
A18: 塩 | B18: 23 | C18: 上西条 | D18: 214 | E18: 271 | F18: 289 | G18: 560 | I18: 70 | J18: 桔梗ケ原 | K18: 849 | L18: 884 | M18: 892 | N18: 1776
B19: 24 | C19: 中西条 | D19: 83 | E19: 106 | F19: 120 | G19: 226 | I19: 72 | J19: 平出 | K19: 315 | L19: 428 | M19: 397 | N19: 825
A20: 尻 | B20: 25 | C20: 下西条 | D20: 210 | E20: 255 | F20: 266 | G20: 521 | H20: 宗 | I20: 73 | J20: 床尾 | K20: 239 | L20: 262 | M20: 282 | N20: 544
B21: 26 | C21: 堀ノ内 | D21: 381 | E21: 441 | F21: 467 | G21: 908 | I21: 74 | J21: 洗馬 | K21: 268 | L21: 334 | M21: 366 | N21: 700
A22: 東 | B22: 27 | C22: 長畝 | D22: 162 | E22: 195 | F22: 216 | G22: 411 | I22: 75 | J22: 牧野 | K22: 343 | L22: 393 | M22: 415 | N22: 808
B23: 28 | C23: 桟敷 | D23: 225 | E23: 239 | F23: 247 | G23: 486 | H23: 賀 | I23: 76 | J23: 本山 | K23: 155 | L23: 179 | M23: 179 | N23: 358
B24: 29 | C24: 町区 | D24: 948 | E24: 1162 | F24: 1161 | G24: 2323 | I24: 77 | J24: 日出塩 | K24: 44 | L24: 56 | M24: 55 | N24: 111
B25: 30 | C25: 松原 | D25: 57 | E25: 29 | F25: 49 | G25: 78 | I25: 78 | J25: 小井戸 | K25: 63 | L25: 44 | M25: 55 | N25: 99
B26: 31 | C26: みどり湖 | D26: 142 | E26: 151 | F26: 156 | G26: 307 | H26: 計 | K26: 2276 | L26: 2580 | M26: 2641 | N26: 5221
B27: 32 | C27: 峰原 | D27: 235 | E27: 297 | F27: 302 | G27: 599 | I27: 80 | J27: 古町 | K27: 151 | L27: 175 | M27: 180 | N27: 355
A28: 計 | D28: 3004 | E28: 3561 | F28: 3680 | G28: 7241 | H28: 北 | I28: 81 | J28: 宮前 | K28: 89 | L28: 108 | M28: 99 | N28: 207
B29: 35 | C29: 高出一区 | D29: 423 | E29: 500 | F29: 465 | G29: 965 | H29: 小 | I29: 82 | J29: 大出 | K29: 217 | L29: 247 | M29: 272 | N29: 519
A30: 高 | B30: 36 | C30: 高出二区 | D30: 812 | E30: 891 | F30: 828 | G30: 1719 | H30: 野 | I30: 83 | J30: 上田 | K30: 110 | L30: 115 | M30: 120 | N30: 235
B31: 37 | C31: 高出三区 | D31: 888 | E31: 997 | F31: 989 | G31: 1986 | I31: 84 | J31: 勝弦 | K31: 203 | L31: 212 | M31: 186 | N31: 398
A32: 出 | B32: 38 | C32: 高出四区 | D32: 817 | E32: 875 | F32: 886 | G32: 1761 | H32: 計 | K32: 770 | L32: 857 | M32: 857 | N32: 1714
B33: 39 | C33: 高出五区 | D33: 634 | E33: 684 | F33: 612 | G33: 1296 | H33: 楢 川 | I33: 90 | J33: 贄川 | K33: 242 | L33: 256 | M33: 263 | N33: 519
A34: 計 | D34: 3574 | E34: 3947 | F34: 3780 | G34: 7727 | I34: 91 | J34: 木曽平沢 | K34: 421 | L34: 418 | M34: 459 | N34: 877
B35: 40 | C35: 南内田 | D35: 488 | E35: 547 | F35: 550 | G35: 1097 | I35: 92 | J35: 奈良井 | K35: 260 | L35: 260 | M35: 280 | N35: 540
A36: 片 | B36: 41 | C36: 北熊井 | D36: 481 | E36: 639 | F36: 637 | G36: 1276 | H36: 計 | K36: 923 | L36: 934 | M36: 1002 | N36: 1936
B37: 42 | C37: 南熊井 | D37: 209 | E37: 240 | F37: 251 | G37: 491
A38: 丘 | B38: 43 | C38: 中挾 | D38: 37 | E38: 45 | F38: 46 | G38: 91
B39: 44 | C39: 君石 | D39: 144 | E39: 95 | F39: 142 | G39: 237 | K39: 世帯数 | L39: 男 | M39: 女 | N39: 計 | O39: （住民基本台帳合計） | P39: 世帯数 | Q39: 男 | R39: 女 | S39: 計
B40: 45 | C40: 内田原 | D40: 153 | E40: 185 | F40: 207 | G40: 392 | H40: 住民基本台帳合計 | K40: =D14+D28+D34+D41+D46+K9+K17+K26+K32+K36 -> 29423 | L40: =E14+E28+E34+E41+E46+L9+L17+L26+L32+L36 -> 32448 | M40: =F14+F28+F34+F41+F46+M9+M17+M26+M32+M36 -> 32370 | N40: =L40+M40 -> 64818 | O40: 前年同月数値 | P40: ='R7.2'!K40 -> 29053 | Q40: ='R7.2'!L40 -> 32642 | R40: ='R7.2'!M40 -> 32444 | S40: ='R7.2'!N40 -> 65086
...

Sheet R8.1
A1: 区別住民基本台帳世帯人口一覧表
L2: 46023
A3: 地区 | B3: ＮＯ | C3: 区 | D3: 世帯数 | E3: 男 | F3: 女 | G3: 計 | H3: 地区 | I3: ＮＯ | J3: 区 | K3: 世帯数 | L3: 男 | M3: 女 | N3: 計
B4: 1 | C4: 大門一番町 | D4: 131 | E4: 115 | F4: 115 | G4: 230 | I4: 55 | J4: 吉田一区 | K4: 579 | L4: 611 | M4: 594 | N4: 1205
B5: 2 | C5: 大門二番町 | D5: 328 | E5: 359 | F5: 377 | G5: 736 | H5: 吉 | I5: 56 | J5: 吉田二区 | K5: 577 | L5: 573 | M5: 596 | N5: 1169
A6: 大 | B6: 3 | C6: 大門三番町 | D6: 369 | E6: 404 | F6: 400 | G6: 804 | I6: 57 | J6: 吉田三区 | K6: 1039 | L6: 1087 | M6: 1076 | N6: 2163
B7: 4 | C7: 大門四番町 | D7: 208 | E7: 222 | F7: 257 | G7: 479 | H7: 田 | I7: 58 | J7: 吉田四区 | K7: 945 | L7: 1034 | M7: 955 | N7: 1989
B8: 5 | C8: 大門五番町 | D8: 586 | E8: 660 | F8: 634 | G8: 1294 | I8: 59 | J8: 吉田五区 | K8: 1230 | L8: 1359 | M8: 1394 | N8: 2753
B9: 6 | C9: 大門六番町 | D9: 394 | E9: 404 | F9: 443 | G9: 847 | H9: 計 | K9: 4370 | L9: 4664 | M9: 4615 | N9: 9279
A10: 門 | B10: 7 | C10: 大門七番町 | D10: 278 | E10: 256 | F10: 270 | G10: 526 | I10: 60 | J10: 上組 | K10: 182 | L10: 253 | M10: 241 | N10: 494
B11: 8 | C11: 大門八番町 | D11: 212 | E11: 169 | F11: 198 | G11: 367 | H11: 洗 | I11: 61 | J11: 元町 | K11: 152 | L11: 179 | M11: 182 | N11: 361
B12: 9 | C12: 大門七区 | D12: 1972 | E12: 2199 | F12: 2150 | G12: 4349 | I12: 62 | J12: 芦ノ田 | K12: 313 | L12: 394 | M12: 398 | N12: 792
B13: 13 | C13: 大門田川町 | D13: 220 | E13: 245 | F13: 266 | G13: 511 | I13: 63 | J13: 太田 | K13: 516 | L13: 653 | M13: 662 | N13: 1315
A14: 計 | D14: 4698 | E14: 5033 | F14: 5110 | G14: 10143 | H14: 馬 | I14: 64 | J14: 岩垂 | K14: 220 | L14: 304 | M14: 300 | N14: 604
B15: 20 | C15: 東山 | D15: 103 | E15: 117 | F15: 115 | G15: 232 | I15: 65 | J15: 下小曽部 | K15: 270 | L15: 329 | M15: 353 | N15: 682
B16: 21 | C16: 柿沢 | D16: 163 | E16: 191 | F16: 199 | G16: 390 | I16: 66 | J16: 上小曽部 | K16: 137 | L16: 140 | M16: 143 | N16: 283
B17: 22 | C17: 金井 | D17: 80 | E17: 107 | F17: 94 | G17: 201 | H17: 計 | K17: 1790 | L17: 2252 | M17: 2279 | N17: 4531
A18: 塩 | B18: 23 | C18: 上西条 | D18: 214 | E18: 269 | F18: 289 | G18: 558 | I18: 70 | J18: 桔梗ケ原 | K18: 844 | L18: 880 | M18: 888 | N18: 1768
B19: 24 | C19: 中西条 | D19: 83 | E19: 106 | F19: 120 | G19: 226 | I19: 72 | J19: 平出 | K19: 316 | L19: 431 | M19: 397 | N19: 828
A20: 尻 | B20: 25 | C20: 下西条 | D20: 208 | E20: 255 | F20: 265 | G20: 520 | H20: 宗 | I20: 73 | J20: 床尾 | K20: 238 | L20: 260 | M20: 282 | N20: 542
B21: 26 | C21: 堀ノ内 | D21: 380 | E21: 441 | F21: 468 | G21: 909 | I21: 74 | J21: 洗馬 | K21: 269 | L21: 333 | M21: 368 | N21: 701
A22: 東 | B22: 27 | C22: 長畝 | D22: 162 | E22: 195 | F22: 216 | G22: 411 | I22: 75 | J22: 牧野 | K22: 342 | L22: 392 | M22: 414 | N22: 806
B23: 28 | C23: 桟敷 | D23: 226 | E23: 239 | F23: 249 | G23: 488 | H23: 賀 | I23: 76 | J23: 本山 | K23: 155 | L23: 179 | M23: 179 | N23: 358
B24: 29 | C24: 町区 | D24: 948 | E24: 1161 | F24: 1161 | G24: 2322 | I24: 77 | J24: 日出塩 | K24: 44 | L24: 56 | M24: 55 | N24: 111
B25: 30 | C25: 松原 | D25: 57 | E25: 29 | F25: 49 | G25: 78 | I25: 78 | J25: 小井戸 | K25: 63 | L25: 44 | M25: 55 | N25: 99
B26: 31 | C26: みどり湖 | D26: 142 | E26: 151 | F26: 156 | G26: 307 | H26: 計 | K26: 2271 | L26: 2575 | M26: 2638 | N26: 5213
B27: 32 | C27: 峰原 | D27: 237 | E27: 301 | F27: 301 | G27: 602 | I27: 80 | J27: 古町 | K27: 152 | L27: 176 | M27: 181 | N27: 357
A28: 計 | D28: 3003 | E28: 3562 | F28: 3682 | G28: 7244 | H28: 北 | I28: 81 | J28: 宮前 | K28: 89 | L28: 108 | M28: 99 | N28: 207
B29: 35 | C29: 高出一区 | D29: 420 | E29: 497 | F29: 457 | G29: 954 | H29: 小 | I29: 82 | J29: 大出 | K29: 217 | L29: 249 | M29: 275 | N29: 524
A30: 高 | B30: 36 | C30: 高出二区 | D30: 813 | E30: 888 | F30: 824 | G30: 1712 | H30: 野 | I30: 83 | J30: 上田 | K30: 110 | L30: 115 | M30: 120 | N30: 235
B31: 37 | C31: 高出三区 | D31: 887 | E31: 998 | F31: 989 | G31: 1987 | I31: 84 | J31: 勝弦 | K31: 203 | L31: 213 | M31: 186 | N31: 399
A32: 出 | B32: 38 | C32: 高出四区 | D32: 815 | E32: 874 | F32: 882 | G32: 1756 | H32: 計 | K32: 771 | L32: 861 | M32: 861 | N32: 1722
B33: 39 | C33: 高出五区 | D33: 629 | E33: 681 | F33: 613 | G33: 1294 | H33: 楢 川 | I33: 90 | J33: 贄川 | K33: 240 | L33: 255 | M33: 262 | N33: 517
A34: 計 | D34: 3564 | E34: 3938 | F34: 3765 | G34: 7703 | I34: 91 | J34: 木曽平沢 | K34: 420 | L34: 419 | M34: 458 | N34: 877
B35: 40 | C35: 南内田 | D35: 490 | E35: 552 | F35: 553 | G35: 1105 | I35: 92 | J35: 奈良井 | K35: 260 | L35: 260 | M35: 280 | N35: 540
A36: 片 | B36: 41 | C36: 北熊井 | D36: 480 | E36: 640 | F36: 639 | G36: 1279 | H36: 計 | K36: 920 | L36: 934 | M36: 1000 | N36: 1934
B37: 42 | C37: 南熊井 | D37: 209 | E37: 240 | F37: 251 | G37: 491
A38: 丘 | B38: 43 | C38: 中挾 | D38: 37 | E38: 45 | F38: 46 | G38: 91
B39: 44 | C39: 君石 | D39: 145 | E39: 97 | F39: 142 | G39: 239 | K39: 世帯数 | L39: 男 | M39: 女 | N39: 計 | O39: （住民基本台帳合計） | P39: 世帯数 | Q39: 男 | R39: 女 | S39: 計
B40: 45 | C40: 内田原 | D40: 153 | E40: 185 | F40: 207 | G40: 392 | H40: 住民基本台帳合計 | K40: =D14+D28+D34+D41+D46+K9+K17+K26+K32+K36 -> 29415 | L40: =E14+E28+E34+E41+E46+L9+L17+L26+L32+L36 -> 32469 | M40: =F14+F28+F34+F41+F46+M9+M17+M26+M32+M36 -> 32404 | N40: =L40+M40 -> 64873 | O40: 前年同月数値 | P40: ='R7.1'!K40 -> 29069 | Q40: ='R7.1'!L40 -> 32699 | R40: ='R7.1'!M40 -> 32494 | S40: ='R7.1'!N40 -> 65193
...

Sheet R7.12
A1: 区別住民基本台帳世帯人口一覧表
L2: 45992
A3: 地区 | B3: ＮＯ | C3: 区 | D3: 世帯数 | E3: 男 | F3: 女 | G3: 計 | H3: 地区 | I3: ＮＯ | J3: 区 | K3: 世帯数 | L3: 男 | M3: 女 | N3: 計
B4: 1 | C4: 大門一番町 | D4: 132 | E4: 116 | F4: 116 | G4: 232 | I4: 55 | J4: 吉田一区 | K4: 583 | L4: 612 | M4: 596 | N4: 1208
B5: 2 | C5: 大門二番町 | D5: 326 | E5: 358 | F5: 377 | G5: 735 | H5: 吉 | I5: 56 | J5: 吉田二区 | K5: 577 | L5: 572 | M5: 599 | N5: 1171
A6: 大 | B6: 3 | C6: 大門三番町 | D6: 368 | E6: 403 | F6: 400 | G6: 803 | I6: 57 | J6: 吉田三区 | K6: 1039 | L6: 1087 | M6: 1077 | N6: 2164
B7: 4 | C7: 大門四番町 | D7: 207 | E7: 221 | F7: 256 | G7: 477 | H7: 田 | I7: 58 | J7: 吉田四区 | K7: 945 | L7: 1037 | M7: 955 | N7: 1992
B8: 5 | C8: 大門五番町 | D8: 588 | E8: 662 | F8: 641 | G8: 1303 | I8: 59 | J8: 吉田五区 | K8: 1231 | L8: 1363 | M8: 1397 | N8: 2760
B9: 6 | C9: 大門六番町 | D9: 393 | E9: 405 | F9: 442 | G9: 847 | H9: 計 | K9: 4375 | L9: 4671 | M9: 4624 | N9: 9295
A10: 門 | B10: 7 | C10: 大門七番町 | D10: 279 | E10: 258 | F10: 270 | G10: 528 | I10: 60 | J10: 上組 | K10: 182 | L10: 252 | M10: 242 | N10: 494
B11: 8 | C11: 大門八番町 | D11: 211 | E11: 169 | F11: 199 | G11: 368 | H11: 洗 | I11: 61 | J11: 元町 | K11: 152 | L11: 180 | M11: 183 | N11: 363
B12: 9 | C12: 大門七区 | D12: 1971 | E12: 2190 | F12: 2134 | G12: 4324 | I12: 62 | J12: 芦ノ田 | K12: 312 | L12: 395 | M12: 397 | N12: 792
B13: 13 | C13: 大門田川町 | D13: 219 | E13: 243 | F13: 265 | G13: 508 | I13: 63 | J13: 太田 | K13: 517 | L13: 657 | M13: 664 | N13: 1321
A14: 計 | D14: 4694 | E14: 5025 | F14: 5100 | G14: 10125 | H14: 馬 | I14: 64 | J14: 岩垂 | K14: 226 | L14: 310 | M14: 304 | N14: 614
B15: 20 | C15: 東山 | D15: 104 | E15: 118 | F15: 115 | G15: 233 | I15: 65 | J15: 下小曽部 | K15: 270 | L15: 330 | M15: 355 | N15: 685
B16: 21 | C16: 柿沢 | D16: 162 | E16: 190 | F16: 200 | G16: 390 | I16: 66 | J16: 上小曽部 | K16: 136 | L16: 139 | M16: 143 | N16: 282
B17: 22 | C17: 金井 | D17: 80 | E17: 107 | F17: 94 | G17: 201 | H17: 計 | K17: 1795 | L17: 2263 | M17: 2288 | N17: 4551
A18: 塩 | B18: 23 | C18: 上西条 | D18: 215 | E18: 271 | F18: 290 | G18: 561 | I18: 70 | J18: 桔梗ケ原 | K18: 843 | L18: 878 | M18: 889 | N18: 1767
B19: 24 | C19: 中西条 | D19: 82 | E19: 106 | F19: 119 | G19: 225 | I19: 72 | J19: 平出 | K19: 316 | L19: 432 | M19: 397 | N19: 829
A20: 尻 | B20: 25 | C20: 下西条 | D20: 209 | E20: 257 | F20: 265 | G20: 522 | H20: 宗 | I20: 73 | J20: 床尾 | K20: 237 | L20: 262 | M20: 283 | N20: 545
B21: 26 | C21: 堀ノ内 | D21: 380 | E21: 441 | F21: 471 | G21: 912 | I21: 74 | J21: 洗馬 | K21: 268 | L21: 332 | M21: 369 | N21: 701
A22: 東 | B22: 27 | C22: 長畝 | D22: 161 | E22: 193 | F22: 215 | G22: 408 | I22: 75 | J22: 牧野 | K22: 342 | L22: 393 | M22: 413 | N22: 806
B23: 28 | C23: 桟敷 | D23: 224 | E23: 239 | F23: 248 | G23: 487 | H23: 賀 | I23: 76 | J23: 本山 | K23: 154 | L23: 176 | M23: 178 | N23: 354
B24: 29 | C24: 町区 | D24: 948 | E24: 1163 | F24: 1160 | G24: 2323 | I24: 77 | J24: 日出塩 | K24: 44 | L24: 56 | M24: 55 | N24: 111
B25: 30 | C25: 松原 | D25: 57 | E25: 29 | F25: 49 | G25: 78 | I25: 78 | J25: 小井戸 | K25: 63 | L25: 44 | M25: 55 | N25: 99
B26: 31 | C26: みどり湖 | D26: 141 | E26: 150 | F26: 157 | G26: 307 | H26: 計 | K26: 2267 | L26: 2573 | M26: 2639 | N26: 5212
B27: 32 | C27: 峰原 | D27: 238 | E27: 300 | F27: 300 | G27: 600 | I27: 80 | J27: 古町 | K27: 152 | L27: 177 | M27: 181 | N27: 358
A28: 計 | D28: 3001 | E28: 3564 | F28: 3683 | G28: 7247 | H28: 北 | I28: 81 | J28: 宮前 | K28: 89 | L28: 108 | M28: 99 | N28: 207
B29: 35 | C29: 高出一区 | D29: 422 | E29: 497 | F29: 458 | G29: 955 | H29: 小 | I29: 82 | J29: 大出 | K29: 217 | L29: 249 | M29: 277 | N29: 526
A30: 高 | B30: 36 | C30: 高出二区 | D30: 814 | E30: 889 | F30: 825 | G30: 1714 | H30: 野 | I30: 83 | J30: 上田 | K30: 110 | L30: 115 | M30: 121 | N30: 236
B31: 37 | C31: 高出三区 | D31: 888 | E31: 999 | F31: 985 | G31: 1984 | I31: 84 | J31: 勝弦 | K31: 204 | L31: 215 | M31: 187 | N31: 402
A32: 出 | B32: 38 | C32: 高出四区 | D32: 817 | E32: 876 | F32: 883 | G32: 1759 | H32: 計 | K32: 772 | L32: 864 | M32: 865 | N32: 1729
B33: 39 | C33: 高出五区 | D33: 627 | E33: 682 | F33: 611 | G33: 1293 | H33: 楢 川 | I33: 90 | J33: 贄川 | K33: 240 | L33: 255 | M33: 262 | N33: 517
A34: 計 | D34: 3568 | E34: 3943 | F34: 3762 | G34: 7705 | I34: 91 | J34: 木曽平沢 | K34: 418 | L34: 420 | M34: 456 | N34: 876
B35: 40 | C35: 南内田 | D35: 493 | E35: 556 | F35: 553 | G35: 1109 | I35: 92 | J35: 奈良井 | K35: 260 | L35: 261 | M35: 280 | N35: 541
A36: 片 | B36: 41 | C36: 北熊井 | D36: 481 | E36: 642 | F36: 639 | G36: 1281 | H36: 計 | K36: 918 | L36: 936 | M36: 998 | N36: 1934
B37: 42 | C37: 南熊井 | D37: 209 | E37: 240 | F37: 251 | G37: 491
A38: 丘 | B38: 43 | C38: 中挾 | D38: 37 | E38: 45 | F38: 46 | G38: 91
B39: 44 | C39: 君石 | D39: 145 | E39: 96 | F39: 143 | G39: 239 | K39: 世帯数 | L39: 男 | M39: 女 | N39: 計 | O39: （住民基本台帳合計） | P39: 世帯数 | Q39: 男 | R39: 女 | S39: 計
B40: 45 | C40: 内田原 | D40: 152 | E40: 188 | F40: 206 | G40: 394 | H40: 住民基本台帳合計 | K40: =D14+D28+D34+D41+D46+K9+K17+K26+K32+K36 -> 29437 | L40: =E14+E28+E34+E41+E46+L9+L17+L26+L32+L36 -> 32516 | M40: =F14+F28+F34+F41+F46+M9+M17+M26+M32+M36 -> 32410 | N40: =L40+M40 -> 64926 | O40: 前年同月数値 | P40: 29100 | Q40: 32732 | R40: 32518 | S40: 65250
...

Sheet R7.11
A1: 区別住民基本台帳世帯人口一覧表
L2: 45962
A3: 地区 | B3: ＮＯ | C3: 区 | D3: 世帯数 | E3: 男 | F3: 女 | G3: 計 | H3: 地区 | I3: ＮＯ | J3: 区 | K3: 世帯数 | L3: 男 | M3: 女 | N3: 計
B4: 1 | C4: 大門一番町 | D4: 132 | E4: 116 | F4: 117 | G4: 233 | I4: 55 | J4: 吉田一区 | K4: 584 | L4: 615 | M4: 595 | N4: 1210
B5: 2 | C5: 大門二番町 | D5: 327 | E5: 359 | F5: 377 | G5: 736 | H5: 吉 | I5: 56 | J5: 吉田二区 | K5: 573 | L5: 574 | M5: 592 | N5: 1166
A6: 大 | B6: 3 | C6: 大門三番町 | D6: 367 | E6: 402 | F6: 399 | G6: 801 | I6: 57 | J6: 吉田三区 | K6: 1041 | L6: 1089 | M6: 1077 | N6: 2166
B7: 4 | C7: 大門四番町 | D7: 207 | E7: 219 | F7: 255 | G7: 474 | H7: 田 | I7: 58 | J7: 吉田四区 | K7: 944 | L7: 1036 | M7: 960 | N7: 1996
B8: 5 | C8: 大門五番町 | D8: 589 | E8: 659 | F8: 647 | G8: 1306 | I8: 59 | J8: 吉田五区 | K8: 1226 | L8: 1357 | M8: 1401 | N8: 2758
B9: 6 | C9: 大門六番町 | D9: 393 | E9: 407 | F9: 440 | G9: 847 | H9: 計 | K9: 4368 | L9: 4671 | M9: 4625 | N9: 9296
A10: 門 | B10: 7 | C10: 大門七番町 | D10: 278 | E10: 259 | F10: 268 | G10: 527 | I10: 60 | J10: 上組 | K10: 182 | L10: 252 | M10: 244 | N10: 496
B11: 8 | C11: 大門八番町 | D11: 211 | E11: 168 | F11: 198 | G11: 366 | H11: 洗 | I11: 61 | J11: 元町 | K11: 152 | L11: 181 | M11: 183 | N11: 364
B12: 9 | C12: 大門七区 | D12: 1971 | E12: 2185 | F12: 2132 | G12: 4317 | I12: 62 | J12: 芦ノ田 | K12: 312 | L12: 394 | M12: 398 | N12: 792
B13: 13 | C13: 大門田川町 | D13: 220 | E13: 244 | F13: 265 | G13: 509 | I13: 63 | J13: 太田 | K13: 515 | L13: 657 | M13: 666 | N13: 1323
A14: 計 | D14: 4695 | E14: 5018 | F14: 5098 | G14: 10116 | H14: 馬 | I14: 64 | J14: 岩垂 | K14: 230 | L14: 313 | M14: 306 | N14: 619
B15: 20 | C15: 東山 | D15: 104 | E15: 118 | F15: 115 | G15: 233 | I15: 65 | J15: 下小曽部 | K15: 271 | L15: 330 | M15: 356 | N15: 686
B16: 21 | C16: 柿沢 | D16: 162 | E16: 190 | F16: 201 | G16: 391 | I16: 66 | J16: 上小曽部 | K16: 136 | L16: 139 | M16: 143 | N16: 282
B17: 22 | C17: 金井 | D17: 79 | E17: 106 | F17: 92 | G17: 198 | H17: 計 | K17: 1798 | L17: 2266 | M17: 2296 | N17: 4562
A18: 塩 | B18: 23 | C18: 上西条 | D18: 216 | E18: 272 | F18: 290 | G18: 562 | I18: 70 | J18: 桔梗ケ原 | K18: 840 | L18: 875 | M18: 887 | N18: 1762
B19: 24 | C19: 中西条 | D19: 82 | E19: 106 | F19: 120 | G19: 226 | I19: 72 | J19: 平出 | K19: 317 | L19: 433 | M19: 397 | N19: 830
A20: 尻 | B20: 25 | C20: 下西条 | D20: 209 | E20: 256 | F20: 265 | G20: 521 | H20: 宗 | I20: 73 | J20: 床尾 | K20: 236 | L20: 260 | M20: 281 | N20: 541
B21: 26 | C21: 堀ノ内 | D21: 379 | E21: 438 | F21: 468 | G21: 906 | I21: 74 | J21: 洗馬 | K21: 268 | L21: 335 | M21: 368 | N21: 703
A22: 東 | B22: 27 | C22: 長畝 | D22: 161 | E22: 193 | F22: 215 | G22: 408 | I22: 75 | J22: 牧野 | K22: 342 | L22: 396 | M22: 416 | N22: 812
B23: 28 | C23: 桟敷 | D23: 224 | E23: 238 | F23: 248 | G23: 486 | H23: 賀 | I23: 76 | J23: 本山 | K23: 154 | L23: 176 | M23: 179 | N23: 355
B24: 29 | C24: 町区 | D24: 944 | E24: 1161 | F24: 1157 | G24: 2318 | I24: 77 | J24: 日出塩 | K24: 44 | L24: 56 | M24: 55 | N24: 111
B25: 30 | C25: 松原 | D25: 57 | E25: 29 | F25: 49 | G25: 78 | I25: 78 | J25: 小井戸 | K25: 63 | L25: 44 | M25: 55 | N25: 99
B26: 31 | C26: みどり湖 | D26: 141 | E26: 151 | F26: 157 | G26: 308 | H26: 計 | K26: 2264 | L26: 2575 | M26: 2638 | N26: 5213
B27: 32 | C27: 峰原 | D27: 237 | E27: 299 | F27: 301 | G27: 600 | I27: 80 | J27: 古町 | K27: 151 | L27: 176 | M27: 181 | N27: 357
A28: 計 | D28: 2995 | E28: 3557 | F28: 3678 | G28: 7235 | H28: 北 | I28: 81 | J28: 宮前 | K28: 90 | L28: 109 | M28: 99 | N28: 208
B29: 35 | C29: 高出一区 | D29: 426 | E29: 499 | F29: 456 | G29: 955 | H29: 小 | I29: 82 | J29: 大出 | K29: 215 | L29: 253 | M29: 276 | N29: 529
A30: 高 | B30: 36 | C30: 高出二区 | D30: 812 | E30: 889 | F30: 829 | G30: 1718 | H30: 野 | I30: 83 | J30: 上田 | K30: 110 | L30: 116 | M30: 121 | N30: 237
B31: 37 | C31: 高出三区 | D31: 884 | E31: 999 | F31: 984 | G31: 1983 | I31: 84 | J31: 勝弦 | K31: 204 | L31: 215 | M31: 186 | N31: 401
A32: 出 | B32: 38 | C32: 高出四区 | D32: 813 | E32: 877 | F32: 878 | G32: 1755 | H32: 計 | K32: 770 | L32: 869 | M32: 863 | N32: 1732
B33: 39 | C33: 高出五区 | D33: 627 | E33: 680 | F33: 610 | G33: 1290 | H33: 楢 川 | I33: 90 | J33: 贄川 | K33: 240 | L33: 255 | M33: 264 | N33: 519
A34: 計 | D34: 3562 | E34: 3944 | F34: 3757 | G34: 7701 | I34: 91 | J34: 木曽平沢 | K34: 420 | L34: 420 | M34: 460 | N34: 880
B35: 40 | C35: 南内田 | D35: 492 | E35: 556 | F35: 553 | G35: 1109 | I35: 92 | J35: 奈良井 | K35: 259 | L35: 261 | M35: 280 | N35: 541
A36: 片 | B36: 41 | C36: 北熊井 | D36: 480 | E36: 641 | F36: 641 | G36: 1282 | H36: 計 | K36: 919 | L36: 936 | M36: 1004 | N36: 1940
B37: 42 | C37: 南熊井 | D37: 209 | E37: 240 | F37: 251 | G37: 491
A38: 丘 | B38: 43 | C38: 中挾 | D38: 38 | E38: 46 | F38: 47 | G38: 93
B39: 44 | C39: 君石 | D39: 145 | E39: 96 | F39: 143 | G39: 239 | K39: 世帯数 | L39: 男 | M39: 女 | N39: 計 | O39: （住民基本台帳合計） | P39: 世帯数 | Q39: 男 | R39: 女 | S39: 計
B40: 45 | C40: 内田原 | D40: 153 | E40: 188 | F40: 207 | G40: 395 | H40: 住民基本台帳合計 | K40: 29400 | L40: 32516 | M40: 32413 | N40: 64929 | O40: 前年同月数値 | P40: 29125 | Q40: 32775 | R40: 32542 | S40: 65317
...

Sheet R7.10
A1: 区別住民基本台帳世帯人口一覧表
L2: 45931
A3: 地区 | B3: ＮＯ | C3: 区 | D3: 世帯数 | E3: 男 | F3: 女 | G3: 計 | H3: 地区 | I3: ＮＯ | J3: 区 | K3: 世帯数 | L3: 男 | M3: 女 | N3: 計
B4: 1 | C4: 大門一番町 | D4: 129 | E4: 113 | F4: 113 | G4: 226 | I4: 55 | J4: 吉田一区 | K4: 581 | L4: 613 | M4: 590 | N4: 1203
B5: 2 | C5: 大門二番町 | D5: 325 | E5: 360 | F5: 375 | G5: 735 | H5: 吉 | I5: 56 | J5: 吉田二区 | K5: 572 | L5: 573 | M5: 587 | N5: 1160
A6: 大 | B6: 3 | C6: 大門三番町 | D6: 365 | E6: 402 | F6: 400 | G6: 802 | I6: 57 | J6: 吉田三区 | K6: 1039 | L6: 1081 | M6: 1070 | N6: 2151
B7: 4 | C7: 大門四番町 | D7: 208 | E7: 221 | F7: 255 | G7: 476 | H7: 田 | I7: 58 | J7: 吉田四区 | K7: 945 | L7: 1043 | M7: 966 | N7: 2009
B8: 5 | C8: 大門五番町 | D8: 593 | E8: 665 | F8: 652 | G8: 1317 | I8: 59 | J8: 吉田五区 | K8: 1228 | L8: 1353 | M8: 1406 | N8: 2759
B9: 6 | C9: 大門六番町 | D9: 398 | E9: 411 | F9: 444 | G9: 855 | H9: 計 | K9: 4365 | L9: 4663 | M9: 4619 | N9: 9282
A10: 門 | B10: 7 | C10: 大門七番町 | D10: 280 | E10: 259 | F10: 270 | G10: 529 | I10: 60 | J10: 上組 | K10: 182 | L10: 252 | M10: 244 | N10: 496
B11: 8 | C11: 大門八番町 | D11: 208 | E11: 169 | F11: 196 | G11: 365 | H11: 洗 | I11: 61 | J11: 元町 | K11: 153 | L11: 182 | M11: 183 | N11: 365
B12: 9 | C12: 大門七区 | D12: 1961 | E12: 2172 | F12: 2120 | G12: 4292 | I12: 62 | J12: 芦ノ田 | K12: 316 | L12: 395 | M12: 401 | N12: 796
B13: 13 | C13: 大門田川町 | D13: 220 | E13: 244 | F13: 264 | G13: 508 | I13: 63 | J13: 太田 | K13: 513 | L13: 654 | M13: 663 | N13: 1317
A14: 計 | D14: 4687 | E14: 5016 | F14: 5089 | G14: 10105 | H14: 馬 | I14: 64 | J14: 岩垂 | K14: 228 | L14: 311 | M14: 306 | N14: 617
B15: 20 | C15: 東山 | D15: 104 | E15: 119 | F15: 115 | G15: 234 | I15: 65 | J15: 下小曽部 | K15: 272 | L15: 330 | M15: 359 | N15: 689
B16: 21 | C16: 柿沢 | D16: 162 | E16: 188 | F16: 200 | G16: 388 | I16: 66 | J16: 上小曽部 | K16: 136 | L16: 139 | M16: 143 | N16: 282
B17: 22 | C17: 金井 | D17: 80 | E17: 107 | F17: 93 | G17: 200 | H17: 計 | K17: 1800 | L17: 2263 | M17: 2299 | N17: 4562
A18: 塩 | B18: 23 | C18: 上西条 | D18: 216 | E18: 272 | F18: 291 | G18: 563 | I18: 70 | J18: 桔梗ケ原 | K18: 840 | L18: 879 | M18: 888 | N18: 1767
B19: 24 | C19: 中西条 | D19: 82 | E19: 106 | F19: 120 | G19: 226 | I19: 72 | J19: 平出 | K19: 319 | L19: 436 | M19: 399 | N19: 835
A20: 尻 | B20: 25 | C20: 下西条 | D20: 210 | E20: 257 | F20: 266 | G20: 523 | H20: 宗 | I20: 73 | J20: 床尾 | K20: 236 | L20: 260 | M20: 281 | N20: 541
B21: 26 | C21: 堀ノ内 | D21: 379 | E21: 442 | F21: 469 | G21: 911 | I21: 74 | J21: 洗馬 | K21: 266 | L21: 334 | M21: 367 | N21: 701
A22: 東 | B22: 27 | C22: 長畝 | D22: 160 | E22: 190 | F22: 215 | G22: 405 | I22: 75 | J22: 牧野 | K22: 342 | L22: 396 | M22: 416 | N22: 812
B23: 28 | C23: 桟敷 | D23: 222 | E23: 236 | F23: 246 | G23: 482 | H23: 賀 | I23: 76 | J23: 本山 | K23: 154 | L23: 176 | M23: 179 | N23: 355
B24: 29 | C24: 町区 | D24: 953 | E24: 1175 | F24: 1165 | G24: 2340 | I24: 77 | J24: 日出塩 | K24: 44 | L24: 58 | M24: 55 | N24: 113
B25: 30 | C25: 松原 | D25: 57 | E25: 29 | F25: 50 | G25: 79 | I25: 78 | J25: 小井戸 | K25: 63 | L25: 44 | M25: 54 | N25: 98
B26: 31 | C26: みどり湖 | D26: 141 | E26: 152 | F26: 157 | G26: 309 | H26: 計 | K26: 2264 | L26: 2583 | M26: 2639 | N26: 5222
B27: 32 | C27: 峰原 | D27: 236 | E27: 297 | F27: 300 | G27: 597 | I27: 80 | J27: 古町 | K27: 150 | L27: 175 | M27: 182 | N27: 357
A28: 計 | D28: 3002 | E28: 3570 | F28: 3687 | G28: 7257 | H28: 北 | I28: 81 | J28: 宮前 | K28: 89 | L28: 107 | M28: 98 | N28: 205
B29: 35 | C29: 高出一区 | D29: 425 | E29: 498 | F29: 460 | G29: 958 | H29: 小 | I29: 82 | J29: 大出 | K29: 214 | L29: 256 | M29: 275 | N29: 531
A30: 高 | B30: 36 | C30: 高出二区 | D30: 813 | E30: 891 | F30: 826 | G30: 1717 | H30: 野 | I30: 83 | J30: 上田 | K30: 110 | L30: 116 | M30: 120 | N30: 236
B31: 37 | C31: 高出三区 | D31: 881 | E31: 1001 | F31: 981 | G31: 1982 | I31: 84 | J31: 勝弦 | K31: 205 | L31: 217 | M31: 186 | N31: 403
A32: 出 | B32: 38 | C32: 高出四区 | D32: 810 | E32: 879 | F32: 878 | G32: 1757 | H32: 計 | K32: 768 | L32: 871 | M32: 861 | N32: 1732
B33: 39 | C33: 高出五区 | D33: 629 | E33: 681 | F33: 611 | G33: 1292 | H33: 楢 川 | I33: 90 | J33: 贄川 | K33: 240 | L33: 256 | M33: 264 | N33: 520
