Workbook

Sheet R8.9
A1: 区別住民基本台帳世帯人口一覧表
L2: 46266
A3: 地区 | B3: ＮＯ | C3: 区 | D3: 世帯数 | E3: 男 | F3: 女 | G3: 計 | H3: 地区 | I3: ＮＯ | J3: 区 | K3: 世帯数 | L3: 男 | M3: 女 | N3: 計
B4: 1 | C4: 大門一番町 | D4: 126 | E4: 111 | F4: 112 | G4: 223 | I4: 55 | J4: 吉田一区 | K4: 606 | L4: 636 | M4: 612 | N4: 1248
B5: 2 | C5: 大門二番町 | D5: 334 | E5: 365 | F5: 384 | G5: 749 | H5: 吉 | I5: 56 | J5: 吉田二区 | K5: 575 | L5: 554 | M5: 589 | N5: 1143
A6: 大 | B6: 3 | C6: 大門三番町 | D6: 361 | E6: 382 | F6: 390 | G6: 772 | I6: 57 | J6: 吉田三区 | K6: 1051 | L6: 1103 | M6: 1091 | N6: 2194
B7: 4 | C7: 大門四番町 | D7: 215 | E7: 219 | F7: 259 | G7: 478 | H7: 田 | I7: 58 | J7: 吉田四区 | K7: 947 | L7: 1018 | M7: 946 | N7: 1964
B8: 5 | C8: 大門五番町 | D8: 615 | E8: 680 | F8: 644 | G8: 1324 | I8: 59 | J8: 吉田五区 | K8: 1238 | L8: 1351 | M8: 1379 | N8: 2730
B9: 6 | C9: 大門六番町 | D9: 398 | E9: 404 | F9: 433 | G9: 837 | H9: 計 | K9: 4417 | L9: 4662 | M9: 4617 | N9: 9279
A10: 門 | B10: 7 | C10: 大門七番町 | D10: 274 | E10: 255 | F10: 263 | G10: 518 | I10: 60 | J10: 上組 | K10: 184 | L10: 254 | M10: 239 | N10: 493
B11: 8 | C11: 大門八番町 | D11: 209 | E11: 172 | F11: 195 | G11: 367 | H11: 洗 | I11: 61 | J11: 元町 | K11: 152 | L11: 180 | M11: 181 | N11: 361
B12: 9 | C12: 大門七区 | D12: 2030 | E12: 2235 | F12: 2182 | G12: 4417 | I12: 62 | J12: 芦ノ田 | K12: 323 | L12: 394 | M12: 400 | N12: 794
B13: 13 | C13: 大門田川町 | D13: 224 | E13: 244 | F13: 263 | G13: 507 | I13: 63 | J13: 太田 | K13: 519 | L13: 643 | M13: 660 | N13: 1303
A14: 計 | D14: 4786 | E14: 5067 | F14: 5125 | G14: 10192 | H14: 馬 | I14: 64 | J14: 岩垂 | K14: 234 | L14: 312 | M14: 296 | N14: 608
B15: 20 | C15: 東山 | D15: 106 | E15: 119 | F15: 114 | G15: 233 | I15: 65 | J15: 下小曽部 | K15: 277 | L15: 325 | M15: 352 | N15: 677
B16: 21 | C16: 柿沢 | D16: 160 | E16: 188 | F16: 196 | G16: 384 | I16: 66 | J16: 上小曽部 | K16: 132 | L16: 132 | M16: 143 | N16: 275
B17: 22 | C17: 金井 | D17: 81 | E17: 108 | F17: 93 | G17: 201 | H17: 計 | K17: 1821 | L17: 2240 | M17: 2271 | N17: 4511
A18: 塩 | B18: 23 | C18: 上西条 | D18: 215 | E18: 269 | F18: 284 | G18: 553 | I18: 70 | J18: 桔梗ケ原 | K18: 845 | L18: 862 | M18: 892 | N18: 1754
B19: 24 | C19: 中西条 | D19: 81 | E19: 102 | F19: 120 | G19: 222 | I19: 72 | J19: 平出 | K19: 311 | L19: 423 | M19: 389 | N19: 812
A20: 尻 | B20: 25 | C20: 下西条 | D20: 216 | E20: 256 | F20: 270 | G20: 526 | H20: 宗 | I20: 73 | J20: 床尾 | K20: 243 | L20: 262 | M20: 288 | N20: 550
B21: 26 | C21: 堀ノ内 | D21: 385 | E21: 447 | F21: 474 | G21: 921 | I21: 74 | J21: 洗馬 | K21: 266 | L21: 324 | M21: 365 | N21: 689
A22: 東 | B22: 27 | C22: 長畝 | D22: 161 | E22: 191 | F22: 211 | G22: 402 | I22: 75 | J22: 牧野 | K22: 343 | L22: 389 | M22: 414 | N22: 803
B23: 28 | C23: 桟敷 | D23: 223 | E23: 233 | F23: 240 | G23: 473 | H23: 賀 | I23: 76 | J23: 本山 | K23: 155 | L23: 175 | M23: 175 | N23: 350
B24: 29 | C24: 町区 | D24: 983 | E24: 1189 | F24: 1173 | G24: 2362 | I24: 77 | J24: 日出塩 | K24: 46 | L24: 54 | M24: 58 | N24: 112
B25: 30 | C25: 松原 | D25: 55 | E25: 29 | F25: 46 | G25: 75 | I25: 78 | J25: 小井戸 | K25: 58 | L25: 36 | M25: 52 | N25: 88
B26: 31 | C26: みどり湖 | D26: 142 | E26: 149 | F26: 149 | G26: 298 | H26: 計 | K26: 2267 | L26: 2525 | M26: 2633 | N26: 5158
B27: 32 | C27: 峰原 | D27: 234 | E27: 285 | F27: 297 | G27: 582 | I27: 80 | J27: 古町 | K27: 152 | L27: 174 | M27: 179 | N27: 353
A28: 計 | D28: 3042 | E28: 3565 | F28: 3667 | G28: 7232 | H28: 北 | I28: 81 | J28: 宮前 | K28: 85 | L28: 106 | M28: 95 | N28: 201
B29: 35 | C29: 高出一区 | D29: 425 | E29: 491 | F29: 463 | G29: 954 | H29: 小 | I29: 82 | J29: 大出 | K29: 213 | L29: 245 | M29: 265 | N29: 510
A30: 高 | B30: 36 | C30: 高出二区 | D30: 838 | E30: 907 | F30: 848 | G30: 1755 | H30: 野 | I30: 83 | J30: 上田 | K30: 107 | L30: 110 | M30: 117 | N30: 227
B31: 37 | C31: 高出三区 | D31: 892 | E31: 994 | F31: 1001 | G31: 1995 | I31: 84 | J31: 勝弦 | K31: 202 | L31: 207 | M31: 184 | N31: 391
A32: 出 | B32: 38 | C32: 高出四区 | D32: 825 | E32: 883 | F32: 903 | G32: 1786 | H32: 計 | K32: 759 | L32: 842 | M32: 840 | N32: 1682
B33: 39 | C33: 高出五区 | D33: 650 | E33: 690 | F33: 623 | G33: 1313 | H33: 楢 川 | I33: 90 | J33: 贄川 | K33: 238 | L33: 249 | M33: 256 | N33: 505
A34: 計 | D34: 3630 | E34: 3965 | F34: 3838 | G34: 7803 | I34: 91 | J34: 木曽平沢 | K34: 417 | L34: 408 | M34: 442 | N34: 850
B35: 40 | C35: 南内田 | D35: 485 | E35: 538 | F35: 547 | G35: 1085 | I35: 92 | J35: 奈良井 | K35: 268 | L35: 261 | M35: 277 | N35: 538
A36: 片 | B36: 41 | C36: 北熊井 | D36: 481 | E36: 632 | F36: 631 | G36: 1263 | H36: 計 | K36: 923 | L36: 918 | M36: 975 | N36: 1893
B37: 42 | C37: 南熊井 | D37: 217 | E37: 241 | F37: 245 | G37: 486
A38: 丘 | B38: 43 | C38: 中挾 | D38: 33 | E38: 43 | F38: 41 | G38: 84
B39: 44 | C39: 君石 | D39: 138 | E39: 89 | F39: 134 | G39: 223 | K39: 世帯数 | L39: 男 | M39: 女 | N39: 計 | O39: （住民基本台帳合計） | P39: 世帯数 | Q39: 男 | R39: 女 | S39: 計
B40: 45 | C40: 内田原 | D40: 153 | E40: 174 | F40: 199 | G40: 373 | H40: 住民基本台帳合計 | K40: =D14+D28+D34+D41+D46+K9+K17+K26+K32+K36 -> 29689 | L40: =E14+E28+E34+E41+E46+L9+L17+L26+L32+L36 -> 32375 | M40: =F14+F28+F34+F41+F46+M9+M17+M26+M32+M36 -> 32339 | N40: =L40+M40 -> 64714 | O40: 前年同月数値 | P40: ='R7.9'!K40 -> 29371 | Q40: ='R7.9'!L40 -> 32525 | R40: ='R7.9'!M40 -> 32437 | S40: ='R7.9'!N40 -> 64962
A41: 計 | D41: 1507 | E41: 1717 | F41: 1797 | G41: 3514 | H41: 前月数値 | K41: ='R8.8'!K40 -> 29705 | L41: ='R8.8'!L40 -> 32402 | M41: ='R8.8'!M40 -> 32348 | N41: ='R8.8'!N40 -> 64750 | O41: 前年同月比較 | P41: =K40-P40 -> 318 | Q41: =L40-Q40 -> -150 | R41: =M40-R40 -> -98 | S41: =N40-S40 -> -248
B42: 50 | C42: 原新田 | D42: 1940 | E42: 1982 | F42: 1961 | G42: 3943 | H42: 前月比較 | K42: =K40-K41 -> -16 | L42: =L40-L41 -> -27 | M42: =M40-M41 -> -9 | N42: =N40-N41 -> -36 | O42: （内外国人住民数） | P42: 世帯数 | Q42: 男 | R42: 女 | S42: 計
A43: 広 | B43: 51 | C43: 堅石 | D43: 1060 | E43: 1251 | F43: 1262 | G43: 2513 | H43: （内外国人住民数） | K43: 1288 | L43: 756 | M43: 824 | N43: 1580 | O43: 前年同月数値 | P43: ='R7.9'!K43 -> 1242 | Q43: ='R7.9'!L43 -> 759 | R43: ='R7.9'!M43 -> 753 | S43: ='R7.9'!N43 -> 1512
B44: 52 | C44: 郷原 | D44: 663 | E44: 724 | F44: 704 | G44: 1428 | H44: （前月数値） | K44: ='R8.8'!K43 -> 1289 | L44: ='R8.8'!L43 -> 767 | M44: ='R8.8'!M43 -> 815 | N44: ='R8.8'!N43 -> 1582 | O44: 前年同月比較 | P44: =K43-P43 -> 46 | Q44: =L43-Q43 -> -3 | R44: =M43-R43 -> 71 | S44: =N43-S43 -> 68
A45: 丘 | B45: 54 | C45: 野村 | D45: 2874 | E45: 2917 | F45: 2649 | G45: 5566 | H45: （前月比較） | K45: =K43-K44 -> -1 | L45: =L43-L44 -> -11 | M45: =M43-M44 -> 9 | N45: =N43-N44 -> -2
A46: 計 | D46: 6537 | E46: 6874 | F46: 6576 | G46: 13450

Sheet R8.8
A1: 区別住民基本台帳世帯人口一覧表
L2: 46235
A3: 地区 | B3: ＮＯ | C3: 区 | D3: 世帯数 | E3: 男 | F3: 女 | G3: 計 | H3: 地区 | I3: ＮＯ | J3: 区 | K3: 世帯数 | L3: 男 | M3: 女 | N3: 計
B4: 1 | C4: 大門一番町 | D4: 130 | E4: 114 | F4: 115 | G4: 229 | I4: 55 | J4: 吉田一区 | K4: 604 | L4: 633 | M4: 610 | N4: 1243
B5: 2 | C5: 大門二番町 | D5: 334 | E5: 363 | F5: 385 | G5: 748 | H5: 吉 | I5: 56 | J5: 吉田二区 | K5: 581 | L5: 560 | M5: 595 | N5: 1155
A6: 大 | B6: 3 | C6: 大門三番町 | D6: 363 | E6: 386 | F6: 390 | G6: 776 | I6: 57 | J6: 吉田三区 | K6: 1053 | L6: 1101 | M6: 1092 | N6: 2193
B7: 4 | C7: 大門四番町 | D7: 214 | E7: 220 | F7: 259 | G7: 479 | H7: 田 | I7: 58 | J7: 吉田四区 | K7: 946 | L7: 1023 | M7: 946 | N7: 1969
B8: 5 | C8: 大門五番町 | D8: 614 | E8: 681 | F8: 643 | G8: 1324 | I8: 59 | J8: 吉田五区 | K8: 1237 | L8: 1349 | M8: 1379 | N8: 2728
B9: 6 | C9: 大門六番町 | D9: 400 | E9: 406 | F9: 433 | G9: 839 | H9: 計 | K9: 4421 | L9: 4666 | M9: 4622 | N9: 9288
A10: 門 | B10: 7 | C10: 大門七番町 | D10: 275 | E10: 255 | F10: 263 | G10: 518 | I10: 60 | J10: 上組 | K10: 184 | L10: 254 | M10: 239 | N10: 493
B11: 8 | C11: 大門八番町 | D11: 209 | E11: 172 | F11: 198 | G11: 370 | H11: 洗 | I11: 61 | J11: 元町 | K11: 154 | L11: 180 | M11: 185 | N11: 365
B12: 9 | C12: 大門七区 | D12: 2027 | E12: 2227 | F12: 2182 | G12: 4409 | I12: 62 | J12: 芦ノ田 | K12: 322 | L12: 393 | M12: 400 | N12: 793
B13: 13 | C13: 大門田川町 | D13: 224 | E13: 244 | F13: 264 | G13: 508 | I13: 63 | J13: 太田 | K13: 518 | L13: 641 | M13: 655 | N13: 1296
A14: 計 | D14: 4790 | E14: 5068 | F14: 5132 | G14: 10200 | H14: 馬 | I14: 64 | J14: 岩垂 | K14: 234 | L14: 313 | M14: 295 | N14: 608
B15: 20 | C15: 東山 | D15: 104 | E15: 118 | F15: 113 | G15: 231 | I15: 65 | J15: 下小曽部 | K15: 277 | L15: 328 | M15: 351 | N15: 679
B16: 21 | C16: 柿沢 | D16: 160 | E16: 187 | F16: 195 | G16: 382 | I16: 66 | J16: 上小曽部 | K16: 134 | L16: 135 | M16: 143 | N16: 278
B17: 22 | C17: 金井 | D17: 81 | E17: 109 | F17: 93 | G17: 202 | H17: 計 | K17: 1823 | L17: 2244 | M17: 2268 | N17: 4512
A18: 塩 | B18: 23 | C18: 上西条 | D18: 215 | E18: 271 | F18: 284 | G18: 555 | I18: 70 | J18: 桔梗ケ原 | K18: 843 | L18: 863 | M18: 888 | N18: 1751
B19: 24 | C19: 中西条 | D19: 80 | E19: 102 | F19: 117 | G19: 219 | I19: 72 | J19: 平出 | K19: 311 | L19: 423 | M19: 391 | N19: 814
A20: 尻 | B20: 25 | C20: 下西条 | D20: 215 | E20: 256 | F20: 268 | G20: 524 | H20: 宗 | I20: 73 | J20: 床尾 | K20: 241 | L20: 260 | M20: 287 | N20: 547
B21: 26 | C21: 堀ノ内 | D21: 383 | E21: 446 | F21: 469 | G21: 915 | I21: 74 | J21: 洗馬 | K21: 268 | L21: 324 | M21: 367 | N21: 691
A22: 東 | B22: 27 | C22: 長畝 | D22: 160 | E22: 191 | F22: 211 | G22: 402 | I22: 75 | J22: 牧野 | K22: 343 | L22: 391 | M22: 413 | N22: 804
B23: 28 | C23: 桟敷 | D23: 222 | E23: 232 | F23: 240 | G23: 472 | H23: 賀 | I23: 76 | J23: 本山 | K23: 155 | L23: 175 | M23: 177 | N23: 352
B24: 29 | C24: 町区 | D24: 987 | E24: 1195 | F24: 1174 | G24: 2369 | I24: 77 | J24: 日出塩 | K24: 46 | L24: 55 | M24: 58 | N24: 113
B25: 30 | C25: 松原 | D25: 56 | E25: 29 | F25: 47 | G25: 76 | I25: 78 | J25: 小井戸 | K25: 59 | L25: 37 | M25: 53 | N25: 90
B26: 31 | C26: みどり湖 | D26: 142 | E26: 148 | F26: 149 | G26: 297 | H26: 計 | K26: 2266 | L26: 2528 | M26: 2634 | N26: 5162
B27: 32 | C27: 峰原 | D27: 233 | E27: 284 | F27: 296 | G27: 580 | I27: 80 | J27: 古町 | K27: 153 | L27: 175 | M27: 179 | N27: 354
A28: 計 | D28: 3038 | E28: 3568 | F28: 3656 | G28: 7224 | H28: 北 | I28: 81 | J28: 宮前 | K28: 85 | L28: 106 | M28: 96 | N28: 202
B29: 35 | C29: 高出一区 | D29: 422 | E29: 490 | F29: 461 | G29: 951 | H29: 小 | I29: 82 | J29: 大出 | K29: 214 | L29: 244 | M29: 267 | N29: 511
A30: 高 | B30: 36 | C30: 高出二区 | D30: 831 | E30: 902 | F30: 845 | G30: 1747 | H30: 野 | I30: 83 | J30: 上田 | K30: 107 | L30: 112 | M30: 118 | N30: 230
B31: 37 | C31: 高出三区 | D31: 893 | E31: 991 | F31: 997 | G31: 1988 | I31: 84 | J31: 勝弦 | K31: 202 | L31: 207 | M31: 185 | N31: 392
A32: 出 | B32: 38 | C32: 高出四区 | D32: 830 | E32: 884 | F32: 905 | G32: 1789 | H32: 計 | K32: 761 | L32: 844 | M32: 845 | N32: 1689
B33: 39 | C33: 高出五区 | D33: 649 | E33: 694 | F33: 618 | G33: 1312 | H33: 楢 川 | I33: 90 | J33: 贄川 | K33: 238 | L33: 250 | M33: 255 | N33: 505
A34: 計 | D34: 3625 | E34: 3961 | F34: 3826 | G34: 7787 | I34: 91 | J34: 木曽平沢 | K34: 420 | L34: 407 | M34: 447 | N34: 854
B35: 40 | C35: 南内田 | D35: 489 | E35: 542 | F35: 549 | G35: 1091 | I35: 92 | J35: 奈良井 | K35: 262 | L35: 260 | M35: 275 | N35: 535
A36: 片 | B36: 41 | C36: 北熊井 | D36: 481 | E36: 634 | F36: 633 | G36: 1267 | H36: 計 | K36: 920 | L36: 917 | M36: 977 | N36: 1894
B37: 42 | C37: 南熊井 | D37: 217 | E37: 242 | F37: 245 | G37: 487
A38: 丘 | B38: 43 | C38: 中挾 | D38: 34 | E38: 43 | F38: 44 | G38: 87
B39: 44 | C39: 君石 | D39: 140 | E39: 91 | F39: 137 | G39: 228 | K39: 世帯数 | L39: 男 | M39: 女 | N39: 計 | O39: （住民基本台帳合計） | P39: 世帯数 | Q39: 男 | R39: 女 | S39: 計
B40: 45 | C40: 内田原 | D40: 154 | E40: 175 | F40: 200 | G40: 375 | H40: 住民基本台帳合計 | K40: =D14+D28+D34+D41+D46+K9+K17+K26+K32+K36 -> 29705 | L40: =E14+E28+E34+E41+E46+L9+L17+L26+L32+L36 -> 32402 | M40: =F14+F28+F34+F41+F46+M9+M17+M26+M32+M36 -> 32348 | N40: =L40+M40 -> 64750 | O40: 前年同月数値 | P40: ='R7.8'!K40 -> 29328 | Q40: ='R7.8'!L40 -> 32526 | R40: ='R7.8'!M40 -> 32428 | S40: ='R7.8'!N40 -> 64954
A41: 計 | D41: 1515 | E41: 1727 | F41: 1808 | G41: 3535 | H41: 前月数値 | K41: ='R8.7'!K40 -> 29694 | L41: ='R8.7'!L40 -> 32399 | M41: ='R8.7'!M40 -> 32357 | N41: ='R8.7'!N40 -> 64756 | O41: 前年同月比較 | P41: =K40-P40 -> 377 | Q41: =L40-Q40 -> -124 | R41: =M40-R40 -> -80 | S41: =N40-S40 -> -204
B42: 50 | C42: 原新田 | D42: 1939 | E42: 1980 | F42: 1959 | G42: 3939 | H42: 前月比較 | K42: =K40-K41 -> 11 | L42: =L40-L41 -> 3 | M42: =M40-M41 -> -9 | N42: =N40-N41 -> -6 | O42: （内外国人住民数） | P42: 世帯数 | Q42: 男 | R42: 女 | S42: 計
A43: 広 | B43: 51 | C43: 堅石 | D43: 1057 | E43: 1254 | F43: 1263 | G43: 2517 | H43: （内外国人住民数） | K43: 1289 | L43: 767 | M43: 815 | N43: =L43+M43 -> 1582 | O43: 前年同月数値 | P43: ='R7.8'!K43 -> 1231 | Q43: ='R7.8'!L43 -> 749 | R43: ='R7.8'!M43 -> 745 | S43: ='R7.8'!N43 -> 1494
B44: 52 | C44: 郷原 | D44: 671 | E44: 728 | F44: 708 | G44: 1436 | H44: （前月数値） | K44: ='R8.7'!K43 -> 1290 | L44: ='R8.7'!L43 -> 769 | M44: ='R8.7'!M43 -> 814 | N44: ='R8.7'!N43 -> 1583 | O44: 前年同月比較 | P44: =K43-P43 -> 58 | Q44: =L43-Q43 -> 18 | R44: =M43-R43 -> 70 | S44: =N43-S43 -> 88
A45: 丘 | B45: 54 | C45: 野村 | D45: 2879 | E45: 2917 | F45: 2650 | G45: 5567 | H45: （前月比較） | K45: =K43-K44 -> -1 | L45: =L43-L44 -> -2 | M45: =M43-M44 -> 1 | N45: =N43-N44 -> -1
A46: 計 | D46: 6546 | E46: 6879 | F46: 6580 | G46: 13459

Sheet R8.7
A1: 区別住民基本台帳世帯人口一覧表
L2: 46204
A3: 地区 | B3: ＮＯ | C3: 区 | D3: 世帯数 | E3: 男 | F3: 女 | G3: 計 | H3: 地区 | I3: ＮＯ | J3: 区 | K3: 世帯数 | L3: 男 | M3: 女 | N3: 計
B4: 1 | C4: 大門一番町 | D4: 127 | E4: 111 | F4: 115 | G4: 226 | I4: 55 | J4: 吉田一区 | K4: 601 | L4: 625 | M4: 609 | N4: 1234
B5: 2 | C5: 大門二番町 | D5: 336 | E5: 364 | F5: 382 | G5: 746 | H5: 吉 | I5: 56 | J5: 吉田二区 | K5: 584 | L5: 565 | M5: 598 | N5: 1163
A6: 大 | B6: 3 | C6: 大門三番町 | D6: 357 | E6: 384 | F6: 392 | G6: 776 | I6: 57 | J6: 吉田三区 | K6: 1054 | L6: 1095 | M6: 1094 | N6: 2189
B7: 4 | C7: 大門四番町 | D7: 212 | E7: 219 | F7: 256 | G7: 475 | H7: 田 | I7: 58 | J7: 吉田四区 | K7: 951 | L7: 1028 | M7: 948 | N7: 1976
B8: 5 | C8: 大門五番町 | D8: 611 | E8: 678 | F8: 645 | G8: 1323 | I8: 59 | J8: 吉田五区 | K8: 1238 | L8: 1344 | M8: 1380 | N8: 2724
B9: 6 | C9: 大門六番町 | D9: 403 | E9: 407 | F9: 437 | G9: 844 | H9: 計 | K9: 4428 | L9: 4657 | M9: 4629 | N9: 9286
A10: 門 | B10: 7 | C10: 大門七番町 | D10: 277 | E10: 257 | F10: 264 | G10: 521 | I10: 60 | J10: 上組 | K10: 183 | L10: 250 | M10: 237 | N10: 487
B11: 8 | C11: 大門八番町 | D11: 210 | E11: 171 | F11: 199 | G11: 370 | H11: 洗 | I11: 61 | J11: 元町 | K11: 152 | L11: 178 | M11: 183 | N11: 361
B12: 9 | C12: 大門七区 | D12: 2025 | E12: 2230 | F12: 2183 | G12: 4413 | I12: 62 | J12: 芦ノ田 | K12: 320 | L12: 392 | M12: 400 | N12: 792
B13: 13 | C13: 大門田川町 | D13: 223 | E13: 243 | F13: 262 | G13: 505 | I13: 63 | J13: 太田 | K13: 517 | L13: 641 | M13: 655 | N13: 1296
A14: 計 | D14: 4781 | E14: 5064 | F14: 5135 | G14: 10199 | H14: 馬 | I14: 64 | J14: 岩垂 | K14: 234 | L14: 312 | M14: 295 | N14: 607
B15: 20 | C15: 東山 | D15: 103 | E15: 117 | F15: 113 | G15: 230 | I15: 65 | J15: 下小曽部 | K15: 275 | L15: 327 | M15: 351 | N15: 678
B16: 21 | C16: 柿沢 | D16: 160 | E16: 187 | F16: 196 | G16: 383 | I16: 66 | J16: 上小曽部 | K16: 135 | L16: 136 | M16: 142 | N16: 278
B17: 22 | C17: 金井 | D17: 81 | E17: 109 | F17: 93 | G17: 202 | H17: 計 | K17: 1816 | L17: 2236 | M17: 2263 | N17: 4499
A18: 塩 | B18: 23 | C18: 上西条 | D18: 216 | E18: 272 | F18: 285 | G18: 557 | I18: 70 | J18: 桔梗ケ原 | K18: 847 | L18: 868 | M18: 889 | N18: 1757
B19: 24 | C19: 中西条 | D19: 81 | E19: 103 | F19: 117 | G19: 220 | I19: 72 | J19: 平出 | K19: 311 | L19: 424 | M19: 390 | N19: 814
A20: 尻 | B20: 25 | C20: 下西条 | D20: 213 | E20: 254 | F20: 269 | G20: 523 | H20: 宗 | I20: 73 | J20: 床尾 | K20: 241 | L20: 260 | M20: 287 | N20: 547
B21: 26 | C21: 堀ノ内 | D21: 384 | E21: 448 | F21: 470 | G21: 918 | I21: 74 | J21: 洗馬 | K21: 269 | L21: 327 | M21: 367 | N21: 694
A22: 東 | B22: 27 | C22: 長畝 | D22: 161 | E22: 192 | F22: 211 | G22: 403 | I22: 75 | J22: 牧野 | K22: 343 | L22: 391 | M22: 413 | N22: 804
B23: 28 | C23: 桟敷 | D23: 222 | E23: 233 | F23: 241 | G23: 474 | H23: 賀 | I23: 76 | J23: 本山 | K23: 157 | L23: 177 | M23: 181 | N23: 358
B24: 29 | C24: 町区 | D24: 984 | E24: 1192 | F24: 1176 | G24: 2368 | I24: 77 | J24: 日出塩 | K24: 46 | L24: 55 | M24: 58 | N24: 113
B25: 30 | C25: 松原 | D25: 56 | E25: 29 | F25: 47 | G25: 76 | I25: 78 | J25: 小井戸 | K25: 59 | L25: 37 | M25: 53 | N25: 90
B26: 31 | C26: みどり湖 | D26: 141 | E26: 148 | F26: 149 | G26: 297 | H26: 計 | K26: 2273 | L26: 2539 | M26: 2638 | N26: 5177
B27: 32 | C27: 峰原 | D27: 232 | E27: 284 | F27: 294 | G27: 578 | I27: 80 | J27: 古町 | K27: 152 | L27: 174 | M27: 179 | N27: 353
A28: 計 | D28: 3034 | E28: 3568 | F28: 3661 | G28: 7229 | H28: 北 | I28: 81 | J28: 宮前 | K28: 85 | L28: 106 | M28: 96 | N28: 202
B29: 35 | C29: 高出一区 | D29: 422 | E29: 491 | F29: 461 | G29: 952 | H29: 小 | I29: 82 | J29: 大出 | K29: 213 | L29: 244 | M29: 266 | N29: 510
A30: 高 | B30: 36 | C30: 高出二区 | D30: 834 | E30: 907 | F30: 846 | G30: 1753 | H30: 野 | I30: 83 | J30: 上田 | K30: 108 | L30: 114 | M30: 118 | N30: 232
B31: 37 | C31: 高出三区 | D31: 892 | E31: 991 | F31: 994 | G31: 1985 | I31: 84 | J31: 勝弦 | K31: 202 | L31: 208 | M31: 185 | N31: 393
A32: 出 | B32: 38 | C32: 高出四区 | D32: 831 | E32: 887 | F32: 907 | G32: 1794 | H32: 計 | K32: 760 | L32: 846 | M32: 844 | N32: 1690
B33: 39 | C33: 高出五区 | D33: 643 | E33: 687 | F33: 614 | G33: 1301 | H33: 楢 川 | I33: 90 | J33: 贄川 | K33: 238 | L33: 251 | M33: 254 | N33: 505
A34: 計 | D34: 3622 | E34: 3963 | F34: 3822 | G34: 7785 | I34: 91 | J34: 木曽平沢 | K34: 417 | L34: 408 | M34: 449 | N34: 857
B35: 40 | C35: 南内田 | D35: 489 | E35: 544 | F35: 549 | G35: 1093 | I35: 92 | J35: 奈良井 | K35: 262 | L35: 258 | M35: 279 | N35: 537
A36: 片 | B36: 41 | C36: 北熊井 | D36: 480 | E36: 634 | F36: 633 | G36: 1267 | H36: 計 | K36: 917 | L36: 917 | M36: 982 | N36: 1899
B37: 42 | C37: 南熊井 | D37: 217 | E37: 242 | F37: 244 | G37: 486
A38: 丘 | B38: 43 | C38: 中挾 | D38: 35 | E38: 43 | F38: 45 | G38: 88
B39: 44 | C39: 君石 | D39: 139 | E39: 91 | F39: 136 | G39: 227 | K39: 世帯数 | L39: 男 | M39: 女 | N39: 計 | O39: （住民基本台帳合計） | P39: 世帯数 | Q39: 男 | R39: 女 | S39: 計
B40: 45 | C40: 内田原 | D40: 153 | E40: 176 | F40: 202 | G40: 378 | H40: 住民基本台帳合計 | K40: =D14+D28+D34+D41+D46+K9+K17+K26+K32+K36 -> 29694 | L40: =E14+E28+E34+E41+E46+L9+L17+L26+L32+L36 -> 32399 | M40: =F14+F28+F34+F41+F46+M9+M17+M26+M32+M36 -> 32357 | N40: =L40+M40 -> 64756 | O40: 前年同月数値 | P40: ='R7.7'!K40 -> 29314 | Q40: ='R7.7'!L40 -> 32551 | R40: ='R7.7'!M40 -> 32407 | S40: ='R7.7'!N40 -> 64958
A41: 計 | D41: 1513 | E41: 1730 | F41: 1809 | G41: 3539 | H41: 前月数値 | K41: ='R8.6'!K40 -> 29667 | L41: ='R8.6'!L40 -> 32403 | M41: ='R8.6'!M40 -> 32342 | N41: ='R8.6'!N40 -> 64745 | O41: 前年同月比較 | P41: =K40-P40 -> 380 | Q41: =L40-Q40 -> -152 | R41: =M40-R40 -> -50 | S41: =N40-S40 -> -202
B42: 50 | C42: 原新田 | D42: 1931 | E42: 1973 | F42: 1950 | G42: 3923 | H42: 前月比較 | K42: =K40-K41 -> 27 | L42: =L40-L41 -> -4 | M42: =M40-M41 -> 15 | N42: =N40-N41 -> 11 | O42: （内外国人住民数） | P42: 世帯数 | Q42: 男 | R42: 女 | S42: 計
A43: 広 | B43: 51 | C43: 堅石 | D43: 1059 | E43: 1254 | F43: 1262 | G43: 2516 | H43: （内外国人住民数） | K43: 1290 | L43: 769 | M43: 814 | N43: 1583 | O43: 前年同月数値 | P43: ='R7.7'!K43 -> 1226 | Q43: ='R7.7'!L43 -> 751 | R43: ='R7.7'!M43 -> 734 | S43: ='R7.7'!N43 -> 1485
B44: 52 | C44: 郷原 | D44: 677 | E44: 733 | F44: 709 | G44: 1442 | H44: （前月数値） | K44: ='R8.6'!K43 -> 1272 | L44: ='R8.6'!L43 -> 747 | M44: ='R8.6'!M43 -> 802 | N44: ='R8.6'!N43 -> 1549 | O44: 前年同月比較 | P44: =K43-P43 -> 64 | Q44: =L43-Q43 -> 18 | R44: =M43-R43 -> 80 | S44: =N43-S43 -> 98
A45: 丘 | B45: 54 | C45: 野村 | D45: 2883 | E45: 2919 | F45: 2653 | G45: 5572 | H45: （前月比較） | K45: =K43-K44 -> 18 | L45: =L43-L44 -> 22 | M45: =M43-M44 -> 12 | N45: =N43-N44 -> 34
A46: 計 | D46: 6550 | E46: 6879 | F46: 6574 | G46: 13453

Sheet R8.6
A1: 区別住民基本台帳世帯人口一覧表
L2: 46174
A3: 地区 | B3: ＮＯ | C3: 区 | D3: 世帯数 | E3: 男 | F3: 女 | G3: 計 | H3: 地区 | I3: ＮＯ | J3: 区 | K3: 世帯数 | L3: 男 | M3: 女 | N3: 計
B4: 1 | C4: 大門一番町 | D4: 128 | E4: 113 | F4: 114 | G4: 227 | I4: 55 | J4: 吉田一区 | K4: 600 | L4: 626 | M4: 606 | N4: 1232
B5: 2 | C5: 大門二番町 | D5: 342 | E5: 367 | F5: 384 | G5: 751 | H5: 吉 | I5: 56 | J5: 吉田二区 | K5: 581 | L5: 563 | M5: 600 | N5: 1163
A6: 大 | B6: 3 | C6: 大門三番町 | D6: 356 | E6: 382 | F6: 391 | G6: 773 | I6: 57 | J6: 吉田三区 | K6: 1054 | L6: 1095 | M6: 1094 | N6: 2189
B7: 4 | C7: 大門四番町 | D7: 213 | E7: 220 | F7: 256 | G7: 476 | H7: 田 | I7: 58 | J7: 吉田四区 | K7: 945 | L7: 1023 | M7: 948 | N7: 1971
B8: 5 | C8: 大門五番町 | D8: 611 | E8: 680 | F8: 641 | G8: 1321 | I8: 59 | J8: 吉田五区 | K8: 1233 | L8: 1343 | M8: 1376 | N8: 2719
B9: 6 | C9: 大門六番町 | D9: 400 | E9: 406 | F9: 436 | G9: 842 | H9: 計 | K9: 4413 | L9: 4650 | M9: 4624 | N9: 9274
A10: 門 | B10: 7 | C10: 大門七番町 | D10: 277 | E10: 256 | F10: 263 | G10: 519 | I10: 60 | J10: 上組 | K10: 182 | L10: 250 | M10: 236 | N10: 486
B11: 8 | C11: 大門八番町 | D11: 211 | E11: 170 | F11: 198 | G11: 368 | H11: 洗 | I11: 61 | J11: 元町 | K11: 151 | L11: 178 | M11: 182 | N11: 360
B12: 9 | C12: 大門七区 | D12: 2020 | E12: 2222 | F12: 2169 | G12: 4391 | I12: 62 | J12: 芦ノ田 | K12: 321 | L12: 394 | M12: 400 | N12: 794
B13: 13 | C13: 大門田川町 | D13: 222 | E13: 244 | F13: 262 | G13: 506 | I13: 63 | J13: 太田 | K13: 518 | L13: 643 | M13: 655 | N13: 1298
A14: 計 | D14: 4780 | E14: 5060 | F14: 5114 | G14: 10174 | H14: 馬 | I14: 64 | J14: 岩垂 | K14: 235 | L14: 313 | M14: 297 | N14: 610
B15: 20 | C15: 東山 | D15: 102 | E15: 116 | F15: 114 | G15: 230 | I15: 65 | J15: 下小曽部 | K15: 274 | L15: 329 | M15: 351 | N15: 680
B16: 21 | C16: 柿沢 | D16: 160 | E16: 186 | F16: 197 | G16: 383 | I16: 66 | J16: 上小曽部 | K16: 135 | L16: 136 | M16: 142 | N16: 278
B17: 22 | C17: 金井 | D17: 81 | E17: 109 | F17: 93 | G17: 202 | H17: 計 | K17: 1816 | L17: 2243 | M17: 2263 | N17: 4506
A18: 塩 | B18: 23 | C18: 上西条 | D18: 216 | E18: 272 | F18: 285 | G18: 557 | I18: 70 | J18: 桔梗ケ原 | K18: 850 | L18: 870 | M18: 888 | N18: 1758
B19: 24 | C19: 中西条 | D19: 81 | E19: 103 | F19: 118 | G19: 221 | I19: 72 | J19: 平出 | K19: 314 | L19: 427 | M19: 393 | N19: 820
A20: 尻 | B20: 25 | C20: 下西条 | D20: 210 | E20: 253 | F20: 266 | G20: 519 | H20: 宗 | I20: 73 | J20: 床尾 | K20: 241 | L20: 260 | M20: 287 | N20: 547
B21: 26 | C21: 堀ノ内 | D21: 383 | E21: 445 | F21: 469 | G21: 914 | I21: 74 | J21: 洗馬 | K21: 268 | L21: 328 | M21: 367 | N21: 695
A22: 東 | B22: 27 | C22: 長畝 | D22: 161 | E22: 192 | F22: 211 | G22: 403 | I22: 75 | J22: 牧野 | K22: 343 | L22: 391 | M22: 414 | N22: 805
B23: 28 | C23: 桟敷 | D23: 224 | E23: 234 | F23: 243 | G23: 477 | H23: 賀 | I23: 76 | J23: 本山 | K23: 156 | L23: 178 | M23: 178 | N23: 356
B24: 29 | C24: 町区 | D24: 974 | E24: 1189 | F24: 1174 | G24: 2363 | I24: 77 | J24: 日出塩 | K24: 45 | L24: 55 | M24: 57 | N24: 112
B25: 30 | C25: 松原 | D25: 57 | E25: 29 | F25: 48 | G25: 77 | I25: 78 | J25: 小井戸 | K25: 59 | L25: 37 | M25: 53 | N25: 90
B26: 31 | C26: みどり湖 | D26: 140 | E26: 148 | F26: 149 | G26: 297 | H26: 計 | K26: 2276 | L26: 2546 | M26: 2637 | N26: 5183
B27: 32 | C27: 峰原 | D27: 233 | E27: 286 | F27: 295 | G27: 581 | I27: 80 | J27: 古町 | K27: 151 | L27: 173 | M27: 179 | N27: 352
A28: 計 | D28: 3022 | E28: 3562 | F28: 3662 | G28: 7224 | H28: 北 | I28: 81 | J28: 宮前 | K28: 88 | L28: 109 | M28: 97 | N28: 206
B29: 35 | C29: 高出一区 | D29: 425 | E29: 494 | F29: 461 | G29: 955 | H29: 小 | I29: 82 | J29: 大出 | K29: 215 | L29: 244 | M29: 267 | N29: 511
A30: 高 | B30: 36 | C30: 高出二区 | D30: 828 | E30: 896 | F30: 846 | G30: 1742 | H30: 野 | I30: 83 | J30: 上田 | K30: 109 | L30: 115 | M30: 119 | N30: 234
B31: 37 | C31: 高出三区 | D31: 896 | E31: 996 | F31: 993 | G31: 1989 | I31: 84 | J31: 勝弦 | K31: 203 | L31: 209 | M31: 185 | N31: 394
A32: 出 | B32: 38 | C32: 高出四区 | D32: 829 | E32: 889 | F32: 905 | G32: 1794 | H32: 計 | K32: 766 | L32: 850 | M32: 847 | N32: 1697
B33: 39 | C33: 高出五区 | D33: 642 | E33: 687 | F33: 614 | G33: 1301 | H33: 楢 川 | I33: 90 | J33: 贄川 | K33: 239 | L33: 253 | M33: 257 | N33: 510
A34: 計 | D34: 3620 | E34: 3962 | F34: 3819 | G34: 7781 | I34: 91 | J34: 木曽平沢 | K34: 417 | L34: 410 | M34: 449 | N34: 859
B35: 40 | C35: 南内田 | D35: 489 | E35: 546 | F35: 549 | G35: 1095 | I35: 92 | J35: 奈良井 | K35: 265 | L35: 262 | M35: 280 | N35: 542
A36: 片 | B36: 41 | C36: 北熊井 | D36: 481 | E36: 638 | F36: 634 | G36: 1272 | H36: 計 | K36: 921 | L36: 925 | M36: 986 | N36: 1911
B37: 42 | C37: 南熊井 | D37: 217 | E37: 242 | F37: 245 | G37: 487
A38: 丘 | B38: 43 | C38: 中挾 | D38: 35 | E38: 43 | F38: 45 | G38: 88
B39: 44 | C39: 君石 | D39: 140 | E39: 91 | F39: 138 | G39: 229 | K39: 世帯数 | L39: 男 | M39: 女 | N39: 計 | O39: （住民基本台帳合計） | P39: 世帯数 | Q39: 男 | R39: 女 | S39: 計
B40: 45 | C40: 内田原 | D40: 152 | E40: 175 | F40: 202 | G40: 377 | H40: 住民基本台帳合計 | K40: =D14+D28+D34+D41+D46+K9+K17+K26+K32+K36 -> 29667 | L40: =E14+E28+E34+E41+E46+L9+L17+L26+L32+L36 -> 32403 | M40: =F14+F28+F34+F41+F46+M9+M17+M26+M32+M36 -> 32342 | N40: =L40+M40 -> 64745 | O40: 前年同月数値 | P40: ='R7.6'!K40 -> 29274 | Q40: ='R7.6'!L40 -> 32559 | R40: ='R7.6'!M40 -> 32407 | S40: ='R7.6'!N40 -> 64966
A41: 計 | D41: 1514 | E41: 1735 | F41: 1813 | G41: 3548 | H41: 前月数値 | K41: ='R8.5'!K40 -> 29648 | L41: ='R8.5'!L40 -> 32409 | M41: ='R8.5'!M40 -> 32348 | N41: ='R8.5'!N40 -> 64757 | O41: 前年同月比較 | P41: =K40-P40 -> 393 | Q41: =L40-Q40 -> -156 | R41: =M40-R40 -> -65 | S41: =N40-S40 -> -221
B42: 50 | C42: 原新田 | D42: 1927 | E42: 1976 | F42: 1944 | G42: 3920 | H42: 前月比較 | K42: =K40-K41 -> 19 | L42: =L40-L41 -> -6 | M42: =M40-M41 -> -6 | N42: =N40-N41 -> -12 | O42: （内外国人住民数） | P42: 世帯数 | Q42: 男 | R42: 女 | S42: 計
A43: 広 | B43: 51 | C43: 堅石 | D43: 1060 | E43: 1248 | F43: 1263 | G43: 2511 | H43: （内外国人住民数） | K43: 1272 | L43: 747 | M43: 802 | N43: 1549 | O43: 前年同月数値 | P43: 1209 | Q43: 732 | R43: 733 | S43: 1465
B44: 52 | C44: 郷原 | D44: 676 | E44: 733 | F44: 709 | G44: 1442 | H44: （前月数値） | K44: 1271 | L44: 753 | M44: 795 | N44: 1548 | O44: 前年同月比較 | P44: =K43-P43 -> 63 | Q44: =L43-Q43 -> 15 | R44: =M43-R43 -> 69 | S44: =N43-S43 -> 84
A45: 丘 | B45: 54 | C45: 野村 | D45: 2876 | E45: 2913 | F45: 2661 | G45: 5574 | H45: （前月比較） | K45: =K43-K44 -> 1 | L45: =L43-L44 -> -6 | M45: =M43-M44 -> 7 | N45: =N43-N44 -> 1
A46: 計 | D46: 6539 | E46: 6870 | F46: 6577 | G46: 13447

Sheet R8.5
A1: 区別住民基本台帳世帯人口一覧表
L2: 46143
A3: 地区 | B3: ＮＯ | C3: 区 | D3: 世帯数 | E3: 男 | F3: 女 | G3: 計 | H3: 地区 | I3: ＮＯ | J3: 区 | K3: 世帯数 | L3: 男 | M3: 女 | N3: 計
B4: 1 | C4: 大門一番町 | D4: 127 | E4: 112 | F4: 115 | G4: 227 | I4: 55 | J4: 吉田一区 | K4: 603 | L4: 627 | M4: 613 | N4: 1240
B5: 2 | C5: 大門二番町 | D5: 334 | E5: 365 | F5: 382 | G5: 747 | H5: 吉 | I5: 56 | J5: 吉田二区 | K5: 578 | L5: 558 | M5: 602 | N5: 1160
A6: 大 | B6: 3 | C6: 大門三番町 | D6: 359 | E6: 388 | F6: 395 | G6: 783 | I6: 57 | J6: 吉田三区 | K6: 1053 | L6: 1093 | M6: 1087 | N6: 2180
B7: 4 | C7: 大門四番町 | D7: 212 | E7: 220 | F7: 256 | G7: 476 | H7: 田 | I7: 58 | J7: 吉田四区 | K7: 945 | L7: 1022 | M7: 947 | N7: 1969
B8: 5 | C8: 大門五番町 | D8: 607 | E8: 675 | F8: 638 | G8: 1313 | I8: 59 | J8: 吉田五区 | K8: 1228 | L8: 1340 | M8: 1372 | N8: 2712
B9: 6 | C9: 大門六番町 | D9: 401 | E9: 403 | F9: 435 | G9: 838 | H9: 計 | K9: 4407 | L9: 4640 | M9: 4621 | N9: 9261
A10: 門 | B10: 7 | C10: 大門七番町 | D10: 281 | E10: 260 | F10: 263 | G10: 523 | I10: 60 | J10: 上組 | K10: 182 | L10: 250 | M10: 236 | N10: 486
B11: 8 | C11: 大門八番町 | D11: 214 | E11: 171 | F11: 200 | G11: 371 | H11: 洗 | I11: 61 | J11: 元町 | K11: 152 | L11: 179 | M11: 182 | N11: 361
B12: 9 | C12: 大門七区 | D12: 2016 | E12: 2229 | F12: 2175 | G12: 4404 | I12: 62 | J12: 芦ノ田 | K12: 318 | L12: 390 | M12: 399 | N12: 789
B13: 13 | C13: 大門田川町 | D13: 222 | E13: 245 | F13: 260 | G13: 505 | I13: 63 | J13: 太田 | K13: 518 | L13: 643 | M13: 655 | N13: 1298
A14: 計 | D14: 4773 | E14: 5068 | F14: 5119 | G14: 10187 | H14: 馬 | I14: 64 | J14: 岩垂 | K14: 235 | L14: 314 | M14: 296 | N14: 610
B15: 20 | C15: 東山 | D15: 102 | E15: 116 | F15: 114 | G15: 230 | I15: 65 | J15: 下小曽部 | K15: 272 | L15: 329 | M15: 351 | N15: 680
B16: 21 | C16: 柿沢 | D16: 162 | E16: 189 | F16: 199 | G16: 388 | I16: 66 | J16: 上小曽部 | K16: 134 | L16: 135 | M16: 142 | N16: 277
B17: 22 | C17: 金井 | D17: 81 | E17: 109 | F17: 94 | G17: 203 | H17: 計 | K17: 1811 | L17: 2240 | M17: 2261 | N17: 4501
A18: 塩 | B18: 23 | C18: 上西条 | D18: 216 | E18: 273 | F18: 286 | G18: 559 | I18: 70 | J18: 桔梗ケ原 | K18: 850 | L18: 871 | M18: 884 | N18: 1755
B19: 24 | C19: 中西条 | D19: 81 | E19: 104 | F19: 118 | G19: 222 | I19: 72 | J19: 平出 | K19: 313 | L19: 426 | M19: 393 | N19: 819
A20: 尻 | B20: 25 | C20: 下西条 | D20: 211 | E20: 253 | F20: 267 | G20: 520 | H20: 宗 | I20: 73 | J20: 床尾 | K20: 240 | L20: 261 | M20: 285 | N20: 546
B21: 26 | C21: 堀ノ内 | D21: 383 | E21: 444 | F21: 470 | G21: 914 | I21: 74 | J21: 洗馬 | K21: 269 | L21: 332 | M21: 371 | N21: 703
A22: 東 | B22: 27 | C22: 長畝 | D22: 161 | E22: 193 | F22: 212 | G22: 405 | I22: 75 | J22: 牧野 | K22: 342 | L22: 391 | M22: 414 | N22: 805
B23: 28 | C23: 桟敷 | D23: 224 | E23: 234 | F23: 244 | G23: 478 | H23: 賀 | I23: 76 | J23: 本山 | K23: 156 | L23: 178 | M23: 178 | N23: 356
B24: 29 | C24: 町区 | D24: 973 | E24: 1188 | F24: 1172 | G24: 2360 | I24: 77 | J24: 日出塩 | K24: 45 | L24: 55 | M24: 56 | N24: 111
B25: 30 | C25: 松原 | D25: 57 | E25: 29 | F25: 48 | G25: 77 | I25: 78 | J25: 小井戸 | K25: 60 | L25: 37 | M25: 54 | N25: 91
B26: 31 | C26: みどり湖 | D26: 140 | E26: 149 | F26: 150 | G26: 299 | H26: 計 | K26: 2275 | L26: 2551 | M26: 2635 | N26: 5186
B27: 32 | C27: 峰原 | D27: 233 | E27: 286 | F27: 295 | G27: 581 | I27: 80 | J27: 古町 | K27: 150 | L27: 173 | M27: 178 | N27: 351
A28: 計 | D28: 3024 | E28: 3567 | F28: 3669 | G28: 7236 | H28: 北 | I28: 81 | J28: 宮前 | K28: 88 | L28: 108 | M28: 96 | N28: 204
B29: 35 | C29: 高出一区 | D29: 422 | E29: 490 | F29: 459 | G29: 949 | H29: 小 | I29: 82 | J29: 大出 | K29: 216 | L29: 246 | M29: 268 | N29: 514
A30: 高 | B30: 36 | C30: 高出二区 | D30: 821 | E30: 894 | F30: 840 | G30: 1734 | H30: 野 | I30: 83 | J30: 上田 | K30: 110 | L30: 115 | M30: 120 | N30: 235
B31: 37 | C31: 高出三区 | D31: 892 | E31: 994 | F31: 995 | G31: 1989 | I31: 84 | J31: 勝弦 | K31: 204 | L31: 210 | M31: 189 | N31: 399
A32: 出 | B32: 38 | C32: 高出四区 | D32: 828 | E32: 889 | F32: 906 | G32: 1795 | H32: 計 | K32: 768 | L32: 852 | M32: 851 | N32: 1703
B33: 39 | C33: 高出五区 | D33: 636 | E33: 684 | F33: 605 | G33: 1289 | H33: 楢 川 | I33: 90 | J33: 贄川 | K33: 240 | L33: 252 | M33: 258 | N33: 510
A34: 計 | D34: 3599 | E34: 3951 | F34: 3805 | G34: 7756 | I34: 91 | J34: 木曽平沢 | K34: 419 | L34: 410 | M34: 450 | N34: 860
B35: 40 | C35: 南内田 | D35: 489 | E35: 546 | F35: 549 | G35: 1095 | I35: 92 | J35: 奈良井 | K35: 264 | L35: 262 | M35: 280 | N35: 542
A36: 片 | B36: 41 | C36: 北熊井 | D36: 481 | E36: 636 | F36: 634 | G36: 1270 | H36: 計 | K36: 923 | L36: 924 | M36: 988 | N36: 1912
B37: 42 | C37: 南熊井 | D37: 216 | E37: 242 | F37: 246 | G37: 488
A38: 丘 | B38: 43 | C38: 中挾 | D38: 36 | E38: 44 | F38: 45 | G38: 89
B39: 44 | C39: 君石 | D39: 140 | E39: 91 | F39: 138 | G39: 229 | K39: 世帯数 | L39: 男 | M39: 女 | N39: 計 | O39: （住民基本台帳合計） | P39: 世帯数 | Q39: 男 | R39: 女 | S39: 計
B40: 45 | C40: 内田原 | D40: 152 | E40: 175 | F40: 202 | G40: 377 | H40: 住民基本台帳合計 | K40: =D14+D28+D34+D41+D46+K9+K17+K26+K32+K36 -> 29648 | L40: =E14+E28+E34+E41+E46+L9+L17+L26+L32+L36 -> 32409 | M40: =F14+F28+F34+F41+F46+M9+M17+M26+M32+M36 -> 32348 | N40: =L40+M40 -> 64757 | O40: 前年同月数値 | P40: ='R7.5'!K40 -> 29292 | Q40: ='R7.5'!L40 -> 32610 | R40: ='R7.5'!M40 -> 32425 | S40: ='R7.5'!N40 -> 65035
A41: 計 | D41: 1514 | E41: 1734 | F41: 1814 | G41: 3548 | H41: 前月数値 | K41: ='R8.4'!K40 -> 29586 | L41: ='R8.4'!L40 -> 32460 | M41: ='R8.4'!M40 -> 32334 | N41: ='R8.4'!N40 -> 64794 | O41: 前年同月比較 | P41: =K40-P40 -> 356 | Q41: =L40-Q40 -> -201 | R41: =M40-R40 -> -77 | S41: =N40-S40 -> -278
B42: 50 | C42: 原新田 | D42: 1930 | E42: 1976 | F42: 1955 | G42: 3931 | H42: 前月比較 | K42: =K40-K41 -> 62 | L42: =L40-L41 -> -51 | M42: =M40-M41 -> 14 | N42: =N40-N41 -> -37 | O42: （内外国人住民数） | P42: 世帯数 | Q42: 男 | R42: 女 | S42: 計
A43: 広 | B43: 51 | C43: 堅石 | D43: 1056 | E43: 1248 | F43: 1259 | G43: 2507 | H43: （内外国人住民数） | K43: 1271 | L43: 753 | M43: 795 | N43: 1548 | O43: 前年同月数値 | P43: 1217 | Q43: 742 | R43: 733 | S43: 1475
B44: 52 | C44: 郷原 | D44: 680 | E44: 733 | F44: 711 | G44: 1444 | H44: （前月数値） | K44: 1261 | L44: 762 | M44: 778 | N44: 1540 | O44: 前年同月比較 | P44: =K43-P43 -> 54 | Q44: =L43-Q43 -> 11 | R44: =M43-R43 -> 62 | S44: =N43-S43 -> 73
A45: 丘 | B45: 54 | C45: 野村 | D45: 2888 | E45: 2925 | F45: 2660 | G45: 5585 | H45: （前月比較） | K45: =K43-K44 -> 10 | L45: =L43-L44 -> -9 | M45: =M43-M44 -> 17 | N45: =N43-N44 -> 8
A46: 計 | D46: 6554 | E46: 6882 | F46: 6585 | G46: 13467

Sheet R8.4
A1: 区別住民基本台帳世帯人口一覧表
L2: 46113
A3: 地区 | B3: ＮＯ | C3: 区 | D3: 世帯数 | E3: 男 | F3: 女 | G3: 計 | H3: 地区 | I3: ＮＯ | J3: 区 | K3: 世帯数 | L3: 男 | M3: 女 | N3: 計
B4: 1 | C4: 大門一番町 | D4: 129 | E4: 113 | F4: 116 | G4: 229 | I4: 55 | J4: 吉田一区 | K4: 606 | L4: 629 | M4: 615 | N4: 1244
B5: 2 | C5: 大門二番町 | D5: 335 | E5: 367 | F5: 383 | G5: 750 | H5: 吉 | I5: 56 | J5: 吉田二区 | K5: 580 | L5: 565 | M5: 598 | N5: 1163
A6: 大 | B6: 3 | C6: 大門三番町 | D6: 364 | E6: 398 | F6: 398 | G6: 796 | I6: 57 | J6: 吉田三区 | K6: 1047 | L6: 1093 | M6: 1078 | N6: 2171
B7: 4 | C7: 大門四番町 | D7: 205 | E7: 212 | F7: 256 | G7: 468 | H7: 田 | I7: 58 | J7: 吉田四区 | K7: 943 | L7: 1028 | M7: 943 | N7: 1971
B8: 5 | C8: 大門五番町 | D8: 600 | E8: 671 | F8: 636 | G8: 1307 | I8: 59 | J8: 吉田五区 | K8: 1226 | L8: 1341 | M8: 1380 | N8: 2721
B9: 6 | C9: 大門六番町 | D9: 399 | E9: 403 | F9: 436 | G9: 839 | H9: 計 | K9: 4402 | L9: 4656 | M9: 4614 | N9: 9270
A10: 門 | B10: 7 | C10: 大門七番町 | D10: 285 | E10: 262 | F10: 268 | G10: 530 | I10: 60 | J10: 上組 | K10: 182 | L10: 251 | M10: 237 | N10: 488
B11: 8 | C11: 大門八番町 | D11: 215 | E11: 175 | F11: 199 | G11: 374 | H11: 洗 | I11: 61 | J11: 元町 | K11: 153 | L11: 180 | M11: 182 | N11: 362
B12: 9 | C12: 大門七区 | D12: 2000 | E12: 2218 | F12: 2158 | G12: 4376 | I12: 62 | J12: 芦ノ田 | K12: 315 | L12: 390 | M12: 395 | N12: 785
B13: 13 | C13: 大門田川町 | D13: 220 | E13: 244 | F13: 265 | G13: 509 | I13: 63 | J13: 太田 | K13: 519 | L13: 647 | M13: 657 | N13: 1304
A14: 計 | D14: 4752 | E14: 5063 | F14: 5115 | G14: 10178 | H14: 馬 | I14: 64 | J14: 岩垂 | K14: 229 | L14: 309 | M14: 301 | N14: 610
B15: 20 | C15: 東山 | D15: 102 | E15: 117 | F15: 114 | G15: 231 | I15: 65 | J15: 下小曽部 | K15: 271 | L15: 328 | M15: 350 | N15: 678
B16: 21 | C16: 柿沢 | D16: 162 | E16: 191 | F16: 197 | G16: 388 | I16: 66 | J16: 上小曽部 | K16: 136 | L16: 137 | M16: 144 | N16: 281
B17: 22 | C17: 金井 | D17: 81 | E17: 109 | F17: 96 | G17: 205 | H17: 計 | K17: 1805 | L17: 2242 | M17: 2266 | N17: 4508
A18: 塩 | B18: 23 | C18: 上西条 | D18: 216 | E18: 271 | F18: 288 | G18: 559 | I18: 70 | J18: 桔梗ケ原 | K18: 847 | L18: 872 | M18: 883 | N18: 1755
B19: 24 | C19: 中西条 | D19: 81 | E19: 104 | F19: 118 | G19: 222 | I19: 72 | J19: 平出 | K19: 312 | L19: 426 | M19: 392 | N19: 818
A20: 尻 | B20: 25 | C20: 下西条 | D20: 212 | E20: 254 | F20: 268 | G20: 522 | H20: 宗 | I20: 73 | J20: 床尾 | K20: 241 | L20: 264 | M20: 285 | N20: 549
B21: 26 | C21: 堀ノ内 | D21: 379 | E21: 439 | F21: 465 | G21: 904 | I21: 74 | J21: 洗馬 | K21: 268 | L21: 332 | M21: 371 | N21: 703
A22: 東 | B22: 27 | C22: 長畝 | D22: 161 | E22: 194 | F22: 213 | G22: 407 | I22: 75 | J22: 牧野 | K22: 342 | L22: 392 | M22: 416 | N22: 808
B23: 28 | C23: 桟敷 | D23: 224 | E23: 236 | F23: 244 | G23: 480 | H23: 賀 | I23: 76 | J23: 本山 | K23: 156 | L23: 179 | M23: 178 | N23: 357
B24: 29 | C24: 町区 | D24: 963 | E24: 1181 | F24: 1164 | G24: 2345 | I24: 77 | J24: 日出塩 | K24: 44 | L24: 55 | M24: 55 | N24: 110
B25: 30 | C25: 松原 | D25: 57 | E25: 29 | F25: 48 | G25: 77 | I25: 78 | J25: 小井戸 | K25: 62 | L25: 38 | M25: 56 | N25: 94
B26: 31 | C26: みどり湖 | D26: 140 | E26: 149 | F26: 150 | G26: 299 | H26: 計 | K26: 2272 | L26: 2558 | M26: 2636 | N26: 5194
B27: 32 | C27: 峰原 | D27: 233 | E27: 289 | F27: 297 | G27: 586 | I27: 80 | J27: 古町 | K27: 150 | L27: 174 | M27: 178 | N27: 352
A28: 計 | D28: 3011 | E28: 3563 | F28: 3662 | G28: 7225 | H28: 北 | I28: 81 | J28: 宮前 | K28: 88 | L28: 109 | M28: 96 | N28: 205
B29: 35 | C29: 高出一区 | D29: 425 | E29: 497 | F29: 460 | G29: 957 | H29: 小 | I29: 82 | J29: 大出 | K29: 217 | L29: 246 | M29: 271 | N29: 517
A30: 高 | B30: 36 | C30: 高出二区 | D30: 820 | E30: 895 | F30: 838 | G30: 1733 | H30: 野 | I30: 83 | J30: 上田 | K30: 110 | L30: 115 | M30: 120 | N30: 235
B31: 37 | C31: 高出三区 | D31: 895 | E31: 1003 | F31: 993 | G31: 1996 | I31: 84 | J31: 勝弦 | K31: 204 | L31: 210 | M31: 189 | N31: 399
A32: 出 | B32: 38 | C32: 高出四区 | D32: 818 | E32: 881 | F32: 895 | G32: 1776 | H32: 計 | K32: 769 | L32: 854 | M32: 854 | N32: 1708
B33: 39 | C33: 高出五区 | D33: 633 | E33: 685 | F33: 604 | G33: 1289 | H33: 楢 川 | I33: 90 | J33: 贄川 | K33: 242 | L33: 253 | M33: 261 | N33: 514
A34: 計 | D34: 3591 | E34: 3961 | F34: 3790 | G34: 7751 | I34: 91 | J34: 木曽平沢 | K34: 419 | L34: 413 | M34: 454 | N34: 867
B35: 40 | C35: 南内田 | D35: 490 | E35: 550 | F35: 552 | G35: 1102 | I35: 92 | J35: 奈良井 | K35: 258 | L35: 258 | M35: 273 | N35: 531
A36: 片 | B36: 41 | C36: 北熊井 | D36: 481 | E36: 635 | F36: 635 | G36: 1270 | H36: 計 | K36: 919 | L36: 924 | M36: 988 | N36: 1912
B37: 42 | C37: 南熊井 | D37: 209 | E37: 238 | F37: 246 | G37: 484
A38: 丘 | B38: 43 | C38: 中挾 | D38: 36 | E38: 44 | F38: 45 | G38: 89
B39: 44 | C39: 君石 | D39: 141 | E39: 92 | F39: 140 | G39: 232 | K39: 世帯数 | L39: 男 | M39: 女 | N39: 計 | O39: （住民基本台帳合計） | P39: 世帯数 | Q39: 男 | R39: 女 | S39: 計
B40: 45 | C40: 内田原 | D40: 151 | E40: 178 | F40: 204 | G40: 382 | H40: 住民基本台帳合計 | K40: =D14+D28+D34+D41+D46+K9+K17+K26+K32+K36 -> 29586 | L40: =E14+E28+E34+E41+E46+L9+L17+L26+L32+L36 -> 32460 | M40: =F14+F28+F34+F41+F46+M9+M17+M26+M32+M36 -> 32334 | N40: =L40+M40 -> 64794 | O40: 前年同月数値 | P40: ='R7.4'!K40 -> 29257 | Q40: ='R7.4'!L40 -> 32628 | R40: ='R7.4'!M40 -> 32405 | S40: ='R7.4'!N40 -> 65033
A41: 計 | D41: 1508 | E41: 1737 | F41: 1822 | G41: 3559 | H41: 前月数値 | K41: ='R8.3'!K40 -> 29423 | L41: ='R8.3'!L40 -> 32432 | M41: ='R8.3'!M40 -> 32342 | N41: ='R8.3'!N40 -> 64774 | O41: 前年同月比較 | P41: =K40-P40 -> 329 | Q41: =L40-Q40 -> -168 | R41: =M40-R40 -> -71 | S41: =N40-S40 -> -239
B42: 50 | C42: 原新田 | D42: 1932 | E42: 1986 | F42: 1954 | G42: 3940 | H42: 前月比較 | K42: =K40-K41 -> 163 | L42: =L40-L41 -> 28 | M42: =M40-M41 -> -8 | N42: =N40-N41 -> 20 | O42: （内外国人住民数） | P42: 世帯数 | Q42: 男 | R42: 女 | S42: 計
A43: 広 | B43: 51 | C43: 堅石 | D43: 1052 | E43: 1243 | F43: 1262 | G43: 2505 | H43: （内外国人住民数） | K43: 1261 | L43: 762 | M43: 778 | N43: 1540 | O43: 前年同月数値 | P43: 1215 | Q43: 741 | R43: 731 | S43: 1472
B44: 52 | C44: 郷原 | D44: 679 | E44: 733 | F44: 712 | G44: 1445 | H44: （前月数値） | K44: 1226 | L44: 748 | M44: 753 | N44: 1501 | O44: 前年同月比較 | P44: =K43-P43 -> 46 | Q44: =L43-Q43 -> 21 | R44: =M43-R43 -> 47 | S44: =N43-S43 -> 68
A45: 丘 | B45: 54 | C45: 野村 | D45: 2894 | E45: 2940 | F45: 2659 | G45: 5599 | H45: （前月比較） | K45: =K43-K44 -> 35 | L45: =L43-L44 -> 14 | M45: =M43-M44 -> 25 | N45: =N43-N44 -> 39
A46: 計 | D46: 6557 | E46: 6902 | F46: 6587 | G46: 13489

Sheet R8.3
A1: 区別住民基本台帳世帯人口一覧表
L2: 46082
A3: 地区 | B3: ＮＯ | C3: 区 | D3: 世帯数 | E3: 男 | F3: 女 | G3: 計 | H3: 地区 | I3: ＮＯ | J3: 区 | K3: 世帯数 | L3: 男 | M3: 女 | N3: 計
B4: 1 | C4: 大門一番町 | D4: 130 | E4: 115 | F4: 114 | G4: 229 | I4: 55 | J4: 吉田一区 | K4: 597 | L4: 624 | M4: 603 | N4: 1227
B5: 2 | C5: 大門二番町 | D5: 330 | E5: 362 | F5: 379 | G5: 741 | H5: 吉 | I5: 56 | J5: 吉田二区 | K5: 570 | L5: 562 | M5: 587 | N5: 1149
A6: 大 | B6: 3 | C6: 大門三番町 | D6: 369 | E6: 406 | F6: 403 | G6: 809 | I6: 57 | J6: 吉田三区 | K6: 1044 | L6: 1091 | M6: 1072 | N6: 2163
B7: 4 | C7: 大門四番町 | D7: 206 | E7: 217 | F7: 255 | G7: 472 | H7: 田 | I7: 58 | J7: 吉田四区 | K7: 939 | L7: 1028 | M7: 949 | N7: 1977
B8: 5 | C8: 大門五番町 | D8: 589 | E8: 662 | F8: 638 | G8: 1300 | I8: 59 | J8: 吉田五区 | K8: 1230 | L8: 1351 | M8: 1385 | N8: 2736
B9: 6 | C9: 大門六番町 | D9: 398 | E9: 407 | F9: 439 | G9: 846 | H9: 計 | K9: 4380 | L9: 4656 | M9: 4596 | N9: 9252
A10: 門 | B10: 7 | C10: 大門七番町 | D10: 273 | E10: 253 | F10: 269 | G10: 522 | I10: 60 | J10: 上組 | K10: 182 | L10: 252 | M10: 239 | N10: 491
B11: 8 | C11: 大門八番町 | D11: 214 | E11: 171 | F11: 197 | G11: 368 | H11: 洗 | I11: 61 | J11: 元町 | K11: 153 | L11: 180 | M11: 182 | N11: 362
B12: 9 | C12: 大門七区 | D12: 1976 | E12: 2206 | F12: 2148 | G12: 4354 | I12: 62 | J12: 芦ノ田 | K12: 315 | L12: 396 | M12: 396 | N12: 792
B13: 13 | C13: 大門田川町 | D13: 220 | E13: 244 | F13: 265 | G13: 509 | I13: 63 | J13: 太田 | K13: 516 | L13: 654 | M13: 659 | N13: 1313
A14: 計 | D14: 4705 | E14: 5043 | F14: 5107 | G14: 10150 | H14: 馬 | I14: 64 | J14: 岩垂 | K14: 225 | L14: 307 | M14: 298 | N14: 605
B15: 20 | C15: 東山 | D15: 103 | E15: 118 | F15: 114 | G15: 232 | I15: 65 | J15: 下小曽部 | K15: 269 | L15: 327 | M15: 348 | N15: 675
B16: 21 | C16: 柿沢 | D16: 161 | E16: 190 | F16: 196 | G16: 386 | I16: 66 | J16: 上小曽部 | K16: 137 | L16: 138 | M16: 145 | N16: 283
B17: 22 | C17: 金井 | D17: 80 | E17: 106 | F17: 94 | G17: 200 | H17: 計 | K17: 1797 | L17: 2254 | M17: 2267 | N17: 4521
A18: 塩 | B18: 23 | C18: 上西条 | D18: 216 | E18: 271 | F18: 291 | G18: 562 | I18: 70 | J18: 桔梗ケ原 | K18: 849 | L18: 882 | M18: 892 | N18: 1774
B19: 24 | C19: 中西条 | D19: 81 | E19: 104 | F19: 119 | G19: 223 | I19: 72 | J19: 平出 | K19: 313 | L19: 427 | M19: 396 | N19: 823
A20: 尻 | B20: 25 | C20: 下西条 | D20: 211 | E20: 254 | F20: 268 | G20: 522 | H20: 宗 | I20: 73 | J20: 床尾 | K20: 240 | L20: 263 | M20: 284 | N20: 547
B21: 26 | C21: 堀ノ内 | D21: 380 | E21: 441 | F21: 465 | G21: 906 | I21: 74 | J21: 洗馬 | K21: 267 | L21: 331 | M21: 365 | N21: 696
A22: 東 | B22: 27 | C22: 長畝 | D22: 161 | E22: 193 | F22: 215 | G22: 408 | I22: 75 | J22: 牧野 | K22: 342 | L22: 390 | M22: 415 | N22: 805
B23: 28 | C23: 桟敷 | D23: 225 | E23: 239 | F23: 247 | G23: 486 | H23: 賀 | I23: 76 | J23: 本山 | K23: 155 | L23: 180 | M23: 178 | N23: 358
B24: 29 | C24: 町区 | D24: 952 | E24: 1169 | F24: 1158 | G24: 2327 | I24: 77 | J24: 日出塩 | K24: 44 | L24: 56 | M24: 55 | N24: 111
B25: 30 | C25: 松原 | D25: 57 | E25: 29 | F25: 49 | G25: 78 | I25: 78 | J25: 小井戸 | K25: 63 | L25: 44 | M25: 55 | N25: 99
B26: 31 | C26: みどり湖 | D26: 140 | E26: 149 | F26: 155 | G26: 304 | H26: 計 | K26: 2273 | L26: 2573 | M26: 2640 | N26: 5213
B27: 32 | C27: 峰原 | D27: 233 | E27: 295 | F27: 300 | G27: 595 | I27: 80 | J27: 古町 | K27: 151 | L27: 174 | M27: 180 | N27: 354
A28: 計 | D28: 3000 | E28: 3558 | F28: 3671 | G28: 7229 | H28: 北 | I28: 81 | J28: 宮前 | K28: 89 | L28: 108 | M28: 99 | N28: 207
B29: 35 | C29: 高出一区 | D29: 421 | E29: 500 | F29: 461 | G29: 961 | H29: 小 | I29: 82 | J29: 大出 | K29: 218 | L29: 248 | M29: 271 | N29: 519
A30: 高 | B30: 36 | C30: 高出二区 | D30: 811 | E30: 893 | F30: 831 | G30: 1724 | H30: 野 | I30: 83 | J30: 上田 | K30: 110 | L30: 115 | M30: 120 | N30: 235
B31: 37 | C31: 高出三区 | D31: 888 | E31: 998 | F31: 985 | G31: 1983 | I31: 84 | J31: 勝弦 | K31: 203 | L31: 210 | M31: 187 | N31: 397
A32: 出 | B32: 38 | C32: 高出四区 | D32: 817 | E32: 874 | F32: 887 | G32: 1761 | H32: 計 | K32: 771 | L32: 855 | M32: 857 | N32: 1712
B33: 39 | C33: 高出五区 | D33: 634 | E33: 683 | F33: 611 | G33: 1294 | H33: 楢 川 | I33: 90 | J33: 贄川 | K33: 243 | L33: 253 | M33: 262 | N33: 515
A34: 計 | D34: 3571 | E34: 3948 | F34: 3775 | G34: 7723 | I34: 91 | J34: 木曽平沢 | K34: 418 | L34: 416 | M34: 455 | N34: 871
B35: 40 | C35: 南内田 | D35: 487 | E35: 546 | F35: 550 | G35: 1096 | I35: 92 | J35: 奈良井 | K35: 259 | L35: 261 | M35: 279 | N35: 540
A36: 片 | B36: 41 | C36: 北熊井 | D36: 480 | E36: 637 | F36: 636 | G36: 1273 | H36: 計 | K36: 920 | L36: 930 | M36: 996 | N36: 1926
B37: 42 | C37: 南熊井 | D37: 209 | E37: 238 | F37: 249 | G37: 487
A38: 丘 | B38: 43 | C38: 中挾 | D38: 36 | E38: 45 | F38: 45 | G38: 90
B39: 44 | C39: 君石 | D39: 142 | E39: 94 | F39: 141 | G39: 235 | K39: 世帯数 | L39: 男 | M39: 女 | N39: 計 | O39: （住民基本台帳合計） | P39: 世帯数 | Q39: 男 | R39: 女 | S39: 計
B40: 45 | C40: 内田原 | D40: 153 | E40: 185 | F40: 205 | G40: 390 | H40: 住民基本台帳合計 | K40: =D14+D28+D34+D41+D46+K9+K17+K26+K32+K36 -> 29423 | L40: =E14+E28+E34+E41+E46+L9+L17+L26+L32+L36 -> 32432 | M40: =F14+F28+F34+F41+F46+M9+M17+M26+M32+M36 -> 32342 | N40: =L40+M40 -> 64774 | O40: 前年同月数値 | P40: ='R7.3'!K40 -> 29062 | Q40: ='R7.3'!L40 -> 32629 | R40: ='R7.3'!M40 -> 32408 | S40: ='R7.3'!N40 -> 65037
A41: 計 | D41: 1507 | E41: 1745 | F41: 1826 | G41: 3571 | H41: 前月数値 | K41: ='R8.2'!K40 -> 29423 | L41: ='R8.2'!L40 -> 32448 | M41: ='R8.2'!M40 -> 32370 | N41: ='R8.2'!N40 -> 64818 | O41: 前年同月比較 | P41: =K40-P40 -> 361 | Q41: =L40-Q40 -> -197 | R41: =M40-R40 -> -66 | S41: =N40-S40 -> -263
B42: 50 | C42: 原新田 | D42: 1920 | E42: 1981 | F42: 1961 | G42: 3942 | H42: 前月比較 | K42: =K40-K41 -> 0 | L42: =L40-L41 -> -16 | M42: =M40-M41 -> -28 | N42: =N40-N41 -> -44 | O42: （内外国人住民数） | P42: 世帯数 | Q42: 男 | R42: 女 | S42: 計
A43: 広 | B43: 51 | C43: 堅石 | D43: 1047 | E43: 1248 | F43: 1266 | G43: 2514 | H43: （内外国人住民数） | K43: 1226 | L43: 748 | M43: 753 | N43: 1501 | O43: 前年同月数値 | P43: 1187 | Q43: 734 | R43: 719 | S43: 1453
B44: 52 | C44: 郷原 | D44: 678 | E44: 731 | F44: 706 | G44: 1437 | H44: （前月数値） | K44: 1223 | L44: 747 | M44: 753 | N44: 1500 | O44: 前年同月比較 | P44: =K43-P43 -> 39 | Q44: =L43-Q43 -> 14 | R44: =M43-R43 -> 34 | S44: =N43-S43 -> 48
A45: 丘 | B45: 54 | C45: 野村 | D45: 2854 | E45: 2910 | F45: 2674 | G45: 5584 | H45: （前月比較） | K45: =K43-K44 -> 3 | L45: =L43-L44 -> 1 | M45: =M43-M44 -> 0 | N45: =N43-N44 -> 1
A46: 計 | D46: 6499 | E46: 6870 | F46: 6607 | G46: 13477

Sheet R8.2
A1: 区別住民基本台帳世帯人口一覧表
L2: 46054
A3: 地区 | B3: ＮＯ | C3: 区 | D3: 世帯数 | E3: 男 | F3: 女 | G3: 計 | H3: 地区 | I3: ＮＯ | J3: 区 | K3: 世帯数 | L3: 男 | M3: 女 | N3: 計
B4: 1 | C4: 大門一番町 | D4: 130 | E4: 115 | F4: 114 | G4: 229 | I4: 55 | J4: 吉田一区 | K4: 580 | L4: 611 | M4: 594 | N4: 1205
B5: 2 | C5: 大門二番町 | D5: 327 | E5: 358 | F5: 378 | G5: 736 | H5: 吉 | I5: 56 | J5: 吉田二区 | K5: 571 | L5: 569 | M5: 591 | N5: 1160
A6: 大 | B6: 3 | C6: 大門三番町 | D6: 370 | E6: 407 | F6: 404 | G6: 811 | I6: 57 | J6: 吉田三区 | K6: 1037 | L6: 1087 | M6: 1066 | N6: 2153
B7: 4 | C7: 大門四番町 | D7: 209 | E7: 221 | F7: 257 | G7: 478 | H7: 田 | I7: 58 | J7: 吉田四区 | K7: 945 | L7: 1032 | M7: 953 | N7: 1985
B8: 5 | C8: 大門五番町 | D8: 586 | E8: 660 | F8: 634 | G8: 1294 | I8: 59 | J8: 吉田五区 | K8: 1229 | L8: 1354 | M8: 1393 | N8: 2747
B9: 6 | C9: 大門六番町 | D9: 395 | E9: 406 | F9: 439 | G9: 845 | H9: 計 | K9: 4362 | L9: 4653 | M9: 4597 | N9: 9250
A10: 門 | B10: 7 | C10: 大門七番町 | D10: 275 | E10: 254 | F10: 270 | G10: 524 | I10: 60 | J10: 上組 | K10: 182 | L10: 252 | M10: 240 | N10: 492
B11: 8 | C11: 大門八番町 | D11: 212 | E11: 168 | F11: 198 | G11: 366 | H11: 洗 | I11: 61 | J11: 元町 | K11: 153 | L11: 180 | M11: 182 | N11: 362
B12: 9 | C12: 大門七区 | D12: 1971 | E12: 2197 | F12: 2142 | G12: 4339 | I12: 62 | J12: 芦ノ田 | K12: 313 | L12: 393 | M12: 394 | N12: 787
B13: 13 | C13: 大門田川町 | D13: 221 | E13: 245 | F13: 267 | G13: 512 | I13: 63 | J13: 太田 | K13: 516 | L13: 653 | M13: 658 | N13: 1311
A14: 計 | D14: 4696 | E14: 5031 | F14: 5103 | G14: 10134 | H14: 馬 | I14: 64 | J14: 岩垂 | K14: 223 | L14: 305 | M14: 299 | N14: 604
B15: 20 | C15: 東山 | D15: 105 | E15: 118 | F15: 116 | G15: 234 | I15: 65 | J15: 下小曽部 | K15: 270 | L15: 328 | M15: 351 | N15: 679
B16: 21 | C16: 柿沢 | D16: 162 | E16: 191 | F16: 197 | G16: 388 | I16: 66 | J16: 上小曽部 | K16: 138 | L16: 139 | M16: 144 | N16: 283
B17: 22 | C17: 金井 | D17: 80 | E17: 106 | F17: 94 | G17: 200 | H17: 計 | K17: 1795 | L17: 2250 | M17: 2268 | N17: 4518
A18: 塩 | B18: 23 | C18: 上西条 | D18: 214 | E18: 271 | F18: 289 | G18: 560 | I18: 70 | J18: 桔梗ケ原 | K18: 849 | L18: 884 | M18: 892 | N18: 1776
B19: 24 | C19: 中西条 | D19: 83 | E19: 106 | F19: 120 | G19: 226 | I19: 72 | J19: 平出 | K19: 315 | L19: 428 | M19: 397 | N19: 825
A20: 尻 | B20: 25 | C20: 下西条 | D20: 210 | E20: 255 | F20: 266 | G20: 521 | H20: 宗 | I20: 73 | J20: 床尾 | K20: 239 | L20: 262 | M20: 282 | N20: 544
B21: 26 | C21: 堀ノ内 | D21: 381 | E21: 441 | F21: 467 | G21: 908 | I21: 74 | J21: 洗馬 | K21: 268 | L21: 334 | M21: 366 | N21: 700
A22: 東 | B22: 27 | C22: 長畝 | D22: 162 | E22: 195 | F22: 216 | G22: 411 | I22: 75 | J22: 牧野 | K22: 343 | L22: 393 | M22: 415 | N22: 808
B23: 28 | C23: 桟敷 | D23: 225 | E23: 239 | F23: 247 | G23: 486 | H23: 賀 | I23: 76 | J23: 本山 | K23: 155 | L23: 179 | M23: 179 | N23: 358
B24: 29 | C24: 町区 | D24: 948 | E24: 1162 | F24: 1161 | G24: 2323 | I24: 77 | J24: 日出塩 | K24: 44 | L24: 56 | M24: 55 | N24: 111
B25: 30 | C25: 松原 | D25: 57 | E25: 29 | F25: 49 | G25: 78 | I25: 78 | J25: 小井戸 | K25: 63 | L25: 44 | M25: 55 | N25: 99
B26: 31 | C26: みどり湖 | D26: 142 | E26: 151 | F26: 156 | G26: 307 | H26: 計 | K26: 2276 | L26: 2580 | M26: 2641 | N26: 5221
B27: 32 | C27: 峰原 | D27: 235 | E27: 297 | F27: 302 | G27: 599 | I27: 80 | J27: 古町 | K27: 151 | L27: 175 | M27: 180 | N27: 355
A28: 計 | D28: 3004 | E28: 3561 | F28: 3680 | G28: 7241 | H28: 北 | I28: 81 | J28: 宮前 | K28: 89 | L28: 108 | M28: 99 | N28: 207
B29: 35 | C29: 高出一区 | D29: 423 | E29: 500 | F29: 465 | G29: 965 | H29: 小 | I29: 82 | J29: 大出 | K29: 217 | L29: 247 | M29: 272 | N29: 519
A30: 高 | B30: 36 | C30: 高出二区 | D30: 812 | E30: 891 | F30: 828 | G30: 1719 | H30: 野 | I30: 83 | J30: 上田 | K30: 110 | L30: 115 | M30: 120 | N30: 235
B31: 37 | C31: 高出三区 | D31: 888 | E31: 997 | F31: 989 | G31: 1986 | I31: 84 | J31: 勝弦 | K31: 203 | L31: 212 | M31: 186 | N31: 398
A32: 出 | B32: 38 | C32: 高出四区 | D32: 817 | E32: 875 | F32: 886 | G32: 1761 | H32: 計 | K32: 770 | L32: 857 | M32: 857 | N32: 1714
B33: 39 | C33: 高出五区 | D33: 634 | E33: 684 | F33: 612 | G33: 1296 | H33: 楢 川 | I33: 90 | J33: 贄川 | K33: 242 | L33: 256 | M33: 263 | N33: 519
A34: 計 | D34: 3574 | E34: 3947 | F34: 3780 | G34: 7727 | I34: 91 | J34: 木曽平沢 | K34: 421 | L34: 418 | M34: 459 | N34: 877
B35: 40 | C35: 南内田 | D35: 488 | E35: 547 | F35: 550 | G35: 1097 | I35: 92 | J35: 奈良井 | K35: 260 | L35: 260 | M35: 280 | N35: 540
A36: 片 | B36: 41 | C36: 北熊井 | D36: 481 | E36: 639 | F36: 637 | G36: 1276 | H36: 計 | K36: 923 | L36: 934 | M36: 1002 | N36: 1936
B37: 42 | C37: 南熊井 | D37: 209 | E37: 240 | F37: 251 | G37: 491
A38: 丘 | B38: 43 | C38: 中挾 | D38: 37 | E38: 45 | F38: 46 | G38: 91
B39: 44 | C39: 君石 | D39: 144 | E39: 95 | F39: 142 | G39: 237 | K39: 世帯数 | L39: 男 | M39: 女 | N39: 計 | O39: （住民基本台帳合計） | P39: 世帯数 | Q39: 男 | R39: 女 | S39: 計
B40: 45 | C40: 内田原 | D40: 153 | E40: 185 | F40: 207 | G40: 392 | H40: 住民基本台帳合計 | K40: =D14+D28+D34+D41+D46+K9+K17+K26+K32+K36 -> 29423 | L40: =E14+E28+E34+E41+E46+L9+L17+L26+L32+L36 -> 32448 | M40: =F14+F28+F34+F41+F46+M9+M17+M26+M32+M36 -> 32370 | N40: =L40+M40 -> 64818 | O40: 前年同月数値 | P40: ='R7.2'!K40 -> 29053 | Q40: ='R7.2'!L40 -> 32642 | R40: ='R7.2'!M40 -> 32444 | S40: ='R7.2'!N40 -> 65086
A41: 計 | D41: 1512 | E41: 1751 | F41: 1833 | G41: 3584 | H41: 前月数値 | K41: ='R8.1'!K40 -> 29415 | L41: ='R8.1'!L40 -> 32469 | M41: ='R8.1'!M40 -> 32404 | N41: ='R8.1'!N40 -> 64873 | O41: 前年同月比較 | P41: =K40-P40 -> 370 | Q41: =L40-Q40 -> -194 | R41: =M40-R40 -> -74 | S41: =N40-S40 -> -268
B42: 50 | C42: 原新田 | D42: 1925 | E42: 1989 | F42: 1963 | G42: 3952 | H42: 前月比較 | K42: =K40-K41 -> 8 | L42: =L40-L41 -> -21 | M42: =M40-M41 -> -34 | N42: =N40-N41 -> -55 | O42: （内外国人住民数） | P42: 世帯数 | Q42: 男 | R42: 女 | S42: 計
A43: 広 | B43: 51 | C43: 堅石 | D43: 1040 | E43: 1243 | F43: 1262 | G43: 2505 | H43: （内外国人住民数） | K43: 1223 | L43: 747 | M43: 753 | N43: 1500 | O43: 前年同月数値 | P43: 1172 | Q43: 718 | R43: 724 | S43: 1442
B44: 52 | C44: 郷原 | D44: 698 | E44: 743 | F44: 713 | G44: 1456 | H44: （前月数値） | K44: 1227 | L44: 742 | M44: 758 | N44: 1500 | O44: 前年同月比較 | P44: =K43-P43 -> 51 | Q44: =L43-Q43 -> 29 | R44: =M43-R43 -> 29 | S44: =N43-S43 -> 58
A45: 丘 | B45: 54 | C45: 野村 | D45: 2848 | E45: 2909 | F45: 2671 | G45: 5580 | H45: （前月比較） | K45: =K43-K44 -> -4 | L45: =L43-L44 -> 5 | M45: =M43-M44 -> -5 | N45: =N43-N44 -> 0
A46: 計 | D46: 6511 | E46: 6884 | F46: 6609 | G46: 13493

Sheet R8.1
A1: 区別住民基本台帳世帯人口一覧表
L2: 46023
A3: 地区 | B3: ＮＯ | C3: 区 | D3: 世帯数 | E3: 男 | F3: 女 | G3: 計 | H3: 地区 | I3: ＮＯ | J3: 区 | K3: 世帯数 | L3: 男 | M3: 女 | N3: 計
B4: 1 | C4: 大門一番町 | D4: 131 | E4: 115 | F4: 115 | G4: 230 | I4: 55 | J4: 吉田一区 | K4: 579 | L4: 611 | M4: 594 | N4: 1205
B5: 2 | C5: 大門二番町 | D5: 328 | E5: 359 | F5: 377 | G5: 736 | H5: 吉 | I5: 56 | J5: 吉田二区 | K5: 577 | L5: 573 | M5: 596 | N5: 1169
A6: 大 | B6: 3 | C6: 大門三番町 | D6: 369 | E6: 404 | F6: 400 | G6: 804 | I6: 57 | J6: 吉田三区 | K6: 1039 | L6: 1087 | M6: 1076 | N6: 2163
B7: 4 | C7: 大門四番町 | D7: 208 | E7: 222 | F7: 257 | G7: 479 | H7: 田 | I7: 58 | J7: 吉田四区 | K7: 945 | L7: 1034 | M7: 955 | N7: 1989
B8: 5 | C8: 大門五番町 | D8: 586 | E8: 660 | F8: 634 | G8: 1294 | I8: 59 | J8: 吉田五区 | K8: 1230 | L8: 1359 | M8: 1394 | N8: 2753
B9: 6 | C9: 大門六番町 | D9: 394 | E9: 404 | F9: 443 | G9: 847 | H9: 計 | K9: 4370 | L9: 4664 | M9: 4615 | N9: 9279
A10: 門 | B10: 7 | C10: 大門七番町 | D10: 278 | E10: 256 | F10: 270 | G10: 526 | I10: 60 | J10: 上組 | K10: 182 | L10: 253 | M10: 241 | N10: 494
B11: 8 | C11: 大門八番町 | D11: 212 | E11: 169 | F11: 198 | G11: 367 | H11: 洗 | I11: 61 | J11: 元町 | K11: 152 | L11: 179 | M11: 182 | N11: 361
B12: 9 | C12: 大門七区 | D12: 1972 | E12: 2199 | F12: 2150 | G12: 4349 | I12: 62 | J12: 芦ノ田 | K12: 313 | L12: 394 | M12: 398 | N12: 792
B13: 13 | C13: 大門田川町 | D13: 220 | E13: 245 | F13: 266 | G13: 511 | I13: 63 | J13: 太田 | K13: 516 | L13: 653 | M13: 662 | N13: 1315
A14: 計 | D14: 4698 | E14: 5033 | F14: 5110 | G14: 10143 | H14: 馬 | I14: 64 | J14: 岩垂 | K14: 220 | L14: 304 | M14: 300 | N14: 604
B15: 20 | C15: 東山 | D15: 103 | E15: 117 | F15: 115 | G15: 232 | I15: 65 | J15: 下小曽部 | K15: 270 | L15: 329 | M15: 353 | N15: 682
B16: 21 | C16: 柿沢 | D16: 163 | E16: 191 | F16: 199 | G16: 390 | I16: 66 | J16: 上小曽部 | K16: 137 | L16: 140 | M16: 143 | N16: 283
B17: 22 | C17: 金井 | D17: 80 | E17: 107 | F17: 94 | G17: 201 | H17: 計 | K17: 1790 | L17: 2252 | M17: 2279 | N17: 4531
A18: 塩 | B18: 23 | C18: 上西条 | D18: 214 | E18: 269 | F18: 289 | G18: 558 | I18: 70 | J18: 桔梗ケ原 | K18: 844 | L18: 880 | M18: 888 | N18: 1768
B19: 24 | C19: 中西条 | D19: 83 | E19: 106 | F19: 120 | G19: 226 | I19: 72 | J19: 平出 | K19: 316 | L19: 431 | M19: 397 | N19: 828
A20: 尻 | B20: 25 | C20: 下西条 | D20: 208 | E20: 255 | F20: 265 | G20: 520 | H20: 宗 | I20: 73 | J20: 床尾 | K20: 238 | L20: 260 | M20: 282 | N20: 542
B21: 26 | C21: 堀ノ内 | D21: 380 | E21: 441 | F21: 468 | G21: 909 | I21: 74 | J21: 洗馬 | K21: 269 | L21: 333 | M21: 368 | N21: 701
A22: 東 | B22: 27 | C22: 長畝 | D22: 162 | E22: 195 | F22: 216 | G22: 411 | I22: 75 | J22: 牧野 | K22: 342 | L22: 392 | M22: 414 | N22: 806
B23: 28 | C23: 桟敷 | D23: 226 | E23: 239 | F23: 249 | G23: 488 | H23: 賀 | I23: 76 | J23: 本山 | K23: 155 | L23: 179 | M23: 179 | N23: 358
B24: 29 | C24: 町区 | D24: 948 | E24: 1161 | F24: 1161 | G24: 2322 | I24: 77 | J24: 日出塩 | K24: 44 | L24: 56 | M24: 55 | N24: 111
B25: 30 | C25: 松原 | D25: 57 | E25: 29 | F25: 49 | G25: 78 | I25: 78 | J25: 小井戸 | K25: 63 | L25: 44 | M25: 55 | N25: 99
B26: 31 | C26: みどり湖 | D26: 142 | E26: 151 | F26: 156 | G26: 307 | H26: 計 | K26: 2271 | L26: 2575 | M26: 2638 | N26: 5213
B27: 32 | C27: 峰原 | D27: 237 | E27: 301 | F27: 301 | G27: 602 | I27: 80 | J27: 古町 | K27: 152 | L27: 176 | M27: 181 | N27: 357
A28: 計 | D28: 3003 | E28: 3562 | F28: 3682 | G28: 7244 | H28: 北 | I28: 81 | J28: 宮前 | K28: 89 | L28: 108 | M28: 99 | N28: 207
B29: 35 | C29: 高出一区 | D29: 420 | E29: 497 | F29: 457 | G29: 954 | H29: 小 | I29: 82 | J29: 大出 | K29: 217 | L29: 249 | M29: 275 | N29: 524
A30: 高 | B30: 36 | C30: 高出二区 | D30: 813 | E30: 888 | F30: 824 | G30: 1712 | H30: 野 | I30: 83 | J30: 上田 | K30: 110 | L30: 115 | M30: 120 | N30: 235
B31: 37 | C31: 高出三区 | D31: 887 | E31: 998 | F31: 989 | G31: 1987 | I31: 84 | J31: 勝弦 | K31: 203 | L31: 213 | M31: 186 | N31: 399
A32: 出 | B32: 38 | C32: 高出四区 | D32: 815 | E32: 874 | F32: 882 | G32: 1756 | H32: 計 | K32: 771 | L32: 861 | M32: 861 | N32: 1722
B33: 39 | C33: 高出五区 | D33: 629 | E33: 681 | F33: 613 | G33: 1294 | H33: 楢 川 | I33: 90 | J33: 贄川 | K33: 240 | L33: 255 | M33: 262 | N33: 517
A34: 計 | D34: 3564 | E34: 3938 | F34: 3765 | G34: 7703 | I34: 91 | J34: 木曽平沢 | K34: 420 | L34: 419 | M34: 458 | N34: 877
B35: 40 | C35: 南内田 | D35: 490 | E35: 552 | F35: 553 | G35: 1105 | I35: 92 | J35: 奈良井 | K35: 260 | L35: 260 | M35: 280 | N35: 540
A36: 片 | B36: 41 | C36: 北熊井 | D36: 480 | E36: 640 | F36: 639 | G36: 1279 | H36: 計 | K36: 920 | L36: 934 | M36: 1000 | N36: 1934
B37: 42 | C37: 南熊井 | D37: 209 | E37: 240 | F37: 251 | G37: 491
A38: 丘 | B38: 43 | C38: 中挾 | D38: 37 | E38: 45 | F38: 46 | G38: 91
B39: 44 | C39: 君石 | D39: 145 | E39: 97 | F39: 142 | G39: 239 | K39: 世帯数 | L39: 男 | M39: 女 | N39: 計 | O39: （住民基本台帳合計） | P39: 世帯数 | Q39: 男 | R39: 女 | S39: 計
B40: 45 | C40: 内田原 | D40: 153 | E40: 185 | F40: 207 | G40: 392 | H40: 住民基本台帳合計 | K40: =D14+D28+D34+D41+D46+K9+K17+K26+K32+K36 -> 29415 | L40: =E14+E28+E34+E41+E46+L9+L17+L26+L32+L36 -> 32469 | M40: =F14+F28+F34+F41+F46+M9+M17+M26+M32+M36 -> 32404 | N40: =L40+M40 -> 64873 | O40: 前年同月数値 | P40: ='R7.1'!K40 -> 29069 | Q40: ='R7.1'!L40 -> 32699 | R40: ='R7.1'!M40 -> 32494 | S40: ='R7.1'!N40 -> 65193
A41: 計 | D41: 1514 | E41: 1759 | F41: 1838 | G41: 3597 | H41: 前月数値 | K41: ='R7.12'!K40 -> 29437 | L41: ='R7.12'!L40 -> 32516 | M41: ='R7.12'!M40 -> 32410 | N41: ='R7.12'!N40 -> 64926 | O41: 前年同月比較 | P41: =K40-P40 -> 346 | Q41: =L40-Q40 -> -230 | R41: =M40-R40 -> -90 | S41: =N40-S40 -> -320
B42: 50 | C42: 原新田 | D42: 1921 | E42: 1984 | F42: 1963 | G42: 3947 | H42: 前月比較 | K42: =K40-K41 -> -22 | L42: =L40-L41 -> -47 | M42: =M40-M41 -> -6 | N42: =N40-N41 -> -53 | O42: （内外国人住民数） | P42: 世帯数 | Q42: 男 | R42: 女 | S42: 計
A43: 広 | B43: 51 | C43: 堅石 | D43: 1042 | E43: 1245 | F43: 1264 | G43: 2509 | H43: （内外国人住民数） | K43: 1227 | L43: 742 | M43: 758 | N43: 1500 | O43: 前年同月数値 | P43: 1179 | Q43: 721 | R43: 723 | S43: 1444
B44: 52 | C44: 郷原 | D44: 701 | E44: 745 | F44: 713 | G44: 1458 | H44: （前月数値） | K44: 1235 | L44: 755 | M44: 753 | N44: 1508 | O44: 前年同月比較 | P44: =K43-P43 -> 48 | Q44: =L43-Q43 -> 21 | R44: =M43-R43 -> 35 | S44: =N43-S43 -> 56
A45: 丘 | B45: 54 | C45: 野村 | D45: 2850 | E45: 2917 | F45: 2676 | G45: 5593 | H45: （前月比較） | K45: =K43-K44 -> -8 | L45: =L43-L44 -> -13 | M45: =M43-M44 -> 5 | N45: =N43-N44 -> -8
A46: 計 | D46: 6514 | E46: 6891 | F46: 6616 | G46: 13507

Sheet R7.12
A1: 区別住民基本台帳世帯人口一覧表
L2: 45992
A3: 地区 | B3: ＮＯ | C3: 区 | D3: 世帯数 | E3: 男 | F3: 女 | G3: 計 | H3: 地区 | I3: ＮＯ | J3: 区 | K3: 世帯数 | L3: 男 | M3: 女 | N3: 計
B4: 1 | C4: 大門一番町 | D4: 132 | E4: 116 | F4: 116 | G4: 232 | I4: 55 | J4: 吉田一区 | K4: 583 | L4: 612 | M4: 596 | N4: 1208
B5: 2 | C5: 大門二番町 | D5: 326 | E5: 358 | F5: 377 | G5: 735 | H5: 吉 | I5: 56 | J5: 吉田二区 | K5: 577 | L5: 572 | M5: 599 | N5: 1171
A6: 大 | B6: 3 | C6: 大門三番町 | D6: 368 | E6: 403 | F6: 400 | G6: 803 | I6: 57 | J6: 吉田三区 | K6: 1039 | L6: 1087 | M6: 1077 | N6: 2164
B7: 4 | C7: 大門四番町 | D7: 207 | E7: 221 | F7: 256 | G7: 477 | H7: 田 | I7: 58 | J7: 吉田四区 | K7: 945 | L7: 1037 | M7: 955 | N7: 1992
B8: 5 | C8: 大門五番町 | D8: 588 | E8: 662 | F8: 641 | G8: 1303 | I8: 59 | J8: 吉田五区 | K8: 1231 | L8: 1363 | M8: 1397 | N8: 2760
B9: 6 | C9: 大門六番町 | D9: 393 | E9: 405 | F9: 442 | G9: 847 | H9: 計 | K9: 4375 | L9: 4671 | M9: 4624 | N9: 9295
A10: 門 | B10: 7 | C10: 大門七番町 | D10: 279 | E10: 258 | F10: 270 | G10: 528 | I10: 60 | J10: 上組 | K10: 182 | L10: 252 | M10: 242 | N10: 494
B11: 8 | C11: 大門八番町 | D11: 211 | E11: 169 | F11: 199 | G11: 368 | H11: 洗 | I11: 61 | J11: 元町 | K11: 152 | L11: 180 | M11: 183 | N11: 363
B12: 9 | C12: 大門七区 | D12: 1971 | E12: 2190 | F12: 2134 | G12: 4324 | I12: 62 | J12: 芦ノ田 | K12: 312 | L12: 395 | M12: 397 | N12: 792
B13: 13 | C13: 大門田川町 | D13: 219 | E13: 243 | F13: 265 | G13: 508 | I13: 63 | J13: 太田 | K13: 517 | L13: 657 | M13: 664 | N13: 1321
A14: 計 | D14: 4694 | E14: 5025 | F14: 5100 | G14: 10125 | H14: 馬 | I14: 64 | J14: 岩垂 | K14: 226 | L14: 310 | M14: 304 | N14: 614
B15: 20 | C15: 東山 | D15: 104 | E15: 118 | F15: 115 | G15: 233 | I15: 65 | J15: 下小曽部 | K15: 270 | L15: 330 | M15: 355 | N15: 685
B16: 21 | C16: 柿沢 | D16: 162 | E16: 190 | F16: 200 | G16: 390 | I16: 66 | J16: 上小曽部 | K16: 136 | L16: 139 | M16: 143 | N16: 282
B17: 22 | C17: 金井 | D17: 80 | E17: 107 | F17: 94 | G17: 201 | H17: 計 | K17: 1795 | L17: 2263 | M17: 2288 | N17: 4551
A18: 塩 | B18: 23 | C18: 上西条 | D18: 215 | E18: 271 | F18: 290 | G18: 561 | I18: 70 | J18: 桔梗ケ原 | K18: 843 | L18: 878 | M18: 889 | N18: 1767
B19: 24 | C19: 中西条 | D19: 82 | E19: 106 | F19: 119 | G19: 225 | I19: 72 | J19: 平出 | K19: 316 | L19: 432 | M19: 397 | N19: 829
A20: 尻 | B20: 25 | C20: 下西条 | D20: 209 | E20: 257 | F20: 265 | G20: 522 | H20: 宗 | I20: 73 | J20: 床尾 | K20: 237 | L20: 262 | M20: 283 | N20: 545
B21: 26 | C21: 堀ノ内 | D21: 380 | E21: 441 | F21: 471 | G21: 912 | I21: 74 | J21: 洗馬 | K21: 268 | L21: 332 | M21: 369 | N21: 701
A22: 東 | B22: 27 | C22: 長畝 | D22: 161 | E22: 193 | F22: 215 | G22: 408 | I22: 75 | J22: 牧野 | K22: 342 | L22: 393 | M22: 413 | N22: 806
B23: 28 | C23: 桟敷 | D23: 224 | E23: 239 | F23: 248 | G23: 487 | H23: 賀 | I23: 76 | J23: 本山 | K23: 154 | L23: 176 | M23: 178 | N23: 354
B24: 29 | C24: 町区 | D24: 948 | E24: 1163 | F24: 1160 | G24: 2323 | I24: 77 | J24: 日出塩 | K24: 44 | L24: 56 | M24: 55 | N24: 111
B25: 30 | C25: 松原 | D25: 57 | E25: 29 | F25: 49 | G25: 78 | I25: 78 | J25: 小井戸 | K25: 63 | L25: 44 | M25: 55 | N25: 99
B26: 31 | C26: みどり湖 | D26: 141 | E26: 150 | F26: 157 | G26: 307 | H26: 計 | K26: 2267 | L26: 2573 | M26: 2639 | N26: 5212
B27: 32 | C27: 峰原 | D27: 238 | E27: 300 | F27: 300 | G27: 600 | I27: 80 | J27: 古町 | K27: 152 | L27: 177 | M27: 181 | N27: 358
A28: 計 | D28: 3001 | E28: 3564 | F28: 3683 | G28: 7247 | H28: 北 | I28: 81 | J28: 宮前 | K28: 89 | L28: 108 | M28: 99 | N28: 207
B29: 35 | C29: 高出一区 | D29: 422 | E29: 497 | F29: 458 | G29: 955 | H29: 小 | I29: 82 | J29: 大出 | K29: 217 | L29: 249 | M29: 277 | N29: 526
A30: 高 | B30: 36 | C30: 高出二区 | D30: 814 | E30: 889 | F30: 825 | G30: 1714 | H30: 野 | I30: 83 | J30: 上田 | K30: 110 | L30: 115 | M30: 121 | N30: 236
B31: 37 | C31: 高出三区 | D31: 888 | E31: 999 | F31: 985 | G31: 1984 | I31: 84 | J31: 勝弦 | K31: 204 | L31: 215 | M31: 187 | N31: 402
A32: 出 | B32: 38 | C32: 高出四区 | D32: 817 | E32: 876 | F32: 883 | G32: 1759 | H32: 計 | K32: 772 | L32: 864 | M32: 865 | N32: 1729
B33: 39 | C33: 高出五区 | D33: 627 | E33: 682 | F33: 611 | G33: 1293 | H33: 楢 川 | I33: 90 | J33: 贄川 | K33: 240 | L33: 255 | M33: 262 | N33: 517
A34: 計 | D34: 3568 | E34: 3943 | F34: 3762 | G34: 7705 | I34: 91 | J34: 木曽平沢 | K34: 418 | L34: 420 | M34: 456 | N34: 876
B35: 40 | C35: 南内田 | D35: 493 | E35: 556 | F35: 553 | G35: 1109 | I35: 92 | J35: 奈良井 | K35: 260 | L35: 261 | M35: 280 | N35: 541
A36: 片 | B36: 41 | C36: 北熊井 | D36: 481 | E36: 642 | F36: 639 | G36: 1281 | H36: 計 | K36: 918 | L36: 936 | M36: 998 | N36: 1934
B37: 42 | C37: 南熊井 | D37: 209 | E37: 240 | F37: 251 | G37: 491
A38: 丘 | B38: 43 | C38: 中挾 | D38: 37 | E38: 45 | F38: 46 | G38: 91
B39: 44 | C39: 君石 | D39: 145 | E39: 96 | F39: 143 | G39: 239 | K39: 世帯数 | L39: 男 | M39: 女 | N39: 計 | O39: （住民基本台帳合計） | P39: 世帯数 | Q39: 男 | R39: 女 | S39: 計
B40: 45 | C40: 内田原 | D40: 152 | E40: 188 | F40: 206 | G40: 394 | H40: 住民基本台帳合計 | K40: =D14+D28+D34+D41+D46+K9+K17+K26+K32+K36 -> 29437 | L40: =E14+E28+E34+E41+E46+L9+L17+L26+L32+L36 -> 32516 | M40: =F14+F28+F34+F41+F46+M9+M17+M26+M32+M36 -> 32410 | N40: =L40+M40 -> 64926 | O40: 前年同月数値 | P40: 29100 | Q40: 32732 | R40: 32518 | S40: 65250
A41: 計 | D41: 1517 | E41: 1767 | F41: 1838 | G41: 3605 | H41: 前月数値 | K41: ='R7.11'!K40 -> 29400 | L41: ='R7.11'!L40 -> 32516 | M41: ='R7.11'!M40 -> 32413 | N41: ='R7.11'!N40 -> 64929 | O41: 前年同月比較 | P41: =K40-P40 -> 337 | Q41: =L40-Q40 -> -216 | R41: =M40-R40 -> -108 | S41: =N40-S40 -> -324
B42: 50 | C42: 原新田 | D42: 1929 | E42: 1991 | F42: 1966 | G42: 3957 | H42: 前月比較 | K42: =K40-K41 -> 37 | L42: =L40-L41 -> 0 | M42: =M40-M41 -> -3 | N42: =N40-N41 -> -3 | O42: （内外国人住民数） | P42: 世帯数 | Q42: 男 | R42: 女 | S42: 計
A43: 広 | B43: 51 | C43: 堅石 | D43: 1043 | E43: 1246 | F43: 1267 | G43: 2513 | H43: （内外国人住民数） | K43: 1235 | L43: 755 | M43: 753 | N43: 1508 | O43: 前年同月数値 | P43: 1183 | Q43: 726 | R43: 724 | S43: 1450
B44: 52 | C44: 郷原 | D44: 702 | E44: 749 | F44: 708 | G44: 1457 | H44: （前月数値） | K44: 1235 | L44: 753 | M44: 756 | N44: 1509 | O44: 前年同月比較 | P44: =K43-P43 -> 52 | Q44: =L43-Q43 -> 29 | R44: =M43-R43 -> 29 | S44: =N43-S43 -> 58
A45: 丘 | B45: 54 | C45: 野村 | D45: 2856 | E45: 2924 | F45: 2672 | G45: 5596 | H45: （前月比較） | K45: =K43-K44 -> 0 | L45: =L43-L44 -> 2 | M45: =M43-M44 -> -3 | N45: =N43-N44 -> -1
A46: 計 | D46: 6530 | E46: 6910 | F46: 6613 | G46: 13523

Sheet R7.11
A1: 区別住民基本台帳世帯人口一覧表
L2: 45962
A3: 地区 | B3: ＮＯ | C3: 区 | D3: 世帯数 | E3: 男 | F3: 女 | G3: 計 | H3: 地区 | I3: ＮＯ | J3: 区 | K3: 世帯数 | L3: 男 | M3: 女 | N3: 計
B4: 1 | C4: 大門一番町 | D4: 132 | E4: 116 | F4: 117 | G4: 233 | I4: 55 | J4: 吉田一区 | K4: 584 | L4: 615 | M4: 595 | N4: 1210
B5: 2 | C5: 大門二番町 | D5: 327 | E5: 359 | F5: 377 | G5: 736 | H5: 吉 | I5: 56 | J5: 吉田二区 | K5: 573 | L5: 574 | M5: 592 | N5: 1166
A6: 大 | B6: 3 | C6: 大門三番町 | D6: 367 | E6: 402 | F6: 399 | G6: 801 | I6: 57 | J6: 吉田三区 | K6: 1041 | L6: 1089 | M6: 1077 | N6: 2166
B7: 4 | C7: 大門四番町 | D7: 207 | E7: 219 | F7: 255 | G7: 474 | H7: 田 | I7: 58 | J7: 吉田四区 | K7: 944 | L7: 1036 | M7: 960 | N7: 1996
B8: 5 | C8: 大門五番町 | D8: 589 | E8: 659 | F8: 647 | G8: 1306 | I8: 59 | J8: 吉田五区 | K8: 1226 | L8: 1357 | M8: 1401 | N8: 2758
B9: 6 | C9: 大門六番町 | D9: 393 | E9: 407 | F9: 440 | G9: 847 | H9: 計 | K9: 4368 | L9: 4671 | M9: 4625 | N9: 9296
A10: 門 | B10: 7 | C10: 大門七番町 | D10: 278 | E10: 259 | F10: 268 | G10: 527 | I10: 60 | J10: 上組 | K10: 182 | L10: 252 | M10: 244 | N10: 496
B11: 8 | C11: 大門八番町 | D11: 211 | E11: 168 | F11: 198 | G11: 366 | H11: 洗 | I11: 61 | J11: 元町 | K11: 152 | L11: 181 | M11: 183 | N11: 364
B12: 9 | C12: 大門七区 | D12: 1971 | E12: 2185 | F12: 2132 | G12: 4317 | I12: 62 | J12: 芦ノ田 | K12: 312 | L12: 394 | M12: 398 | N12: 792
B13: 13 | C13: 大門田川町 | D13: 220 | E13: 244 | F13: 265 | G13: 509 | I13: 63 | J13: 太田 | K13: 515 | L13: 657 | M13: 666 | N13: 1323
A14: 計 | D14: 4695 | E14: 5018 | F14: 5098 | G14: 10116 | H14: 馬 | I14: 64 | J14: 岩垂 | K14: 230 | L14: 313 | M14: 306 | N14: 619
B15: 20 | C15: 東山 | D15: 104 | E15: 118 | F15: 115 | G15: 233 | I15: 65 | J15: 下小曽部 | K15: 271 | L15: 330 | M15: 356 | N15: 686
B16: 21 | C16: 柿沢 | D16: 162 | E16: 190 | F16: 201 | G16: 391 | I16: 66 | J16: 上小曽部 | K16: 136 | L16: 139 | M16: 143 | N16: 282
B17: 22 | C17: 金井 | D17: 79 | E17: 106 | F17: 92 | G17: 198 | H17: 計 | K17: 1798 | L17: 2266 | M17: 2296 | N17: 4562
A18: 塩 | B18: 23 | C18: 上西条 | D18: 216 | E18: 272 | F18: 290 | G18: 562 | I18: 70 | J18: 桔梗ケ原 | K18: 840 | L18: 875 | M18: 887 | N18: 1762
B19: 24 | C19: 中西条 | D19: 82 | E19: 106 | F19: 120 | G19: 226 | I19: 72 | J19: 平出 | K19: 317 | L19: 433 | M19: 397 | N19: 830
A20: 尻 | B20: 25 | C20: 下西条 | D20: 209 | E20: 256 | F20: 265 | G20: 521 | H20: 宗 | I20: 73 | J20: 床尾 | K20: 236 | L20: 260 | M20: 281 | N20: 541
B21: 26 | C21: 堀ノ内 | D21: 379 | E21: 438 | F21: 468 | G21: 906 | I21: 74 | J21: 洗馬 | K21: 268 | L21: 335 | M21: 368 | N21: 703
A22: 東 | B22: 27 | C22: 長畝 | D22: 161 | E22: 193 | F22: 215 | G22: 408 | I22: 75 | J22: 牧野 | K22: 342 | L22: 396 | M22: 416 | N22: 812
B23: 28 | C23: 桟敷 | D23: 224 | E23: 238 | F23: 248 | G23: 486 | H23: 賀 | I23: 76 | J23: 本山 | K23: 154 | L23: 176 | M23: 179 | N23: 355
B24: 29 | C24: 町区 | D24: 944 | E24: 1161 | F24: 1157 | G24: 2318 | I24: 77 | J24: 日出塩 | K24: 44 | L24: 56 | M24: 55 | N24: 111
B25: 30 | C25: 松原 | D25: 57 | E25: 29 | F25: 49 | G25: 78 | I25: 78 | J25: 小井戸 | K25: 63 | L25: 44 | M25: 55 | N25: 99
B26: 31 | C26: みどり湖 | D26: 141 | E26: 151 | F26: 157 | G26: 308 | H26: 計 | K26: 2264 | L26: 2575 | M26: 2638 | N26: 5213
B27: 32 | C27: 峰原 | D27: 237 | E27: 299 | F27: 301 | G27: 600 | I27: 80 | J27: 古町 | K27: 151 | L27: 176 | M27: 181 | N27: 357
A28: 計 | D28: 2995 | E28: 3557 | F28: 3678 | G28: 7235 | H28: 北 | I28: 81 | J28: 宮前 | K28: 90 | L28: 109 | M28: 99 | N28: 208
B29: 35 | C29: 高出一区 | D29: 426 | E29: 499 | F29: 456 | G29: 955 | H29: 小 | I29: 82 | J29: 大出 | K29: 215 | L29: 253 | M29: 276 | N29: 529
A30: 高 | B30: 36 | C30: 高出二区 | D30: 812 | E30: 889 | F30: 829 | G30: 1718 | H30: 野 | I30: 83 | J30: 上田 | K30: 110 | L30: 116 | M30: 121 | N30: 237
B31: 37 | C31: 高出三区 | D31: 884 | E31: 999 | F31: 984 | G31: 1983 | I31: 84 | J31: 勝弦 | K31: 204 | L31: 215 | M31: 186 | N31: 401
A32: 出 | B32: 38 | C32: 高出四区 | D32: 813 | E32: 877 | F32: 878 | G32: 1755 | H32: 計 | K32: 770 | L32: 869 | M32: 863 | N32: 1732
B33: 39 | C33: 高出五区 | D33: 627 | E33: 680 | F33: 610 | G33: 1290 | H33: 楢 川 | I33: 90 | J33: 贄川 | K33: 240 | L33: 255 | M33: 264 | N33: 519
A34: 計 | D34: 3562 | E34: 3944 | F34: 3757 | G34: 7701 | I34: 91 | J34: 木曽平沢 | K34: 420 | L34: 420 | M34: 460 | N34: 880
B35: 40 | C35: 南内田 | D35: 492 | E35: 556 | F35: 553 | G35: 1109 | I35: 92 | J35: 奈良井 | K35: 259 | L35: 261 | M35: 280 | N35: 541
A36: 片 | B36: 41 | C36: 北熊井 | D36: 480 | E36: 641 | F36: 641 | G36: 1282 | H36: 計 | K36: 919 | L36: 936 | M36: 1004 | N36: 1940
B37: 42 | C37: 南熊井 | D37: 209 | E37: 240 | F37: 251 | G37: 491
A38: 丘 | B38: 43 | C38: 中挾 | D38: 38 | E38: 46 | F38: 47 | G38: 93
B39: 44 | C39: 君石 | D39: 145 | E39: 96 | F39: 143 | G39: 239 | K39: 世帯数 | L39: 男 | M39: 女 | N39: 計 | O39: （住民基本台帳合計） | P39: 世帯数 | Q39: 男 | R39: 女 | S39: 計
B40: 45 | C40: 内田原 | D40: 153 | E40: 188 | F40: 207 | G40: 395 | H40: 住民基本台帳合計 | K40: 29400 | L40: 32516 | M40: 32413 | N40: 64929 | O40: 前年同月数値 | P40: 29125 | Q40: 32775 | R40: 32542 | S40: 65317
A41: 計 | D41: 1517 | E41: 1767 | F41: 1842 | G41: 3609 | H41: 前月数値 | K41: 29392 | L41: 32531 | M41: 32417 | N41: 64948 | O41: 前年同月比較 | P41: 275 | Q41: -259 | R41: -129 | S41: -388
B42: 50 | C42: 原新田 | D42: 1913 | E42: 1985 | F42: 1958 | G42: 3943 | H42: 前月比較 | K42: 8 | L42: -15 | M42: -4 | N42: -19 | O42: （内外国人住民数） | P42: 世帯数 | Q42: 男 | R42: 女 | S42: 計
A43: 広 | B43: 51 | C43: 堅石 | D43: 1042 | E43: 1248 | F43: 1271 | G43: 2519 | H43: （内外国人住民数） | K43: 1235 | L43: 753 | M43: 756 | N43: 1509 | O43: 前年同月数値 | P43: 1198 | Q43: 736 | R43: 737 | S43: 1473
B44: 52 | C44: 郷原 | D44: 697 | E44: 743 | F44: 709 | G44: 1452 | H44: （前月数値） | K44: 1240 | L44: 756 | M44: 757 | N44: 1513 | O44: 前年同月比較 | P44: 37 | Q44: 17 | R44: 19 | S44: 36
A45: 丘 | B45: 54 | C45: 野村 | D45: 2860 | E45: 2937 | F45: 2674 | G45: 5611 | H45: （前月比較） | K45: -5 | L45: -3 | M45: -1 | N45: -4
A46: 計 | D46: 6512 | E46: 6913 | F46: 6612 | G46: 13525

Sheet R7.10
A1: 区別住民基本台帳世帯人口一覧表
L2: 45931
A3: 地区 | B3: ＮＯ | C3: 区 | D3: 世帯数 | E3: 男 | F3: 女 | G3: 計 | H3: 地区 | I3: ＮＯ | J3: 区 | K3: 世帯数 | L3: 男 | M3: 女 | N3: 計
B4: 1 | C4: 大門一番町 | D4: 129 | E4: 113 | F4: 113 | G4: 226 | I4: 55 | J4: 吉田一区 | K4: 581 | L4: 613 | M4: 590 | N4: 1203
B5: 2 | C5: 大門二番町 | D5: 325 | E5: 360 | F5: 375 | G5: 735 | H5: 吉 | I5: 56 | J5: 吉田二区 | K5: 572 | L5: 573 | M5: 587 | N5: 1160
A6: 大 | B6: 3 | C6: 大門三番町 | D6: 365 | E6: 402 | F6: 400 | G6: 802 | I6: 57 | J6: 吉田三区 | K6: 1039 | L6: 1081 | M6: 1070 | N6: 2151
B7: 4 | C7: 大門四番町 | D7: 208 | E7: 221 | F7: 255 | G7: 476 | H7: 田 | I7: 58 | J7: 吉田四区 | K7: 945 | L7: 1043 | M7: 966 | N7: 2009
B8: 5 | C8: 大門五番町 | D8: 593 | E8: 665 | F8: 652 | G8: 1317 | I8: 59 | J8: 吉田五区 | K8: 1228 | L8: 1353 | M8: 1406 | N8: 2759
B9: 6 | C9: 大門六番町 | D9: 398 | E9: 411 | F9: 444 | G9: 855 | H9: 計 | K9: 4365 | L9: 4663 | M9: 4619 | N9: 9282
A10: 門 | B10: 7 | C10: 大門七番町 | D10: 280 | E10: 259 | F10: 270 | G10: 529 | I10: 60 | J10: 上組 | K10: 182 | L10: 252 | M10: 244 | N10: 496
B11: 8 | C11: 大門八番町 | D11: 208 | E11: 169 | F11: 196 | G11: 365 | H11: 洗 | I11: 61 | J11: 元町 | K11: 153 | L11: 182 | M11: 183 | N11: 365
B12: 9 | C12: 大門七区 | D12: 1961 | E12: 2172 | F12: 2120 | G12: 4292 | I12: 62 | J12: 芦ノ田 | K12: 316 | L12: 395 | M12: 401 | N12: 796
B13: 13 | C13: 大門田川町 | D13: 220 | E13: 244 | F13: 264 | G13: 508 | I13: 63 | J13: 太田 | K13: 513 | L13: 654 | M13: 663 | N13: 1317
A14: 計 | D14: 4687 | E14: 5016 | F14: 5089 | G14: 10105 | H14: 馬 | I14: 64 | J14: 岩垂 | K14: 228 | L14: 311 | M14: 306 | N14: 617
B15: 20 | C15: 東山 | D15: 104 | E15: 119 | F15: 115 | G15: 234 | I15: 65 | J15: 下小曽部 | K15: 272 | L15: 330 | M15: 359 | N15: 689
B16: 21 | C16: 柿沢 | D16: 162 | E16: 188 | F16: 200 | G16: 388 | I16: 66 | J16: 上小曽部 | K16: 136 | L16: 139 | M16: 143 | N16: 282
B17: 22 | C17: 金井 | D17: 80 | E17: 107 | F17: 93 | G17: 200 | H17: 計 | K17: 1800 | L17: 2263 | M17: 2299 | N17: 4562
A18: 塩 | B18: 23 | C18: 上西条 | D18: 216 | E18: 272 | F18: 291 | G18: 563 | I18: 70 | J18: 桔梗ケ原 | K18: 840 | L18: 879 | M18: 888 | N18: 1767
B19: 24 | C19: 中西条 | D19: 82 | E19: 106 | F19: 120 | G19: 226 | I19: 72 | J19: 平出 | K19: 319 | L19: 436 | M19: 399 | N19: 835
A20: 尻 | B20: 25 | C20: 下西条 | D20: 210 | E20: 257 | F20: 266 | G20: 523 | H20: 宗 | I20: 73 | J20: 床尾 | K20: 236 | L20: 260 | M20: 281 | N20: 541
B21: 26 | C21: 堀ノ内 | D21: 379 | E21: 442 | F21: 469 | G21: 911 | I21: 74 | J21: 洗馬 | K21: 266 | L21: 334 | M21: 367 | N21: 701
A22: 東 | B22: 27 | C22: 長畝 | D22: 160 | E22: 190 | F22: 215 | G22: 405 | I22: 75 | J22: 牧野 | K22: 342 | L22: 396 | M22: 416 | N22: 812
B23: 28 | C23: 桟敷 | D23: 222 | E23: 236 | F23: 246 | G23: 482 | H23: 賀 | I23: 76 | J23: 本山 | K23: 154 | L23: 176 | M23: 179 | N23: 355
B24: 29 | C24: 町区 | D24: 953 | E24: 1175 | F24: 1165 | G24: 2340 | I24: 77 | J24: 日出塩 | K24: 44 | L24: 58 | M24: 55 | N24: 113
B25: 30 | C25: 松原 | D25: 57 | E25: 29 | F25: 50 | G25: 79 | I25: 78 | J25: 小井戸 | K25: 63 | L25: 44 | M25: 54 | N25: 98
B26: 31 | C26: みどり湖 | D26: 141 | E26: 152 | F26: 157 | G26: 309 | H26: 計 | K26: 2264 | L26: 2583 | M26: 2639 | N26: 5222
B27: 32 | C27: 峰原 | D27: 236 | E27: 297 | F27: 300 | G27: 597 | I27: 80 | J27: 古町 | K27: 150 | L27: 175 | M27: 182 | N27: 357
A28: 計 | D28: 3002 | E28: 3570 | F28: 3687 | G28: 7257 | H28: 北 | I28: 81 | J28: 宮前 | K28: 89 | L28: 107 | M28: 98 | N28: 205
B29: 35 | C29: 高出一区 | D29: 425 | E29: 498 | F29: 460 | G29: 958 | H29: 小 | I29: 82 | J29: 大出 | K29: 214 | L29: 256 | M29: 275 | N29: 531
A30: 高 | B30: 36 | C30: 高出二区 | D30: 813 | E30: 891 | F30: 826 | G30: 1717 | H30: 野 | I30: 83 | J30: 上田 | K30: 110 | L30: 116 | M30: 120 | N30: 236
B31: 37 | C31: 高出三区 | D31: 881 | E31: 1001 | F31: 981 | G31: 1982 | I31: 84 | J31: 勝弦 | K31: 205 | L31: 217 | M31: 186 | N31: 403
A32: 出 | B32: 38 | C32: 高出四区 | D32: 810 | E32: 879 | F32: 878 | G32: 1757 | H32: 計 | K32: 768 | L32: 871 | M32: 861 | N32: 1732
B33: 39 | C33: 高出五区 | D33: 629 | E33: 681 | F33: 611 | G33: 1292 | H33: 楢 川 | I33: 90 | J33: 贄川 | K33: 240 | L33: 256 | M33: 264 | N33: 520
A34: 計 | D34: 3558 | E34: 3950 | F34: 3756 | G34: 7706 | I34: 91 | J34: 木曽平沢 | K34: 421 | L34: 420 | M34: 463 | N34: 883
B35: 40 | C35: 南内田 | D35: 490 | E35: 554 | F35: 555 | G35: 1109 | I35: 92 | J35: 奈良井 | K35: 260 | L35: 260 | M35: 282 | N35: 542
A36: 片 | B36: 41 | C36: 北熊井 | D36: 481 | E36: 642 | F36: 643 | G36: 1285 | H36: 計 | K36: 921 | L36: 936 | M36: 1009 | N36: 1945
B37: 42 | C37: 南熊井 | D37: 208 | E37: 241 | F37: 251 | G37: 492
A38: 丘 | B38: 43 | C38: 中挾 | D38: 38 | E38: 46 | F38: 47 | G38: 93
B39: 44 | C39: 君石 | D39: 141 | E39: 93 | F39: 138 | G39: 231 | K39: 世帯数 | L39: 男 | M39: 女 | N39: 計 | O39: （住民基本台帳合計） | P39: 世帯数 | Q39: 男 | R39: 女 | S39: 計
B40: 45 | C40: 内田原 | D40: 152 | E40: 188 | F40: 207 | G40: 395 | H40: 住民基本台帳合計 | K40: 29392 | L40: 32531 | M40: 32417 | N40: 64948 | O40: 前年同月数値 | P40: 29138 | Q40: 32781 | R40: 32565 | S40: 65346
A41: 計 | D41: 1510 | E41: 1764 | F41: 1841 | G41: 3605 | H41: 前月数値 | K41: 29371 | L41: 32525 | M41: 32437 | N41: 64962 | O41: 前年同月比較 | P41: 254 | Q41: -250 | R41: -148 | S41: -398
B42: 50 | C42: 原新田 | D42: 1912 | E42: 1983 | F42: 1961 | G42: 3944 | H42: 前月比較 | K42: 21 | L42: 6 | M42: -20 | N42: -14 | O42: （内外国人住民数） | P42: 世帯数 | Q42: 男 | R42: 女 | S42: 計
A43: 広 | B43: 51 | C43: 堅石 | D43: 1043 | E43: 1243 | F43: 1271 | G43: 2514 | H43: （内外国人住民数） | K43: 1240 | L43: 756 | M43: 757 | N43: 1513 | O43: 前年同月数値 | P43: 1211 | Q43: 744 | R43: 746 | S43: 1490
B44: 52 | C44: 郷原 | D44: 695 | E44: 742 | F44: 708 | G44: 1450 | H44: （前月数値） | K44: 1242 | L44: 759 | M44: 753 | N44: 1512 | O44: 前年同月比較 | P44: 29 | Q44: 12 | R44: 11 | S44: 23
A45: 丘 | B45: 54 | C45: 野村 | D45: 2867 | E45: 2947 | F45: 2677 | G45: 5624 | H45: （前月比較） | K45: -2 | L45: -3 | M45: 4 | N45: 1
A46: 計 | D46: 6517 | E46: 6915 | F46: 6617 | G46: 13532

Sheet R7.9
A1: 区別住民基本台帳世帯人口一覧表
L2: 45901
A3: 地区 | B3: ＮＯ | C3: 区 | D3: 世帯数 | E3: 男 | F3: 女 | G3: 計 | H3: 地区 | I3: ＮＯ | J3: 区 | K3: 世帯数 | L3: 男 | M3: 女 | N3: 計
B4: 1 | C4: 大門一番町 | D4: 131 | E4: 113 | F4: 115 | G4: 228 | I4: 55 | J4: 吉田一区 | K4: 578 | L4: 609 | M4: 588 | N4: 1197
B5: 2 | C5: 大門二番町 | D5: 325 | E5: 361 | F5: 376 | G5: 737 | H5: 吉 | I5: 56 | J5: 吉田二区 | K5: 574 | L5: 578 | M5: 592 | N5: 1170
A6: 大 | B6: 3 | C6: 大門三番町 | D6: 363 | E6: 399 | F6: 403 | G6: 802 | I6: 57 | J6: 吉田三区 | K6: 1040 | L6: 1079 | M6: 1068 | N6: 2147
B7: 4 | C7: 大門四番町 | D7: 210 | E7: 221 | F7: 258 | G7: 479 | H7: 田 | I7: 58 | J7: 吉田四区 | K7: 939 | L7: 1037 | M7: 961 | N7: 1998
B8: 5 | C8: 大門五番町 | D8: 597 | E8: 670 | F8: 656 | G8: 1326 | I8: 59 | J8: 吉田五区 | K8: 1226 | L8: 1350 | M8: 1403 | N8: 2753
B9: 6 | C9: 大門六番町 | D9: 400 | E9: 413 | F9: 445 | G9: 858 | H9: 計 | K9: 4357 | L9: 4653 | M9: 4612 | N9: 9265
A10: 門 | B10: 7 | C10: 大門七番町 | D10: 283 | E10: 260 | F10: 271 | G10: 531 | I10: 60 | J10: 上組 | K10: 182 | L10: 252 | M10: 245 | N10: 497
B11: 8 | C11: 大門八番町 | D11: 208 | E11: 168 | F11: 196 | G11: 364 | H11: 洗 | I11: 61 | J11: 元町 | K11: 153 | L11: 182 | M11: 183 | N11: 365
B12: 9 | C12: 大門七区 | D12: 1944 | E12: 2154 | F12: 2111 | G12: 4265 | I12: 62 | J12: 芦ノ田 | K12: 314 | L12: 394 | M12: 399 | N12: 793
B13: 13 | C13: 大門田川町 | D13: 219 | E13: 243 | F13: 264 | G13: 507 | I13: 63 | J13: 太田 | K13: 516 | L13: 656 | M13: 665 | N13: 1321
A14: 計 | D14: 4680 | E14: 5002 | F14: 5095 | G14: 10097 | H14: 馬 | I14: 64 | J14: 岩垂 | K14: 227 | L14: 310 | M14: 306 | N14: 616
B15: 20 | C15: 東山 | D15: 103 | E15: 118 | F15: 116 | G15: 234 | I15: 65 | J15: 下小曽部 | K15: 271 | L15: 329 | M15: 359 | N15: 688
B16: 21 | C16: 柿沢 | D16: 162 | E16: 186 | F16: 198 | G16: 384 | I16: 66 | J16: 上小曽部 | K16: 136 | L16: 140 | M16: 142 | N16: 282
B17: 22 | C17: 金井 | D17: 80 | E17: 107 | F17: 93 | G17: 200 | H17: 計 | K17: 1799 | L17: 2263 | M17: 2299 | N17: 4562
A18: 塩 | B18: 23 | C18: 上西条 | D18: 214 | E18: 272 | F18: 292 | G18: 564 | I18: 70 | J18: 桔梗ケ原 | K18: 845 | L18: 890 | M18: 889 | N18: 1779
B19: 24 | C19: 中西条 | D19: 82 | E19: 107 | F19: 120 | G19: 227 | I19: 72 | J19: 平出 | K19: 320 | L19: 437 | M19: 399 | N19: 836
A20: 尻 | B20: 25 | C20: 下西条 | D20: 208 | E20: 255 | F20: 267 | G20: 522 | H20: 宗 | I20: 73 | J20: 床尾 | K20: 235 | L20: 262 | M20: 283 | N20: 545
B21: 26 | C21: 堀ノ内 | D21: 379 | E21: 441 | F21: 469 | G21: 910 | I21: 74 | J21: 洗馬 | K21: 266 | L21: 334 | M21: 368 | N21: 702
A22: 東 | B22: 27 | C22: 長畝 | D22: 161 | E22: 191 | F22: 215 | G22: 406 | I22: 75 | J22: 牧野 | K22: 342 | L22: 396 | M22: 418 | N22: 814
B23: 28 | C23: 桟敷 | D23: 221 | E23: 236 | F23: 246 | G23: 482 | H23: 賀 | I23: 76 | J23: 本山 | K23: 155 | L23: 177 | M23: 178 | N23: 355
B24: 29 | C24: 町区 | D24: 948 | E24: 1168 | F24: 1165 | G24: 2333 | I24: 77 | J24: 日出塩 | K24: 44 | L24: 59 | M24: 55 | N24: 114
B25: 30 | C25: 松原 | D25: 57 | E25: 29 | F25: 50 | G25: 79 | I25: 78 | J25: 小井戸 | K25: 63 | L25: 44 | M25: 54 | N25: 98
B26: 31 | C26: みどり湖 | D26: 141 | E26: 153 | F26: 157 | G26: 310 | H26: 計 | K26: 2270 | L26: 2599 | M26: 2644 | N26: 5243
B27: 32 | C27: 峰原 | D27: 236 | E27: 298 | F27: 300 | G27: 598 | I27: 80 | J27: 古町 | K27: 149 | L27: 176 | M27: 184 | N27: 360
A28: 計 | D28: 2992 | E28: 3561 | F28: 3688 | G28: 7249 | H28: 北 | I28: 81 | J28: 宮前 | K28: 89 | L28: 108 | M28: 98 | N28: 206
B29: 35 | C29: 高出一区 | D29: 426 | E29: 500 | F29: 460 | G29: 960 | H29: 小 | I29: 82 | J29: 大出 | K29: 215 | L29: 256 | M29: 276 | N29: 532
A30: 高 | B30: 36 | C30: 高出二区 | D30: 810 | E30: 888 | F30: 827 | G30: 1715 | H30: 野 | I30: 83 | J30: 上田 | K30: 110 | L30: 116 | M30: 120 | N30: 236
B31: 37 | C31: 高出三区 | D31: 870 | E31: 989 | F31: 978 | G31: 1967 | I31: 84 | J31: 勝弦 | K31: 205 | L31: 216 | M31: 187 | N31: 403
A32: 出 | B32: 38 | C32: 高出四区 | D32: 807 | E32: 876 | F32: 879 | G32: 1755 | H32: 計 | K32: 768 | L32: 872 | M32: 865 | N32: 1737
B33: 39 | C33: 高出五区 | D33: 627 | E33: 681 | F33: 612 | G33: 1293 | H33: 楢 川 | I33: 90 | J33: 贄川 | K33: 241 | L33: 257 | M33: 266 | N33: 523
A34: 計 | D34: 3540 | E34: 3934 | F34: 3756 | G34: 7690 | I34: 91 | J34: 木曽平沢 | K34: 421 | L34: 420 | M34: 464 | N34: 884
B35: 40 | C35: 南内田 | D35: 489 | E35: 556 | F35: 555 | G35: 1111 | I35: 92 | J35: 奈良井 | K35: 260 | L35: 260 | M35: 284 | N35: 544
A36: 片 | B36: 41 | C36: 北熊井 | D36: 483 | E36: 645 | F36: 644 | G36: 1289 | H36: 計 | K36: 922 | L36: 937 | M36: 1014 | N36: 1951
B37: 42 | C37: 南熊井 | D37: 207 | E37: 240 | F37: 251 | G37: 491
A38: 丘 | B38: 43 | C38: 中挾 | D38: 37 | E38: 48 | F38: 47 | G38: 95
B39: 44 | C39: 君石 | D39: 139 | E39: 91 | F39: 136 | G39: 227 | K39: 世帯数 | L39: 男 | M39: 女 | N39: 計 | O39: （住民基本台帳合計） | P39: 世帯数 | Q39: 男 | R39: 女 | S39: 計
B40: 45 | C40: 内田原 | D40: 152 | E40: 188 | F40: 207 | G40: 395 | H40: 住民基本台帳合計 | K40: 29371 | L40: 32525 | M40: 32437 | N40: 64962 | O40: 前年同月数値 | P40: 29147 | Q40: 32797 | R40: 32595 | S40: 65392
A41: 計 | D41: 1507 | E41: 1768 | F41: 1840 | G41: 3608 | H41: 前月数値 | K41: 29328 | L41: 32526 | M41: 32428 | N41: 64954 | O41: 前年同月比較 | P41: =K40-P40 -> 224 | Q41: =L40-Q40 -> -272 | R41: =M40-R40 -> -158 | S41: =N40-S40 -> -430
B42: 50 | C42: 原新田 | D42: 1913 | E42: 1985 | F42: 1959 | G42: 3944 | H42: 前月比較 | K42: 43 | L42: -1 | M42: 9 | N42: 8 | O42: （内外国人住民数） | P42: 世帯数 | Q42: 男 | R42: 女 | S42: 計
A43: 広 | B43: 51 | C43: 堅石 | D43: 1047 | E43: 1247 | F43: 1275 | G43: 2522 | H43: （内外国人住民数） | K43: 1242 | L43: 759 | M43: 753 | N43: 1512 | O43: 前年同月数値 | P43: 1212 | Q43: 748 | R43: 743 | S43: 1491
B44: 52 | C44: 郷原 | D44: 696 | E44: 740 | F44: 713 | G44: 1453 | H44: （前月数値） | K44: 1231 | L44: 749 | M44: 745 | N44: 1494 | O44: 前年同月比較 | P44: =K43-P43 -> 30 | Q44: =L43-Q43 -> 11 | R44: =M43-R43 -> 10 | S44: =N43-S43 -> 21
A45: 丘 | B45: 54 | C45: 野村 | D45: 2880 | E45: 2964 | F45: 2677 | G45: 5641 | H45: （前月比較） | K45: 11 | L45: 10 | M45: 8 | N45: 18
A46: 計 | D46: 6536 | E46: 6936 | F46: 6624 | G46: 13560

Sheet R7.8
A1: 区別住民基本台帳世帯人口一覧表
L2: 45870
A3: 地区 | B3: ＮＯ | C3: 区 | D3: 世帯数 | E3: 男 | F3: 女 | G3: 計 | H3: 地区 | I3: ＮＯ | J3: 区 | K3: 世帯数 | L3: 男 | M3: 女 | N3: 計
B4: 1 | C4: 大門一番町 | D4: 131 | E4: 113 | F4: 115 | G4: 228 | I4: 55 | J4: 吉田一区 | K4: 580 | L4: 610 | M4: 591 | N4: 1201
B5: 2 | C5: 大門二番町 | D5: 324 | E5: 359 | F5: 381 | G5: 740 | H5: 吉 | I5: 56 | J5: 吉田二区 | K5: 574 | L5: 579 | M5: 592 | N5: 1171
A6: 大 | B6: 3 | C6: 大門三番町 | D6: 362 | E6: 402 | F6: 400 | G6: 802 | I6: 57 | J6: 吉田三区 | K6: 1037 | L6: 1076 | M6: 1069 | N6: 2145
B7: 4 | C7: 大門四番町 | D7: 208 | E7: 219 | F7: 255 | G7: 474 | H7: 田 | I7: 58 | J7: 吉田四区 | K7: 937 | L7: 1039 | M7: 958 | N7: 1997
B8: 5 | C8: 大門五番町 | D8: 597 | E8: 669 | F8: 656 | G8: 1325 | I8: 59 | J8: 吉田五区 | K8: 1219 | L8: 1349 | M8: 1396 | N8: 2745
B9: 6 | C9: 大門六番町 | D9: 400 | E9: 410 | F9: 446 | G9: 856 | H9: 計 | K9: 4347 | L9: 4653 | M9: 4606 | N9: 9259
A10: 門 | B10: 7 | C10: 大門七番町 | D10: 285 | E10: 263 | F10: 271 | G10: 534 | I10: 60 | J10: 上組 | K10: 183 | L10: 256 | M10: 246 | N10: 502
B11: 8 | C11: 大門八番町 | D11: 207 | E11: 168 | F11: 195 | G11: 363 | H11: 洗 | I11: 61 | J11: 元町 | K11: 152 | L11: 182 | M11: 182 | N11: 364
B12: 9 | C12: 大門七区 | D12: 1934 | E12: 2149 | F12: 2094 | G12: 4243 | I12: 62 | J12: 芦ノ田 | K12: 313 | L12: 393 | M12: 396 | N12: 789
B13: 13 | C13: 大門田川町 | D13: 219 | E13: 242 | F13: 264 | G13: 506 | I13: 63 | J13: 太田 | K13: 516 | L13: 657 | M13: 665 | N13: 1322
A14: 計 | D14: 4667 | E14: 4994 | F14: 5077 | G14: 10071 | H14: 馬 | I14: 64 | J14: 岩垂 | K14: 228 | L14: 310 | M14: 307 | N14: 617
B15: 20 | C15: 東山 | D15: 103 | E15: 119 | F15: 117 | G15: 236 | I15: 65 | J15: 下小曽部 | K15: 271 | L15: 331 | M15: 358 | N15: 689
B16: 21 | C16: 柿沢 | D16: 162 | E16: 187 | F16: 199 | G16: 386 | I16: 66 | J16: 上小曽部 | K16: 137 | L16: 143 | M16: 142 | N16: 285
B17: 22 | C17: 金井 | D17: 82 | E17: 109 | F17: 93 | G17: 202 | H17: 計 | K17: 1800 | L17: 2272 | M17: 2296 | N17: 4568
A18: 塩 | B18: 23 | C18: 上西条 | D18: 212 | E18: 270 | F18: 291 | G18: 561 | I18: 70 | J18: 桔梗ケ原 | K18: 843 | L18: 891 | M18: 895 | N18: 1786
B19: 24 | C19: 中西条 | D19: 82 | E19: 107 | F19: 119 | G19: 226 | I19: 72 | J19: 平出 | K19: 321 | L19: 437 | M19: 399 | N19: 836
A20: 尻 | B20: 25 | C20: 下西条 | D20: 208 | E20: 256 | F20: 267 | G20: 523 | H20: 宗 | I20: 73 | J20: 床尾 | K20: 235 | L20: 259 | M20: 283 | N20: 542
B21: 26 | C21: 堀ノ内 | D21: 380 | E21: 442 | F21: 471 | G21: 913 | I21: 74 | J21: 洗馬 | K21: 265 | L21: 332 | M21: 371 | N21: 703
A22: 東 | B22: 27 | C22: 長畝 | D22: 161 | E22: 191 | F22: 215 | G22: 406 | I22: 75 | J22: 牧野 | K22: 342 | L22: 396 | M22: 419 | N22: 815
B23: 28 | C23: 桟敷 | D23: 220 | E23: 237 | F23: 246 | G23: 483 | H23: 賀 | I23: 76 | J23: 本山 | K23: 154 | L23: 178 | M23: 178 | N23: 356
B24: 29 | C24: 町区 | D24: 948 | E24: 1168 | F24: 1166 | G24: 2334 | I24: 77 | J24: 日出塩 | K24: 44 | L24: 59 | M24: 55 | N24: 114
B25: 30 | C25: 松原 | D25: 57 | E25: 29 | F25: 50 | G25: 79 | I25: 78 | J25: 小井戸 | K25: 63 | L25: 44 | M25: 54 | N25: 98
B26: 31 | C26: みどり湖 | D26: 140 | E26: 153 | F26: 158 | G26: 311 | H26: 計 | K26: 2267 | L26: 2596 | M26: 2654 | N26: 5250
B27: 32 | C27: 峰原 | D27: 235 | E27: 298 | F27: 298 | G27: 596 | I27: 80 | J27: 古町 | K27: 149 | L27: 177 | M27: 185 | N27: 362
A28: 計 | D28: 2990 | E28: 3566 | F28: 3690 | G28: 7256 | H28: 北 | I28: 81 | J28: 宮前 | K28: 89 | L28: 109 | M28: 99 | N28: 208
B29: 35 | C29: 高出一区 | D29: 424 | E29: 500 | F29: 461 | G29: 961 | H29: 小 | I29: 82 | J29: 大出 | K29: 215 | L29: 256 | M29: 276 | N29: 532
A30: 高 | B30: 36 | C30: 高出二区 | D30: 810 | E30: 888 | F30: 823 | G30: 1711 | H30: 野 | I30: 83 | J30: 上田 | K30: 110 | L30: 116 | M30: 120 | N30: 236
B31: 37 | C31: 高出三区 | D31: 867 | E31: 990 | F31: 977 | G31: 1967 | I31: 84 | J31: 勝弦 | K31: 202 | L31: 215 | M31: 184 | N31: 399
A32: 出 | B32: 38 | C32: 高出四区 | D32: 803 | E32: 868 | F32: 876 | G32: 1744 | H32: 計 | K32: 765 | L32: 873 | M32: 864 | N32: 1737
B33: 39 | C33: 高出五区 | D33: 628 | E33: 682 | F33: 614 | G33: 1296 | H33: 楢 川 | I33: 90 | J33: 贄川 | K33: 241 | L33: 257 | M33: 266 | N33: 523
A34: 計 | D34: 3532 | E34: 3928 | F34: 3751 | G34: 7679 | I34: 91 | J34: 木曽平沢 | K34: 423 | L34: 423 | M34: 465 | N34: 888
B35: 40 | C35: 南内田 | D35: 492 | E35: 559 | F35: 555 | G35: 1114 | I35: 92 | J35: 奈良井 | K35: 260 | L35: 260 | M35: 284 | N35: 544
A36: 片 | B36: 41 | C36: 北熊井 | D36: 483 | E36: 644 | F36: 645 | G36: 1289 | H36: 計 | K36: 924 | L36: 940 | M36: 1015 | N36: 1955
B37: 42 | C37: 南熊井 | D37: 207 | E37: 240 | F37: 251 | G37: 491
A38: 丘 | B38: 43 | C38: 中挾 | D38: 37 | E38: 48 | F38: 47 | G38: 95
B39: 44 | C39: 君石 | D39: 139 | E39: 90 | F39: 138 | G39: 228 | K39: 世帯数 | L39: 男 | M39: 女 | N39: 計 | O39: （住民基本台帳合計） | P39: 世帯数 | Q39: 男 | R39: 女 | S39: 計
B40: 45 | C40: 内田原 | D40: 151 | E40: 188 | F40: 207 | G40: 395 | H40: 住民基本台帳合計 | K40: 29328 | L40: 32526 | M40: 32428 | N40: 64954 | O40: 前年同月数値 | P40: 29127 | Q40: 32780 | R40: 32594 | S40: 65374
A41: 計 | D41: 1509 | E41: 1769 | F41: 1843 | G41: 3612 | H41: 前月数値 | K41: 29314 | L41: 32551 | M41: 32407 | N41: 64958 | O41: 前年同月比較 | P41: 201 | Q41: -254 | R41: -166 | S41: -420
B42: 50 | C42: 原新田 | D42: 1915 | E42: 1989 | F42: 1962 | G42: 3951 | H42: 前月比較 | K42: 14 | L42: -25 | M42: 21 | N42: -4 | O42: （内外国人住民数） | P42: 世帯数 | Q42: 男 | R42: 女 | S42: 計
A43: 広 | B43: 51 | C43: 堅石 | D43: 1048 | E43: 1252 | F43: 1280 | G43: 2532 | H43: （内外国人住民数） | K43: 1231 | L43: 749 | M43: 745 | N43: 1494 | O43: 前年同月数値 | P43: 1189 | Q43: 729 | R43: 738 | S43: 1467
B44: 52 | C44: 郷原 | D44: 695 | E44: 742 | F44: 710 | G44: 1452 | H44: （前月数値） | K44: 1226 | L44: 751 | M44: 734 | N44: 1485 | O44: 前年同月比較 | P44: 42 | Q44: 20 | R44: 7 | S44: 27
A45: 丘 | B45: 54 | C45: 野村 | D45: 2869 | E45: 2952 | F45: 2680 | G45: 5632 | H45: （前月比較） | K45: 5 | L45: -2 | M45: 11 | N45: 9
A46: 計 | D46: 6527 | E46: 6935 | F46: 6632 | G46: 13567

Sheet R7.7
A1: 区別住民基本台帳世帯人口一覧表
L2: 45839
A3: 地区 | B3: ＮＯ | C3: 区 | D3: 世帯数 | E3: 男 | F3: 女 | G3: 計 | H3: 地区 | I3: ＮＯ | J3: 区 | K3: 世帯数 | L3: 男 | M3: 女 | N3: 計
B4: 1 | C4: 大門一番町 | D4: 132 | E4: 115 | F4: 114 | G4: 229 | I4: 55 | J4: 吉田一区 | K4: 576 | L4: 606 | M4: 585 | N4: 1191
B5: 2 | C5: 大門二番町 | D5: 322 | E5: 360 | F5: 379 | G5: 739 | H5: 吉 | I5: 56 | J5: 吉田二区 | K5: 571 | L5: 576 | M5: 588 | N5: 1164
A6: 大 | B6: 3 | C6: 大門三番町 | D6: 362 | E6: 404 | F6: 403 | G6: 807 | I6: 57 | J6: 吉田三区 | K6: 1039 | L6: 1077 | M6: 1068 | N6: 2145
B7: 4 | C7: 大門四番町 | D7: 211 | E7: 221 | F7: 256 | G7: 477 | H7: 田 | I7: 58 | J7: 吉田四区 | K7: 933 | L7: 1034 | M7: 954 | N7: 1988
B8: 5 | C8: 大門五番町 | D8: 598 | E8: 670 | F8: 658 | G8: 1328 | I8: 59 | J8: 吉田五区 | K8: 1223 | L8: 1357 | M8: 1400 | N8: 2757
B9: 6 | C9: 大門六番町 | D9: 398 | E9: 409 | F9: 445 | G9: 854 | H9: 計 | K9: 4342 | L9: 4650 | M9: 4595 | N9: 9245
A10: 門 | B10: 7 | C10: 大門七番町 | D10: 282 | E10: 264 | F10: 269 | G10: 533 | I10: 60 | J10: 上組 | K10: 183 | L10: 256 | M10: 245 | N10: 501
B11: 8 | C11: 大門八番町 | D11: 207 | E11: 168 | F11: 196 | G11: 364 | H11: 洗 | I11: 61 | J11: 元町 | K11: 151 | L11: 181 | M11: 183 | N11: 364
B12: 9 | C12: 大門七区 | D12: 1934 | E12: 2138 | F12: 2084 | G12: 4222 | I12: 62 | J12: 芦ノ田 | K12: 311 | L12: 391 | M12: 396 | N12: 787
B13: 13 | C13: 大門田川町 | D13: 218 | E13: 241 | F13: 263 | G13: 504 | I13: 63 | J13: 太田 | K13: 517 | L13: 657 | M13: 666 | N13: 1323
A14: 計 | D14: 4664 | E14: 4990 | F14: 5067 | G14: 10057 | H14: 馬 | I14: 64 | J14: 岩垂 | K14: 223 | L14: 307 | M14: 307 | N14: 614
B15: 20 | C15: 東山 | D15: 103 | E15: 119 | F15: 117 | G15: 236 | I15: 65 | J15: 下小曽部 | K15: 271 | L15: 331 | M15: 359 | N15: 690
B16: 21 | C16: 柿沢 | D16: 161 | E16: 187 | F16: 198 | G16: 385 | I16: 66 | J16: 上小曽部 | K16: 139 | L16: 145 | M16: 142 | N16: 287
B17: 22 | C17: 金井 | D17: 81 | E17: 109 | F17: 95 | G17: 204 | H17: 計 | K17: 1795 | L17: 2268 | M17: 2298 | N17: 4566
A18: 塩 | B18: 23 | C18: 上西条 | D18: 212 | E18: 271 | F18: 291 | G18: 562 | I18: 70 | J18: 桔梗ケ原 | K18: 843 | L18: 890 | M18: 899 | N18: 1789
B19: 24 | C19: 中西条 | D19: 82 | E19: 107 | F19: 119 | G19: 226 | I19: 72 | J19: 平出 | K19: 320 | L19: 440 | M19: 398 | N19: 838
A20: 尻 | B20: 25 | C20: 下西条 | D20: 208 | E20: 256 | F20: 268 | G20: 524 | H20: 宗 | I20: 73 | J20: 床尾 | K20: 236 | L20: 258 | M20: 284 | N20: 542
B21: 26 | C21: 堀ノ内 | D21: 381 | E21: 444 | F21: 474 | G21: 918 | I21: 74 | J21: 洗馬 | K21: 266 | L21: 333 | M21: 369 | N21: 702
A22: 東 | B22: 27 | C22: 長畝 | D22: 161 | E22: 191 | F22: 215 | G22: 406 | I22: 75 | J22: 牧野 | K22: 342 | L22: 395 | M22: 419 | N22: 814
B23: 28 | C23: 桟敷 | D23: 219 | E23: 237 | F23: 248 | G23: 485 | H23: 賀 | I23: 76 | J23: 本山 | K23: 155 | L23: 179 | M23: 179 | N23: 358
B24: 29 | C24: 町区 | D24: 945 | E24: 1165 | F24: 1170 | G24: 2335 | I24: 77 | J24: 日出塩 | K24: 44 | L24: 59 | M24: 55 | N24: 114
B25: 30 | C25: 松原 | D25: 56 | E25: 29 | F25: 49 | G25: 78 | I25: 78 | J25: 小井戸 | K25: 63 | L25: 44 | M25: 54 | N25: 98
B26: 31 | C26: みどり湖 | D26: 141 | E26: 155 | F26: 159 | G26: 314 | H26: 計 | K26: 2269 | L26: 2598 | M26: 2657 | N26: 5255
B27: 32 | C27: 峰原 | D27: 233 | E27: 298 | F27: 296 | G27: 594 | I27: 80 | J27: 古町 | K27: 149 | L27: 177 | M27: 185 | N27: 362
A28: 計 | D28: 2983 | E28: 3568 | F28: 3699 | G28: 7267 | H28: 北 | I28: 81 | J28: 宮前 | K28: 89 | L28: 109 | M28: 99 | N28: 208
B29: 35 | C29: 高出一区 | D29: 427 | E29: 501 | F29: 464 | G29: 965 | H29: 小 | I29: 82 | J29: 大出 | K29: 215 | L29: 258 | M29: 275 | N29: 533
A30: 高 | B30: 36 | C30: 高出二区 | D30: 810 | E30: 890 | F30: 826 | G30: 1716 | H30: 野 | I30: 83 | J30: 上田 | K30: 111 | L30: 118 | M30: 120 | N30: 238
B31: 37 | C31: 高出三区 | D31: 871 | E31: 995 | F31: 979 | G31: 1974 | I31: 84 | J31: 勝弦 | K31: 202 | L31: 214 | M31: 184 | N31: 398
A32: 出 | B32: 38 | C32: 高出四区 | D32: 792 | E32: 861 | F32: 864 | G32: 1725 | H32: 計 | K32: 766 | L32: 876 | M32: 863 | N32: 1739
B33: 39 | C33: 高出五区 | D33: 631 | E33: 683 | F33: 611 | G33: 1294 | H33: 楢 川 | I33: 90 | J33: 贄川 | K33: 243 | L33: 259 | M33: 267 | N33: 526
A34: 計 | D34: 3531 | E34: 3930 | F34: 3744 | G34: 7674 | I34: 91 | J34: 木曽平沢 | K34: 425 | L34: 425 | M34: 467 | N34: 892
B35: 40 | C35: 南内田 | D35: 492 | E35: 560 | F35: 556 | G35: 1116 | I35: 92 | J35: 奈良井 | K35: 261 | L35: 262 | M35: 286 | N35: 548
A36: 片 | B36: 41 | C36: 北熊井 | D36: 481 | E36: 643 | F36: 645 | G36: 1288 | H36: 計 | K36: 929 | L36: 946 | M36: 1020 | N36: 1966
B37: 42 | C37: 南熊井 | D37: 205 | E37: 240 | F37: 249 | G37: 489
A38: 丘 | B38: 43 | C38: 中挾 | D38: 36 | E38: 48 | F38: 46 | G38: 94
B39: 44 | C39: 君石 | D39: 141 | E39: 92 | F39: 139 | G39: 231 | K39: 世帯数 | L39: 男 | M39: 女 | N39: 計 | O39: （住民基本台帳合計） | P39: 世帯数 | Q39: 男 | R39: 女 | S39: 計
B40: 45 | C40: 内田原 | D40: 152 | E40: 188 | F40: 209 | G40: 397 | H40: 住民基本台帳合計 | K40: 29314 | L40: 32551 | M40: 32407 | N40: 64958 | O40: 前年同月数値 | P40: 29122 | Q40: 32780 | R40: 32607 | S40: 65387
A41: 計 | D41: 1507 | E41: 1771 | F41: 1844 | G41: 3615 | H41: 前月数値 | K41: 29274 | L41: 32559 | M41: 32407 | N41: 64966 | O41: 前年同月比較 | P41: 192 | Q41: -229 | R41: -200 | S41: -429
B42: 50 | C42: 原新田 | D42: 1912 | E42: 1993 | F42: 1958 | G42: 3951 | H42: 前月比較 | K42: 40 | L42: -8 | M42: 0 | N42: -8 | O42: （内外国人住民数） | P42: 世帯数 | Q42: 男 | R42: 女 | S42: 計
A43: 広 | B43: 51 | C43: 堅石 | D43: 1046 | E43: 1252 | F43: 1275 | G43: 2527 | H43: （内外国人住民数） | K43: 1226 | L43: 751 | M43: 734 | N43: 1485 | O43: 前年同月数値 | P43: 1192 | Q43: 731 | R43: 738 | S43: 1469
B44: 52 | C44: 郷原 | D44: 697 | E44: 742 | F44: 709 | G44: 1451 | H44: （前月数値） | K44: 1209 | L44: 732 | M44: 733 | N44: 1465 | O44: 前年同月比較 | P44: 34 | Q44: 20 | R44: -4 | S44: 16
A45: 丘 | B45: 54 | C45: 野村 | D45: 2873 | E45: 2967 | F45: 2678 | G45: 5645 | H45: （前月比較） | K45: 17 | L45: 19 | M45: 1 | N45: 20
A46: 計 | D46: 6528 | E46: 6954 | F46: 6620 | G46: 13574

Sheet R7.6
A1: 区別住民基本台帳世帯人口一覧表
L2: 45809
A3: 地区 | B3: ＮＯ | C3: 区 | D3: 世帯数 | E3: 男 | F3: 女 | G3: 計 | H3: 地区 | I3: ＮＯ | J3: 区 | K3: 世帯数 | L3: 男 | M3: 女 | N3: 計
B4: 1 | C4: 大門一番町 | D4: 134 | E4: 115 | F4: 117 | G4: 232 | I4: 55 | J4: 吉田一区 | K4: 577 | L4: 606 | M4: 584 | N4: 1190
B5: 2 | C5: 大門二番町 | D5: 323 | E5: 360 | F5: 380 | G5: 740 | H5: 吉 | I5: 56 | J5: 吉田二区 | K5: 570 | L5: 581 | M5: 591 | N5: 1172
A6: 大 | B6: 3 | C6: 大門三番町 | D6: 359 | E6: 403 | F6: 398 | G6: 801 | I6: 57 | J6: 吉田三区 | K6: 1045 | L6: 1082 | M6: 1080 | N6: 2162
B7: 4 | C7: 大門四番町 | D7: 212 | E7: 222 | F7: 257 | G7: 479 | H7: 田 | I7: 58 | J7: 吉田四区 | K7: 933 | L7: 1035 | M7: 953 | N7: 1988
B8: 5 | C8: 大門五番町 | D8: 595 | E8: 669 | F8: 653 | G8: 1322 | I8: 59 | J8: 吉田五区 | K8: 1219 | L8: 1355 | M8: 1394 | N8: 2749
B9: 6 | C9: 大門六番町 | D9: 400 | E9: 408 | F9: 453 | G9: 861 | H9: 計 | K9: 4344 | L9: 4659 | M9: 4602 | N9: 9261
A10: 門 | B10: 7 | C10: 大門七番町 | D10: 279 | E10: 262 | F10: 266 | G10: 528 | I10: 60 | J10: 上組 | K10: 183 | L10: 256 | M10: 246 | N10: 502
B11: 8 | C11: 大門八番町 | D11: 208 | E11: 170 | F11: 195 | G11: 365 | H11: 洗 | I11: 61 | J11: 元町 | K11: 152 | L11: 182 | M11: 184 | N11: 366
B12: 9 | C12: 大門七区 | D12: 1922 | E12: 2132 | F12: 2074 | G12: 4206 | I12: 62 | J12: 芦ノ田 | K12: 311 | L12: 393 | M12: 398 | N12: 791
B13: 13 | C13: 大門田川町 | D13: 220 | E13: 243 | F13: 267 | G13: 510 | I13: 63 | J13: 太田 | K13: 517 | L13: 657 | M13: 666 | N13: 1323
A14: 計 | D14: 4652 | E14: 4984 | F14: 5060 | G14: 10044 | H14: 馬 | I14: 64 | J14: 岩垂 | K14: 223 | L14: 307 | M14: 308 | N14: 615
B15: 20 | C15: 東山 | D15: 102 | E15: 119 | F15: 117 | G15: 236 | I15: 65 | J15: 下小曽部 | K15: 271 | L15: 331 | M15: 358 | N15: 689
B16: 21 | C16: 柿沢 | D16: 160 | E16: 187 | F16: 200 | G16: 387 | I16: 66 | J16: 上小曽部 | K16: 141 | L16: 146 | M16: 143 | N16: 289
B17: 22 | C17: 金井 | D17: 82 | E17: 109 | F17: 96 | G17: 205 | H17: 計 | K17: 1798 | L17: 2272 | M17: 2303 | N17: 4575
A18: 塩 | B18: 23 | C18: 上西条 | D18: 212 | E18: 271 | F18: 292 | G18: 563 | I18: 70 | J18: 桔梗ケ原 | K18: 843 | L18: 894 | M18: 897 | N18: 1791
B19: 24 | C19: 中西条 | D19: 83 | E19: 108 | F19: 119 | G19: 227 | I19: 72 | J19: 平出 | K19: 316 | L19: 438 | M19: 395 | N19: 833
A20: 尻 | B20: 25 | C20: 下西条 | D20: 208 | E20: 257 | F20: 268 | G20: 525 | H20: 宗 | I20: 73 | J20: 床尾 | K20: 236 | L20: 260 | M20: 284 | N20: 544
B21: 26 | C21: 堀ノ内 | D21: 380 | E21: 445 | F21: 474 | G21: 919 | I21: 74 | J21: 洗馬 | K21: 266 | L21: 333 | M21: 369 | N21: 702
A22: 東 | B22: 27 | C22: 長畝 | D22: 162 | E22: 192 | F22: 215 | G22: 407 | I22: 75 | J22: 牧野 | K22: 343 | L22: 397 | M22: 419 | N22: 816
B23: 28 | C23: 桟敷 | D23: 218 | E23: 236 | F23: 247 | G23: 483 | H23: 賀 | I23: 76 | J23: 本山 | K23: 155 | L23: 179 | M23: 180 | N23: 359
B24: 29 | C24: 町区 | D24: 939 | E24: 1166 | F24: 1170 | G24: 2336 | I24: 77 | J24: 日出塩 | K24: 45 | L24: 60 | M24: 55 | N24: 115
B25: 30 | C25: 松原 | D25: 56 | E25: 29 | F25: 49 | G25: 78 | I25: 78 | J25: 小井戸 | K25: 63 | L25: 44 | M25: 54 | N25: 98
B26: 31 | C26: みどり湖 | D26: 141 | E26: 155 | F26: 159 | G26: 314 | H26: 計 | K26: 2267 | L26: 2605 | M26: 2653 | N26: 5258
B27: 32 | C27: 峰原 | D27: 234 | E27: 301 | F27: 297 | G27: 598 | I27: 80 | J27: 古町 | K27: 148 | L27: 177 | M27: 187 | N27: 364
A28: 計 | D28: 2977 | E28: 3575 | F28: 3703 | G28: 7278 | H28: 北 | I28: 81 | J28: 宮前 | K28: 88 | L28: 108 | M28: 98 | N28: 206
B29: 35 | C29: 高出一区 | D29: 428 | E29: 504 | F29: 463 | G29: 967 | H29: 小 | I29: 82 | J29: 大出 | K29: 216 | L29: 260 | M29: 275 | N29: 535
A30: 高 | B30: 36 | C30: 高出二区 | D30: 809 | E30: 889 | F30: 820 | G30: 1709 | H30: 野 | I30: 83 | J30: 上田 | K30: 111 | L30: 120 | M30: 120 | N30: 240
B31: 37 | C31: 高出三区 | D31: 877 | E31: 999 | F31: 980 | G31: 1979 | I31: 84 | J31: 勝弦 | K31: 203 | L31: 214 | M31: 184 | N31: 398
A32: 出 | B32: 38 | C32: 高出四区 | D32: 786 | E32: 857 | F32: 865 | G32: 1722 | H32: 計 | K32: 766 | L32: 879 | M32: 864 | N32: 1743
B33: 39 | C33: 高出五区 | D33: 619 | E33: 672 | F33: 608 | G33: 1280 | H33: 楢 川 | I33: 90 | J33: 贄川 | K33: 244 | L33: 261 | M33: 268 | N33: 529
A34: 計 | D34: 3519 | E34: 3921 | F34: 3736 | G34: 7657 | I34: 91 | J34: 木曽平沢 | K34: 424 | L34: 425 | M34: 468 | N34: 893
B35: 40 | C35: 南内田 | D35: 493 | E35: 560 | F35: 556 | G35: 1116 | I35: 92 | J35: 奈良井 | K35: 261 | L35: 262 | M35: 285 | N35: 547
A36: 片 | B36: 41 | C36: 北熊井 | D36: 478 | E36: 638 | F36: 644 | G36: 1282 | H36: 計 | K36: 929 | L36: 948 | M36: 1021 | N36: 1969
B37: 42 | C37: 南熊井 | D37: 205 | E37: 240 | F37: 250 | G37: 490
A38: 丘 | B38: 43 | C38: 中挾 | D38: 36 | E38: 48 | F38: 46 | G38: 94
B39: 44 | C39: 君石 | D39: 141 | E39: 92 | F39: 140 | G39: 232 | K39: 世帯数 | L39: 男 | M39: 女 | N39: 計 | O39: （住民基本台帳合計） | P39: 世帯数 | Q39: 男 | R39: 女 | S39: 計
B40: 45 | C40: 内田原 | D40: 151 | E40: 188 | F40: 208 | G40: 396 | H40: 住民基本台帳合計 | K40: 29274 | L40: 32559 | M40: 32407 | N40: 64966 | O40: 前年同月数値 | P40: 29113 | Q40: 32766 | R40: 32622 | S40: 65388
A41: 計 | D41: 1504 | E41: 1766 | F41: 1844 | G41: 3610 | H41: 前月数値 | K41: 29292 | L41: 32610 | M41: 32425 | N41: 65035 | O41: 前年同月比較 | P41: 161 | Q41: -207 | R41: -215 | S41: -422
B42: 50 | C42: 原新田 | D42: 1909 | E42: 1991 | F42: 1955 | G42: 3946 | H42: 前月比較 | K42: -18 | L42: -51 | M42: -18 | N42: -69 | O42: （内外国人住民数） | P42: 世帯数 | Q42: 男 | R42: 女 | S42: 計
A43: 広 | B43: 51 | C43: 堅石 | D43: 1048 | E43: 1254 | F43: 1274 | G43: 2528 | H43: （内外国人住民数） | K43: 1209 | L43: 732 | M43: 733 | N43: 1465 | O43: 前年同月数値 | P43: 1187 | Q43: 726 | R43: 732 | S43: 1458
B44: 52 | C44: 郷原 | D44: 693 | E44: 740 | F44: 710 | G44: 1450 | H44: （前月数値） | K44: 1217 | L44: 742 | M44: 733 | N44: 1475 | O44: 前年同月比較 | P44: 22 | Q44: 6 | R44: 1 | S44: 7
A45: 丘 | B45: 54 | C45: 野村 | D45: 2868 | E45: 2965 | F45: 2682 | G45: 5647 | H45: （前月比較） | K45: -8 | L45: -10 | M45: 0 | N45: -10
A46: 計 | D46: 6518 | E46: 6950 | F46: 6621 | G46: 13571

Sheet R7.5
A1: 区別住民基本台帳世帯人口一覧表
L2: 45778
A3: 地区 | B3: ＮＯ | C3: 区 | D3: 世帯数 | E3: 男 | F3: 女 | G3: 計 | H3: 地区 | I3: ＮＯ | J3: 区 | K3: 世帯数 | L3: 男 | M3: 女 | N3: 計
B4: 1 | C4: 大門一番町 | D4: 135 | E4: 116 | F4: 117 | G4: 233 | I4: 55 | J4: 吉田一区 | K4: 577 | L4: 609 | M4: 585 | N4: 1194
B5: 2 | C5: 大門二番町 | D5: 325 | E5: 362 | F5: 383 | G5: 745 | H5: 吉 | I5: 56 | J5: 吉田二区 | K5: 568 | L5: 574 | M5: 587 | N5: 1161
A6: 大 | B6: 3 | C6: 大門三番町 | D6: 360 | E6: 405 | F6: 402 | G6: 807 | I6: 57 | J6: 吉田三区 | K6: 1046 | L6: 1084 | M6: 1085 | N6: 2169
B7: 4 | C7: 大門四番町 | D7: 211 | E7: 223 | F7: 255 | G7: 478 | H7: 田 | I7: 58 | J7: 吉田四区 | K7: 930 | L7: 1033 | M7: 955 | N7: 1988
B8: 5 | C8: 大門五番町 | D8: 602 | E8: 678 | F8: 657 | G8: 1335 | I8: 59 | J8: 吉田五区 | K8: 1221 | L8: 1358 | M8: 1400 | N8: 2758
B9: 6 | C9: 大門六番町 | D9: 401 | E9: 406 | F9: 456 | G9: 862 | H9: 計 | K9: 4342 | L9: 4658 | M9: 4612 | N9: 9270
A10: 門 | B10: 7 | C10: 大門七番町 | D10: 279 | E10: 262 | F10: 264 | G10: 526 | I10: 60 | J10: 上組 | K10: 183 | L10: 257 | M10: 246 | N10: 503
B11: 8 | C11: 大門八番町 | D11: 208 | E11: 171 | F11: 194 | G11: 365 | H11: 洗 | I11: 61 | J11: 元町 | K11: 152 | L11: 182 | M11: 184 | N11: 366
B12: 9 | C12: 大門七区 | D12: 1917 | E12: 2131 | F12: 2070 | G12: 4201 | I12: 62 | J12: 芦ノ田 | K12: 309 | L12: 395 | M12: 397 | N12: 792
B13: 13 | C13: 大門田川町 | D13: 220 | E13: 242 | F13: 267 | G13: 509 | I13: 63 | J13: 太田 | K13: 518 | L13: 658 | M13: 668 | N13: 1326
A14: 計 | D14: 4658 | E14: 4996 | F14: 5065 | G14: 10061 | H14: 馬 | I14: 64 | J14: 岩垂 | K14: 223 | L14: 306 | M14: 308 | N14: 614
B15: 20 | C15: 東山 | D15: 103 | E15: 121 | F15: 117 | G15: 238 | I15: 65 | J15: 下小曽部 | K15: 269 | L15: 332 | M15: 355 | N15: 687
B16: 21 | C16: 柿沢 | D16: 160 | E16: 189 | F16: 200 | G16: 389 | I16: 66 | J16: 上小曽部 | K16: 139 | L16: 144 | M16: 142 | N16: 286
B17: 22 | C17: 金井 | D17: 81 | E17: 108 | F17: 95 | G17: 203 | H17: 計 | K17: 1793 | L17: 2274 | M17: 2300 | N17: 4574
A18: 塩 | B18: 23 | C18: 上西条 | D18: 211 | E18: 271 | F18: 292 | G18: 563 | I18: 70 | J18: 桔梗ケ原 | K18: 843 | L18: 893 | M18: 898 | N18: 1791
B19: 24 | C19: 中西条 | D19: 84 | E19: 110 | F19: 119 | G19: 229 | I19: 72 | J19: 平出 | K19: 315 | L19: 439 | M19: 392 | N19: 831
A20: 尻 | B20: 25 | C20: 下西条 | D20: 208 | E20: 257 | F20: 269 | G20: 526 | H20: 宗 | I20: 73 | J20: 床尾 | K20: 235 | L20: 258 | M20: 282 | N20: 540
B21: 26 | C21: 堀ノ内 | D21: 380 | E21: 446 | F21: 477 | G21: 923 | I21: 74 | J21: 洗馬 | K21: 267 | L21: 335 | M21: 370 | N21: 705
A22: 東 | B22: 27 | C22: 長畝 | D22: 164 | E22: 195 | F22: 216 | G22: 411 | I22: 75 | J22: 牧野 | K22: 342 | L22: 396 | M22: 421 | N22: 817
B23: 28 | C23: 桟敷 | D23: 218 | E23: 236 | F23: 247 | G23: 483 | H23: 賀 | I23: 76 | J23: 本山 | K23: 155 | L23: 179 | M23: 180 | N23: 359
B24: 29 | C24: 町区 | D24: 942 | E24: 1165 | F24: 1168 | G24: 2333 | I24: 77 | J24: 日出塩 | K24: 45 | L24: 60 | M24: 54 | N24: 114
B25: 30 | C25: 松原 | D25: 57 | E25: 30 | F25: 49 | G25: 79 | I25: 78 | J25: 小井戸 | K25: 63 | L25: 44 | M25: 54 | N25: 98
B26: 31 | C26: みどり湖 | D26: 143 | E26: 157 | F26: 161 | G26: 318 | H26: 計 | K26: 2265 | L26: 2604 | M26: 2651 | N26: 5255
B27: 32 | C27: 峰原 | D27: 234 | E27: 301 | F27: 297 | G27: 598 | I27: 80 | J27: 古町 | K27: 148 | L27: 177 | M27: 187 | N27: 364
A28: 計 | D28: 2985 | E28: 3586 | F28: 3707 | G28: 7293 | H28: 北 | I28: 81 | J28: 宮前 | K28: 88 | L28: 109 | M28: 99 | N28: 208
B29: 35 | C29: 高出一区 | D29: 427 | E29: 503 | F29: 465 | G29: 968 | H29: 小 | I29: 82 | J29: 大出 | K29: 216 | L29: 260 | M29: 275 | N29: 535
A30: 高 | B30: 36 | C30: 高出二区 | D30: 808 | E30: 890 | F30: 818 | G30: 1708 | H30: 野 | I30: 83 | J30: 上田 | K30: 111 | L30: 121 | M30: 120 | N30: 241
B31: 37 | C31: 高出三区 | D31: 880 | E31: 1005 | F31: 979 | G31: 1984 | I31: 84 | J31: 勝弦 | K31: 203 | L31: 214 | M31: 185 | N31: 399
A32: 出 | B32: 38 | C32: 高出四区 | D32: 783 | E32: 852 | F32: 858 | G32: 1710 | H32: 計 | K32: 766 | L32: 881 | M32: 866 | N32: 1747
B33: 39 | C33: 高出五区 | D33: 620 | E33: 672 | F33: 608 | G33: 1280 | H33: 楢 川 | I33: 90 | J33: 贄川 | K33: 245 | L33: 263 | M33: 269 | N33: 532
A34: 計 | D34: 3518 | E34: 3922 | F34: 3728 | G34: 7650 | I34: 91 | J34: 木曽平沢 | K34: 423 | L34: 427 | M34: 466 | N34: 893
B35: 40 | C35: 南内田 | D35: 493 | E35: 559 | F35: 557 | G35: 1116 | I35: 92 | J35: 奈良井 | K35: 261 | L35: 262 | M35: 285 | N35: 547
A36: 片 | B36: 41 | C36: 北熊井 | D36: 477 | E36: 637 | F36: 644 | G36: 1281 | H36: 計 | K36: 929 | L36: 952 | M36: 1020 | N36: 1972
B37: 42 | C37: 南熊井 | D37: 204 | E37: 240 | F37: 250 | G37: 490
A38: 丘 | B38: 43 | C38: 中挾 | D38: 36 | E38: 49 | F38: 46 | G38: 95
B39: 44 | C39: 君石 | D39: 141 | E39: 93 | F39: 140 | G39: 233 | K39: 世帯数 | L39: 男 | M39: 女 | N39: 計 | O39: （住民基本台帳合計） | P39: 世帯数 | Q39: 男 | R39: 女 | S39: 計
B40: 45 | C40: 内田原 | D40: 151 | E40: 189 | F40: 207 | G40: 396 | H40: 住民基本台帳合計 | K40: 29292 | L40: 32610 | M40: 32425 | N40: 65035 | O40: 前年同月数値 | P40: 29082 | Q40: 32776 | R40: 32618 | S40: 65394
A41: 計 | D41: 1502 | E41: 1767 | F41: 1844 | G41: 3611 | H41: 前月数値 | K41: 29257 | L41: 32628 | M41: 32405 | N41: 65033 | O41: 前年同月比較 | P41: 210 | Q41: -166 | R41: -193 | S41: -359
B42: 50 | C42: 原新田 | D42: 1910 | E42: 1989 | F42: 1953 | G42: 3942 | H42: 前月比較 | K42: 35 | L42: -18 | M42: 20 | N42: 2 | O42: （内外国人住民数） | P42: 世帯数 | Q42: 男 | R42: 女 | S42: 計
A43: 広 | B43: 51 | C43: 堅石 | D43: 1058 | E43: 1267 | F43: 1284 | G43: 2551 | H43: （内外国人住民数） | K43: 1217 | L43: 742 | M43: 733 | N43: 1475 | O43: 前年同月数値 | P43: 1178 | Q43: 729 | R43: 725 | S43: 1454
B44: 52 | C44: 郷原 | D44: 695 | E44: 740 | F44: 712 | G44: 1452 | H44: （前月数値） | K44: 1215 | L44: 741 | M44: 731 | N44: 1472 | O44: 前年同月比較 | P44: 39 | Q44: 13 | R44: 8 | S44: 21
A45: 丘 | B45: 54 | C45: 野村 | D45: 2871 | E45: 2974 | F45: 2683 | G45: 5657 | H45: （前月比較） | K45: 2 | L45: 1 | M45: 2 | N45: 3
A46: 計 | D46: 6534 | E46: 6970 | F46: 6632 | G46: 13602

Sheet R7.4
A1: 区別住民基本台帳世帯人口一覧表
L2: 45748
A3: 地区 | B3: ＮＯ | C3: 区 | D3: 世帯数 | E3: 男 | F3: 女 | G3: 計 | H3: 地区 | I3: ＮＯ | J3: 区 | K3: 世帯数 | L3: 男 | M3: 女 | N3: 計
B4: 1 | C4: 大門一番町 | D4: 133 | E4: 114 | F4: 118 | G4: 232 | I4: 55 | J4: 吉田一区 | K4: 579 | L4: 612 | M4: 585 | N4: 1197
B5: 2 | C5: 大門二番町 | D5: 325 | E5: 362 | F5: 385 | G5: 747 | H5: 吉 | I5: 56 | J5: 吉田二区 | K5: 568 | L5: 576 | M5: 590 | N5: 1166
A6: 大 | B6: 3 | C6: 大門三番町 | D6: 355 | E6: 400 | F6: 400 | G6: 800 | I6: 57 | J6: 吉田三区 | K6: 1041 | L6: 1082 | M6: 1078 | N6: 2160
B7: 4 | C7: 大門四番町 | D7: 210 | E7: 223 | F7: 254 | G7: 477 | H7: 田 | I7: 58 | J7: 吉田四区 | K7: 931 | L7: 1036 | M7: 957 | N7: 1993
B8: 5 | C8: 大門五番町 | D8: 594 | E8: 674 | F8: 650 | G8: 1324 | I8: 59 | J8: 吉田五区 | K8: 1224 | L8: 1358 | M8: 1401 | N8: 2759
B9: 6 | C9: 大門六番町 | D9: 397 | E9: 403 | F9: 452 | G9: 855 | H9: 計 | K9: 4343 | L9: 4664 | M9: 4611 | N9: 9275
A10: 門 | B10: 7 | C10: 大門七番町 | D10: 279 | E10: 260 | F10: 265 | G10: 525 | I10: 60 | J10: 上組 | K10: 183 | L10: 258 | M10: 243 | N10: 501
B11: 8 | C11: 大門八番町 | D11: 208 | E11: 171 | F11: 195 | G11: 366 | H11: 洗 | I11: 61 | J11: 元町 | K11: 152 | L11: 183 | M11: 184 | N11: 367
B12: 9 | C12: 大門七区 | D12: 1920 | E12: 2136 | F12: 2073 | G12: 4209 | I12: 62 | J12: 芦ノ田 | K12: 309 | L12: 397 | M12: 397 | N12: 794
B13: 13 | C13: 大門田川町 | D13: 220 | E13: 243 | F13: 267 | G13: 510 | I13: 63 | J13: 太田 | K13: 515 | L13: 656 | M13: 667 | N13: 1323
A14: 計 | D14: 4641 | E14: 4986 | F14: 5059 | G14: 10045 | H14: 馬 | I14: 64 | J14: 岩垂 | K14: 222 | L14: 307 | M14: 307 | N14: 614
B15: 20 | C15: 東山 | D15: 103 | E15: 121 | F15: 117 | G15: 238 | I15: 65 | J15: 下小曽部 | K15: 268 | L15: 332 | M15: 355 | N15: 687
B16: 21 | C16: 柿沢 | D16: 160 | E16: 190 | F16: 200 | G16: 390 | I16: 66 | J16: 上小曽部 | K16: 137 | L16: 142 | M16: 142 | N16: 284
B17: 22 | C17: 金井 | D17: 81 | E17: 108 | F17: 94 | G17: 202 | H17: 計 | K17: 1786 | L17: 2275 | M17: 2295 | N17: 4570
A18: 塩 | B18: 23 | C18: 上西条 | D18: 211 | E18: 271 | F18: 293 | G18: 564 | I18: 70 | J18: 桔梗ケ原 | K18: 836 | L18: 892 | M18: 893 | N18: 1785
B19: 24 | C19: 中西条 | D19: 84 | E19: 110 | F19: 119 | G19: 229 | I19: 72 | J19: 平出 | K19: 314 | L19: 441 | M19: 390 | N19: 831
A20: 尻 | B20: 25 | C20: 下西条 | D20: 210 | E20: 258 | F20: 270 | G20: 528 | H20: 宗 | I20: 73 | J20: 床尾 | K20: 234 | L20: 256 | M20: 281 | N20: 537
B21: 26 | C21: 堀ノ内 | D21: 373 | E21: 440 | F21: 476 | G21: 916 | I21: 74 | J21: 洗馬 | K21: 266 | L21: 338 | M21: 370 | N21: 708
A22: 東 | B22: 27 | C22: 長畝 | D22: 164 | E22: 196 | F22: 217 | G22: 413 | I22: 75 | J22: 牧野 | K22: 342 | L22: 400 | M22: 422 | N22: 822
B23: 28 | C23: 桟敷 | D23: 218 | E23: 239 | F23: 245 | G23: 484 | H23: 賀 | I23: 76 | J23: 本山 | K23: 155 | L23: 179 | M23: 180 | N23: 359
B24: 29 | C24: 町区 | D24: 940 | E24: 1163 | F24: 1170 | G24: 2333 | I24: 77 | J24: 日出塩 | K24: 46 | L24: 61 | M24: 55 | N24: 116
B25: 30 | C25: 松原 | D25: 57 | E25: 30 | F25: 49 | G25: 79 | I25: 78 | J25: 小井戸 | K25: 61 | L25: 39 | M25: 52 | N25: 91
B26: 31 | C26: みどり湖 | D26: 145 | E26: 158 | F26: 160 | G26: 318 | H26: 計 | K26: 2254 | L26: 2606 | M26: 2643 | N26: 5249
B27: 32 | C27: 峰原 | D27: 234 | E27: 305 | F27: 297 | G27: 602 | I27: 80 | J27: 古町 | K27: 148 | L27: 177 | M27: 188 | N27: 365
A28: 計 | D28: 2980 | E28: 3589 | F28: 3707 | G28: 7296 | H28: 北 | I28: 81 | J28: 宮前 | K28: 88 | L28: 109 | M28: 100 | N28: 209
B29: 35 | C29: 高出一区 | D29: 427 | E29: 502 | F29: 468 | G29: 970 | H29: 小 | I29: 82 | J29: 大出 | K29: 218 | L29: 259 | M29: 277 | N29: 536
A30: 高 | B30: 36 | C30: 高出二区 | D30: 806 | E30: 887 | F30: 814 | G30: 1701 | H30: 野 | I30: 83 | J30: 上田 | K30: 111 | L30: 121 | M30: 120 | N30: 241
B31: 37 | C31: 高出三区 | D31: 882 | E31: 1015 | F31: 983 | G31: 1998 | I31: 84 | J31: 勝弦 | K31: 201 | L31: 213 | M31: 185 | N31: 398
A32: 出 | B32: 38 | C32: 高出四区 | D32: 776 | E32: 847 | F32: 853 | G32: 1700 | H32: 計 | K32: 766 | L32: 879 | M32: 870 | N32: 1749
B33: 39 | C33: 高出五区 | D33: 620 | E33: 669 | F33: 611 | G33: 1280 | H33: 楢 川 | I33: 90 | J33: 贄川 | K33: 245 | L33: 264 | M33: 270 | N33: 534
A34: 計 | D34: 3511 | E34: 3920 | F34: 3729 | G34: 7649 | I34: 91 | J34: 木曽平沢 | K34: 424 | L34: 429 | M34: 467 | N34: 896
B35: 40 | C35: 南内田 | D35: 495 | E35: 561 | F35: 558 | G35: 1119 | I35: 92 | J35: 奈良井 | K35: 261 | L35: 261 | M35: 285 | N35: 546
A36: 片 | B36: 41 | C36: 北熊井 | D36: 476 | E36: 638 | F36: 647 | G36: 1285 | H36: 計 | K36: 930 | L36: 954 | M36: 1022 | N36: 1976
B37: 42 | C37: 南熊井 | D37: 204 | E37: 240 | F37: 250 | G37: 490
A38: 丘 | B38: 43 | C38: 中挾 | D38: 36 | E38: 49 | F38: 46 | G38: 95
B39: 44 | C39: 君石 | D39: 142 | E39: 93 | F39: 141 | G39: 234 | K39: 世帯数 | L39: 男 | M39: 女 | N39: 計 | O39: （住民基本台帳合計） | P39: 世帯数 | Q39: 男 | R39: 女 | S39: 計
B40: 45 | C40: 内田原 | D40: 151 | E40: 189 | F40: 206 | G40: 395 | H40: 住民基本台帳合計 | K40: 29257 | L40: 32628 | M40: 32405 | N40: 65033 | O40: 前年同月数値 | P40: 29056 | Q40: 32795 | R40: 32640 | S40: 65435
A41: 計 | D41: 1504 | E41: 1770 | F41: 1848 | G41: 3618 | H41: 前月数値 | K41: 29062 | L41: 32629 | M41: 32408 | N41: 65037 | O41: 前年同月比較 | P41: 201 | Q41: -167 | R41: -235 | S41: -402
B42: 50 | C42: 原新田 | D42: 1914 | E42: 1998 | F42: 1944 | G42: 3942 | H42: 前月比較 | K42: 195 | L42: -1 | M42: -3 | N42: -4 | O42: （内外国人住民数） | P42: 世帯数 | Q42: 男 | R42: 女 | S42: 計
A43: 広 | B43: 51 | C43: 堅石 | D43: 1060 | E43: 1273 | F43: 1285 | G43: 2558 | H43: （内外国人住民数） | K43: 1215 | L43: 741 | M43: 731 | N43: 1472 | O43: 前年同月数値 | P43: 1169 | Q43: 724 | R43: 721 | S43: 1445
B44: 52 | C44: 郷原 | D44: 688 | E44: 734 | F44: 706 | G44: 1440 | H44: （前月数値） | K44: 1187 | L44: 734 | M44: 719 | N44: 1453 | O44: 前年同月比較 | P44: 46 | Q44: 17 | R44: 10 | S44: 27
A45: 丘 | B45: 54 | C45: 野村 | D45: 2880 | E45: 2980 | F45: 2686 | G45: 5666 | H45: （前月比較） | K45: 28 | L45: 7 | M45: 12 | N45: 19
A46: 計 | D46: 6542 | E46: 6985 | F46: 6621 | G46: 13606

Sheet R7.3
A1: 区別住民基本台帳世帯人口一覧表
L2: 45717
A3: 地区 | B3: ＮＯ | C3: 区 | D3: 世帯数 | E3: 男 | F3: 女 | G3: 計 | H3: 地区 | I3: ＮＯ | J3: 区 | K3: 世帯数 | L3: 男 | M3: 女 | N3: 計
B4: 1 | C4: 大門一番町 | D4: 134 | E4: 113 | F4: 122 | G4: 235 | I4: 55 | J4: 吉田一区 | K4: 571 | L4: 610 | M4: 585 | N4: 1195
B5: 2 | C5: 大門二番町 | D5: 327 | E5: 367 | F5: 389 | G5: 756 | H5: 吉 | I5: 56 | J5: 吉田二区 | K5: 569 | L5: 584 | M5: 592 | N5: 1176
A6: 大 | B6: 3 | C6: 大門三番町 | D6: 360 | E6: 411 | F6: 405 | G6: 816 | I6: 57 | J6: 吉田三区 | K6: 1039 | L6: 1082 | M6: 1081 | N6: 2163
B7: 4 | C7: 大門四番町 | D7: 210 | E7: 225 | F7: 253 | G7: 478 | H7: 田 | I7: 58 | J7: 吉田四区 | K7: 926 | L7: 1047 | M7: 962 | N7: 2009
B8: 5 | C8: 大門五番町 | D8: 595 | E8: 675 | F8: 654 | G8: 1329 | I8: 59 | J8: 吉田五区 | K8: 1204 | L8: 1359 | M8: 1398 | N8: 2757
B9: 6 | C9: 大門六番町 | D9: 393 | E9: 402 | F9: 452 | G9: 854 | H9: 計 | K9: 4309 | L9: 4682 | M9: 4618 | N9: 9300
A10: 門 | B10: 7 | C10: 大門七番町 | D10: 260 | E10: 250 | F10: 258 | G10: 508 | I10: 60 | J10: 上組 | K10: 183 | L10: 260 | M10: 243 | N10: 503
B11: 8 | C11: 大門八番町 | D11: 211 | E11: 172 | F11: 199 | G11: 371 | H11: 洗 | I11: 61 | J11: 元町 | K11: 155 | L11: 186 | M11: 188 | N11: 374
B12: 9 | C12: 大門七区 | D12: 1896 | E12: 2119 | F12: 2056 | G12: 4175 | I12: 62 | J12: 芦ノ田 | K12: 305 | L12: 401 | M12: 396 | N12: 797
B13: 13 | C13: 大門田川町 | D13: 219 | E13: 244 | F13: 265 | G13: 509 | I13: 63 | J13: 太田 | K13: 513 | L13: 657 | M13: 667 | N13: 1324
A14: 計 | D14: 4605 | E14: 4978 | F14: 5053 | G14: 10031 | H14: 馬 | I14: 64 | J14: 岩垂 | K14: 218 | L14: 305 | M14: 305 | N14: 610
B15: 20 | C15: 東山 | D15: 102 | E15: 121 | F15: 116 | G15: 237 | I15: 65 | J15: 下小曽部 | K15: 268 | L15: 334 | M15: 359 | N15: 693
B16: 21 | C16: 柿沢 | D16: 160 | E16: 193 | F16: 205 | G16: 398 | I16: 66 | J16: 上小曽部 | K16: 135 | L16: 141 | M16: 140 | N16: 281
B17: 22 | C17: 金井 | D17: 82 | E17: 108 | F17: 94 | G17: 202 | H17: 計 | K17: 1777 | L17: 2284 | M17: 2298 | N17: 4582
A18: 塩 | B18: 23 | C18: 上西条 | D18: 213 | E18: 273 | F18: 294 | G18: 567 | I18: 70 | J18: 桔梗ケ原 | K18: 829 | L18: 889 | M18: 885 | N18: 1774
B19: 24 | C19: 中西条 | D19: 83 | E19: 109 | F19: 119 | G19: 228 | I19: 72 | J19: 平出 | K19: 315 | L19: 441 | M19: 393 | N19: 834
A20: 尻 | B20: 25 | C20: 下西条 | D20: 210 | E20: 260 | F20: 275 | G20: 535 | H20: 宗 | I20: 73 | J20: 床尾 | K20: 235 | L20: 258 | M20: 282 | N20: 540
B21: 26 | C21: 堀ノ内 | D21: 372 | E21: 441 | F21: 477 | G21: 918 | I21: 74 | J21: 洗馬 | K21: 266 | L21: 341 | M21: 372 | N21: 713
A22: 東 | B22: 27 | C22: 長畝 | D22: 164 | E22: 197 | F22: 218 | G22: 415 | I22: 75 | J22: 牧野 | K22: 342 | L22: 403 | M22: 424 | N22: 827
B23: 28 | C23: 桟敷 | D23: 218 | E23: 239 | F23: 246 | G23: 485 | H23: 賀 | I23: 76 | J23: 本山 | K23: 157 | L23: 180 | M23: 183 | N23: 363
B24: 29 | C24: 町区 | D24: 932 | E24: 1154 | F24: 1163 | G24: 2317 | I24: 77 | J24: 日出塩 | K24: 46 | L24: 62 | M24: 55 | N24: 117
B25: 30 | C25: 松原 | D25: 57 | E25: 31 | F25: 49 | G25: 80 | I25: 78 | J25: 小井戸 | K25: 61 | L25: 39 | M25: 52 | N25: 91
B26: 31 | C26: みどり湖 | D26: 144 | E26: 158 | F26: 160 | G26: 318 | H26: 計 | K26: 2251 | L26: 2613 | M26: 2646 | N26: 5259
B27: 32 | C27: 峰原 | D27: 236 | E27: 310 | F27: 307 | G27: 617 | I27: 80 | J27: 古町 | K27: 148 | L27: 177 | M27: 188 | N27: 365
A28: 計 | D28: 2973 | E28: 3594 | F28: 3723 | G28: 7317 | H28: 北 | I28: 81 | J28: 宮前 | K28: 88 | L28: 109 | M28: 99 | N28: 208
B29: 35 | C29: 高出一区 | D29: 426 | E29: 505 | F29: 468 | G29: 973 | H29: 小 | I29: 82 | J29: 大出 | K29: 217 | L29: 260 | M29: 279 | N29: 539
A30: 高 | B30: 36 | C30: 高出二区 | D30: 793 | E30: 880 | F30: 800 | G30: 1680 | H30: 野 | I30: 83 | J30: 上田 | K30: 111 | L30: 121 | M30: 121 | N30: 242
B31: 37 | C31: 高出三区 | D31: 881 | E31: 1019 | F31: 987 | G31: 2006 | I31: 84 | J31: 勝弦 | K31: 201 | L31: 213 | M31: 185 | N31: 398
A32: 出 | B32: 38 | C32: 高出四区 | D32: 776 | E32: 851 | F32: 855 | G32: 1706 | H32: 計 | K32: 765 | L32: 880 | M32: 872 | N32: 1752
B33: 39 | C33: 高出五区 | D33: 607 | E33: 664 | F33: 606 | G33: 1270 | H33: 楢 川 | I33: 90 | J33: 贄川 | K33: 243 | L33: 264 | M33: 269 | N33: 533
A34: 計 | D34: 3483 | E34: 3919 | F34: 3716 | G34: 7635 | I34: 91 | J34: 木曽平沢 | K34: 426 | L34: 430 | M34: 470 | N34: 900
B35: 40 | C35: 南内田 | D35: 497 | E35: 565 | F35: 560 | G35: 1125 | I35: 92 | J35: 奈良井 | K35: 263 | L35: 261 | M35: 286 | N35: 547
A36: 片 | B36: 41 | C36: 北熊井 | D36: 479 | E36: 640 | F36: 651 | G36: 1291 | H36: 計 | K36: 932 | L36: 955 | M36: 1025 | N36: 1980
B37: 42 | C37: 南熊井 | D37: 206 | E37: 241 | F37: 244 | G37: 485
A38: 丘 | B38: 43 | C38: 中挾 | D38: 36 | E38: 49 | F38: 47 | G38: 96
B39: 44 | C39: 君石 | D39: 143 | E39: 95 | F39: 142 | G39: 237 | K39: 世帯数 | L39: 男 | M39: 女 | N39: 計 | O39: （住民基本台帳合計） | P39: 世帯数 | Q39: 男 | R39: 女 | S39: 計
B40: 45 | C40: 内田原 | D40: 151 | E40: 191 | F40: 208 | G40: 399 | H40: 住民基本台帳合計 | K40: 29062 | L40: 32629 | M40: 32408 | N40: 65037 | O40: 前年同月数値 | P40: 28878 | Q40: 32791 | R40: 32688 | S40: 65479
A41: 計 | D41: 1512 | E41: 1781 | F41: 1852 | G41: 3633 | H41: 前月数値 | K41: 29053 | L41: 32642 | M41: 32444 | N41: 65086 | O41: 前年同月比較 | P41: 184 | Q41: -162 | R41: -280 | S41: -442
B42: 50 | C42: 原新田 | D42: 1889 | E42: 1993 | F42: 1924 | G42: 3917 | H42: 前月比較 | K42: 9 | L42: -13 | M42: -36 | N42: -49 | O42: （内外国人住民数） | P42: 世帯数 | Q42: 男 | R42: 女 | S42: 計
A43: 広 | B43: 51 | C43: 堅石 | D43: 1055 | E43: 1271 | F43: 1292 | G43: 2563 | H43: （内外国人住民数） | K43: 1187 | L43: 734 | M43: 719 | N43: 1453 | O43: 前年同月数値 | P43: 1150 | Q43: 722 | R43: 706 | S43: 1428
B44: 52 | C44: 郷原 | D44: 685 | E44: 734 | F44: 709 | G44: 1443 | H44: （前月数値） | K44: 1172 | L44: 718 | M44: 724 | N44: 1442 | O44: 前年同月比較 | P44: 37 | Q44: 12 | R44: 13 | S44: 25
A45: 丘 | B45: 54 | C45: 野村 | D45: 2826 | E45: 2945 | F45: 2680 | G45: 5625 | H45: （前月比較） | K45: 15 | L45: 16 | M45: -5 | N45: 11
A46: 計 | D46: 6455 | E46: 6943 | F46: 6605 | G46: 13548

Sheet R7.2
A1: 区別住民基本台帳世帯人口一覧表
L2: 45689
A3: 地区 | B3: ＮＯ | C3: 区 | D3: 世帯数 | E3: 男 | F3: 女 | G3: 計 | H3: 地区 | I3: ＮＯ | J3: 区 | K3: 世帯数 | L3: 男 | M3: 女 | N3: 計
B4: 1 | C4: 大門一番町 | D4: 131 | E4: 113 | F4: 119 | G4: 232 | I4: 55 | J4: 吉田一区 | K4: 570 | L4: 608 | M4: 586 | N4: 1194
B5: 2 | C5: 大門二番町 | D5: 329 | E5: 364 | F5: 395 | G5: 759 | H5: 吉 | I5: 56 | J5: 吉田二区 | K5: 561 | L5: 580 | M5: 585 | N5: 1165
A6: 大 | B6: 3 | C6: 大門三番町 | D6: 358 | E6: 409 | F6: 403 | G6: 812 | I6: 57 | J6: 吉田三区 | K6: 1045 | L6: 1084 | M6: 1089 | N6: 2173
B7: 4 | C7: 大門四番町 | D7: 211 | E7: 227 | F7: 255 | G7: 482 | H7: 田 | I7: 58 | J7: 吉田四区 | K7: 928 | L7: 1052 | M7: 970 | N7: 2022
B8: 5 | C8: 大門五番町 | D8: 592 | E8: 672 | F8: 657 | G8: 1329 | I8: 59 | J8: 吉田五区 | K8: 1205 | L8: 1357 | M8: 1397 | N8: 2754
B9: 6 | C9: 大門六番町 | D9: 392 | E9: 401 | F9: 458 | G9: 859 | H9: 計 | K9: 4309 | L9: 4681 | M9: 4627 | N9: 9308
A10: 門 | B10: 7 | C10: 大門七番町 | D10: 265 | E10: 250 | F10: 261 | G10: 511 | I10: 60 | J10: 上組 | K10: 182 | L10: 259 | M10: 243 | N10: 502
B11: 8 | C11: 大門八番町 | D11: 211 | E11: 173 | F11: 200 | G11: 373 | H11: 洗 | I11: 61 | J11: 元町 | K11: 155 | L11: 187 | M11: 189 | N11: 376
B12: 9 | C12: 大門七区 | D12: 1887 | E12: 2117 | F12: 2054 | G12: 4171 | I12: 62 | J12: 芦ノ田 | K12: 305 | L12: 402 | M12: 398 | N12: 800
B13: 13 | C13: 大門田川町 | D13: 219 | E13: 244 | F13: 265 | G13: 509 | I13: 63 | J13: 太田 | K13: 517 | L13: 661 | M13: 669 | N13: 1330
A14: 計 | D14: 4595 | E14: 4970 | F14: 5067 | G14: 10037 | H14: 馬 | I14: 64 | J14: 岩垂 | K14: 217 | L14: 305 | M14: 305 | N14: 610
B15: 20 | C15: 東山 | D15: 102 | E15: 121 | F15: 116 | G15: 237 | I15: 65 | J15: 下小曽部 | K15: 267 | L15: 332 | M15: 360 | N15: 692
B16: 21 | C16: 柿沢 | D16: 160 | E16: 194 | F16: 205 | G16: 399 | I16: 66 | J16: 上小曽部 | K16: 135 | L16: 141 | M16: 140 | N16: 281
B17: 22 | C17: 金井 | D17: 82 | E17: 109 | F17: 94 | G17: 203 | H17: 計 | K17: 1778 | L17: 2287 | M17: 2304 | N17: 4591
A18: 塩 | B18: 23 | C18: 上西条 | D18: 212 | E18: 272 | F18: 294 | G18: 566 | I18: 70 | J18: 桔梗ケ原 | K18: 830 | L18: 890 | M18: 887 | N18: 1777
B19: 24 | C19: 中西条 | D19: 82 | E19: 109 | F19: 117 | G19: 226 | I19: 72 | J19: 平出 | K19: 314 | L19: 440 | M19: 393 | N19: 833
A20: 尻 | B20: 25 | C20: 下西条 | D20: 209 | E20: 259 | F20: 275 | G20: 534 | H20: 宗 | I20: 73 | J20: 床尾 | K20: 235 | L20: 258 | M20: 281 | N20: 539
B21: 26 | C21: 堀ノ内 | D21: 371 | E21: 441 | F21: 473 | G21: 914 | I21: 74 | J21: 洗馬 | K21: 265 | L21: 340 | M21: 375 | N21: 715
A22: 東 | B22: 27 | C22: 長畝 | D22: 164 | E22: 198 | F22: 218 | G22: 416 | I22: 75 | J22: 牧野 | K22: 342 | L22: 405 | M22: 421 | N22: 826
B23: 28 | C23: 桟敷 | D23: 217 | E23: 239 | F23: 245 | G23: 484 | H23: 賀 | I23: 76 | J23: 本山 | K23: 158 | L23: 181 | M23: 183 | N23: 364
B24: 29 | C24: 町区 | D24: 927 | E24: 1149 | F24: 1160 | G24: 2309 | I24: 77 | J24: 日出塩 | K24: 46 | L24: 62 | M24: 55 | N24: 117
B25: 30 | C25: 松原 | D25: 57 | E25: 31 | F25: 49 | G25: 80 | I25: 78 | J25: 小井戸 | K25: 62 | L25: 41 | M25: 54 | N25: 95
B26: 31 | C26: みどり湖 | D26: 144 | E26: 157 | F26: 162 | G26: 319 | H26: 計 | K26: 2252 | L26: 2617 | M26: 2649 | N26: 5266
B27: 32 | C27: 峰原 | D27: 236 | E27: 310 | F27: 306 | G27: 616 | I27: 80 | J27: 古町 | K27: 150 | L27: 179 | M27: 190 | N27: 369
A28: 計 | D28: 2963 | E28: 3589 | F28: 3714 | G28: 7303 | H28: 北 | I28: 81 | J28: 宮前 | K28: 88 | L28: 109 | M28: 99 | N28: 208
B29: 35 | C29: 高出一区 | D29: 423 | E29: 503 | F29: 464 | G29: 967 | H29: 小 | I29: 82 | J29: 大出 | K29: 216 | L29: 260 | M29: 280 | N29: 540
A30: 高 | B30: 36 | C30: 高出二区 | D30: 789 | E30: 878 | F30: 802 | G30: 1680 | H30: 野 | I30: 83 | J30: 上田 | K30: 111 | L30: 121 | M30: 122 | N30: 243
B31: 37 | C31: 高出三区 | D31: 877 | E31: 1017 | F31: 985 | G31: 2002 | I31: 84 | J31: 勝弦 | K31: 201 | L31: 213 | M31: 186 | N31: 399
A32: 出 | B32: 38 | C32: 高出四区 | D32: 770 | E32: 846 | F32: 848 | G32: 1694 | H32: 計 | K32: 766 | L32: 882 | M32: 877 | N32: 1759
B33: 39 | C33: 高出五区 | D33: 610 | E33: 668 | F33: 610 | G33: 1278 | H33: 楢 川 | I33: 90 | J33: 贄川 | K33: 245 | L33: 266 | M33: 270 | N33: 536
A34: 計 | D34: 3469 | E34: 3912 | F34: 3709 | G34: 7621 | I34: 91 | J34: 木曽平沢 | K34: 429 | L34: 436 | M34: 475 | N34: 911
B35: 40 | C35: 南内田 | D35: 499 | E35: 566 | F35: 562 | G35: 1128 | I35: 92 | J35: 奈良井 | K35: 267 | L35: 263 | M35: 291 | N35: 554
A36: 片 | B36: 41 | C36: 北熊井 | D36: 478 | E36: 636 | F36: 649 | G36: 1285 | H36: 計 | K36: 941 | L36: 965 | M36: 1036 | N36: 2001
B37: 42 | C37: 南熊井 | D37: 209 | E37: 244 | F37: 244 | G37: 488
A38: 丘 | B38: 43 | C38: 中挾 | D38: 36 | E38: 49 | F38: 47 | G38: 96
B39: 44 | C39: 君石 | D39: 144 | E39: 96 | F39: 142 | G39: 238 | K39: 世帯数 | L39: 男 | M39: 女 | N39: 計 | O39: （住民基本台帳合計） | P39: 世帯数 | Q39: 男 | R39: 女 | S39: 計
B40: 45 | C40: 内田原 | D40: 151 | E40: 191 | F40: 208 | G40: 399 | H40: 住民基本台帳合計 | K40: =D14+D28+D34+D41+D46+K9+K17+K26+K32+K36 -> 29053 | L40: =E14+E28+E34+E41+E46+L9+L17+L26+L32+L36 -> 32642 | M40: =F14+F28+F34+F41+F46+M9+M17+M26+M32+M36 -> 32444 | N40: =L40+M40 -> 65086 | O40: 前年同月数値 | P40: 28898 | Q40: 32852 | R40: 32738 | S40: =Q40+R40 -> 65590
A41: 計 | D41: 1517 | E41: 1782 | F41: 1852 | G41: 3634 | H41: 前月数値 | K41: 29069 | L41: 32699 | M41: 32494 | N41: =L41+M41 -> 65193 | O41: 前年同月比較 | P41: =K40-P40 -> 155 | Q41: =L40-Q40 -> -210 | R41: =M40-R40 -> -294 | S41: =N40-S40 -> -504
B42: 50 | C42: 原新田 | D42: 1894 | E42: 1999 | F42: 1930 | G42: 3929 | H42: 前月比較 | K42: =K40-K41 -> -16 | L42: =L40-L41 -> -57 | M42: =M40-M41 -> -50 | N42: =N40-N41 -> -107 | O42: （内外国人住民数） | P42: 世帯数 | Q42: 男 | R42: 女 | S42: 計
A43: 広 | B43: 51 | C43: 堅石 | D43: 1053 | E43: 1272 | F43: 1288 | G43: 2560 | H43: （内外国人住民数） | K43: 1172 | L43: 718 | M43: 724 | N43: =SUM(L43:M43) -> 1442 | O43: 前年同月数値 | P43: 1172 | Q43: 741 | R43: 715 | S43: =Q43+R43 -> 1456
B44: 52 | C44: 郷原 | D44: 691 | E44: 739 | F44: 711 | G44: 1450 | H44: （前月数値） | K44: 1179 | L44: 721 | M44: 723 | N44: =SUM(L44:M44) -> 1444 | O44: 前年同月比較 | P44: =K43-P43 -> 0 | Q44: =L43-Q43 -> -23 | R44: =M43-R43 -> 9 | S44: =N43-S43 -> -14
A45: 丘 | B45: 54 | C45: 野村 | D45: 2825 | E45: 2947 | F45: 2680 | G45: 5627 | H45: （前月比較） | K45: =K43-K44 -> -7 | L45: =L43-L44 -> -3 | M45: =M43-M44 -> 1 | N45: =N43-N44 -> -2
A46: 計 | D46: 6463 | E46: 6957 | F46: 6609 | G46: 13566

Sheet R7.1
A1: 区別住民基本台帳世帯人口一覧表
L2: 45658
A3: 地区 | B3: ＮＯ | C3: 区 | D3: 世帯数 | E3: 男 | F3: 女 | G3: 計 | H3: 地区 | I3: ＮＯ | J3: 区 | K3: 世帯数 | L3: 男 | M3: 女 | N3: 計
B4: 1 | C4: 大門一番町 | D4: 131 | E4: 114 | F4: 119 | G4: 233 | I4: 55 | J4: 吉田一区 | K4: 569 | L4: 612 | M4: 586 | N4: 1198
B5: 2 | C5: 大門二番町 | D5: 329 | E5: 366 | F5: 393 | G5: 759 | H5: 吉 | I5: 56 | J5: 吉田二区 | K5: 558 | L5: 580 | M5: 587 | N5: 1167
A6: 大 | B6: 3 | C6: 大門三番町 | D6: 359 | E6: 413 | F6: 405 | G6: 818 | I6: 57 | J6: 吉田三区 | K6: 1046 | L6: 1089 | M6: 1089 | N6: 2178
B7: 4 | C7: 大門四番町 | D7: 211 | E7: 227 | F7: 255 | G7: 482 | H7: 田 | I7: 58 | J7: 吉田四区 | K7: 933 | L7: 1056 | M7: 972 | N7: 2028
B8: 5 | C8: 大門五番町 | D8: 590 | E8: 672 | F8: 656 | G8: 1328 | I8: 59 | J8: 吉田五区 | K8: 1206 | L8: 1358 | M8: 1395 | N8: 2753
B9: 6 | C9: 大門六番町 | D9: 392 | E9: 403 | F9: 456 | G9: 859 | H9: 計 | K9: 4312 | L9: 4695 | M9: 4629 | N9: 9324
A10: 門 | B10: 7 | C10: 大門七番町 | D10: 264 | E10: 249 | F10: 261 | G10: 510 | I10: 60 | J10: 上組 | K10: 182 | L10: 259 | M10: 243 | N10: 502
B11: 8 | C11: 大門八番町 | D11: 211 | E11: 173 | F11: 201 | G11: 374 | H11: 洗 | I11: 61 | J11: 元町 | K11: 155 | L11: 187 | M11: 189 | N11: 376
B12: 9 | C12: 大門七区 | D12: 1891 | E12: 2115 | F12: 2054 | G12: 4169 | I12: 62 | J12: 芦ノ田 | K12: 304 | L12: 402 | M12: 398 | N12: 800
B13: 13 | C13: 大門田川町 | D13: 219 | E13: 244 | F13: 265 | G13: 509 | I13: 63 | J13: 太田 | K13: 515 | L13: 659 | M13: 666 | N13: 1325
A14: 計 | D14: 4597 | E14: 4976 | F14: 5065 | G14: 10041 | H14: 馬 | I14: 64 | J14: 岩垂 | K14: 217 | L14: 306 | M14: 306 | N14: 612
B15: 20 | C15: 東山 | D15: 102 | E15: 121 | F15: 116 | G15: 237 | I15: 65 | J15: 下小曽部 | K15: 267 | L15: 333 | M15: 360 | N15: 693
B16: 21 | C16: 柿沢 | D16: 160 | E16: 196 | F16: 206 | G16: 402 | I16: 66 | J16: 上小曽部 | K16: 135 | L16: 141 | M16: 140 | N16: 281
B17: 22 | C17: 金井 | D17: 82 | E17: 111 | F17: 94 | G17: 205 | H17: 計 | K17: 1775 | L17: 2287 | M17: 2302 | N17: 4589
A18: 塩 | B18: 23 | C18: 上西条 | D18: 212 | E18: 272 | F18: 294 | G18: 566 | I18: 70 | J18: 桔梗ケ原 | K18: 830 | L18: 892 | M18: 891 | N18: 1783
B19: 24 | C19: 中西条 | D19: 84 | E19: 109 | F19: 118 | G19: 227 | I19: 72 | J19: 平出 | K19: 312 | L19: 439 | M19: 392 | N19: 831
A20: 尻 | B20: 25 | C20: 下西条 | D20: 210 | E20: 262 | F20: 277 | G20: 539 | H20: 宗 | I20: 73 | J20: 床尾 | K20: 235 | L20: 260 | M20: 283 | N20: 543
B21: 26 | C21: 堀ノ内 | D21: 371 | E21: 441 | F21: 475 | G21: 916 | I21: 74 | J21: 洗馬 | K21: 266 | L21: 340 | M21: 376 | N21: 716
A22: 東 | B22: 27 | C22: 長畝 | D22: 166 | E22: 198 | F22: 221 | G22: 419 | I22: 75 | J22: 牧野 | K22: 341 | L22: 405 | M22: 422 | N22: 827
B23: 28 | C23: 桟敷 | D23: 217 | E23: 239 | F23: 245 | G23: 484 | H23: 賀 | I23: 76 | J23: 本山 | K23: 158 | L23: 181 | M23: 182 | N23: 363
B24: 29 | C24: 町区 | D24: 925 | E24: 1148 | F24: 1159 | G24: 2307 | I24: 77 | J24: 日出塩 | K24: 46 | L24: 62 | M24: 56 | N24: 118
B25: 30 | C25: 松原 | D25: 57 | E25: 31 | F25: 49 | G25: 80 | I25: 78 | J25: 小井戸 | K25: 62 | L25: 42 | M25: 54 | N25: 96
B26: 31 | C26: みどり湖 | D26: 143 | E26: 157 | F26: 161 | G26: 318 | H26: 計 | K26: 2250 | L26: 2621 | M26: 2656 | N26: 5277
B27: 32 | C27: 峰原 | D27: 236 | E27: 308 | F27: 309 | G27: 617 | I27: 80 | J27: 古町 | K27: 151 | L27: 181 | M27: 192 | N27: 373
A28: 計 | D28: 2965 | E28: 3593 | F28: 3724 | G28: 7317 | H28: 北 | I28: 81 | J28: 宮前 | K28: 87 | L28: 109 | M28: 98 | N28: 207
B29: 35 | C29: 高出一区 | D29: 419 | E29: 500 | F29: 463 | G29: 963 | H29: 小 | I29: 82 | J29: 大出 | K29: 218 | L29: 259 | M29: 282 | N29: 541
A30: 高 | B30: 36 | C30: 高出二区 | D30: 791 | E30: 883 | F30: 805 | G30: 1688 | H30: 野 | I30: 83 | J30: 上田 | K30: 112 | L30: 121 | M30: 123 | N30: 244
B31: 37 | C31: 高出三区 | D31: 876 | E31: 1019 | F31: 984 | G31: 2003 | I31: 84 | J31: 勝弦 | K31: 201 | L31: 212 | M31: 189 | N31: 401
A32: 出 | B32: 38 | C32: 高出四区 | D32: 768 | E32: 845 | F32: 845 | G32: 1690 | H32: 計 | K32: 769 | L32: 882 | M32: 884 | N32: 1766
B33: 39 | C33: 高出五区 | D33: 616 | E33: 672 | F33: 614 | G33: 1286 | H33: 楢 川 | I33: 90 | J33: 贄川 | K33: 245 | L33: 266 | M33: 273 | N33: 539
A34: 計 | D34: 3470 | E34: 3919 | F34: 3711 | G34: 7630 | I34: 91 | J34: 木曽平沢 | K34: 430 | L34: 436 | M34: 476 | N34: 912
B35: 40 | C35: 南内田 | D35: 499 | E35: 570 | F35: 566 | G35: 1136 | I35: 92 | J35: 奈良井 | K35: 267 | L35: 263 | M35: 291 | N35: 554
A36: 片 | B36: 41 | C36: 北熊井 | D36: 479 | E36: 638 | F36: 651 | G36: 1289 | H36: 計 | K36: 942 | L36: 965 | M36: 1040 | N36: 2005
B37: 42 | C37: 南熊井 | D37: 210 | E37: 245 | F37: 245 | G37: 490
A38: 丘 | B38: 43 | C38: 中挾 | D38: 36 | E38: 49 | F38: 47 | G38: 96
B39: 44 | C39: 君石 | D39: 145 | E39: 98 | F39: 143 | G39: 241 | K39: 世帯数 | L39: 男 | M39: 女 | N39: 計 | O39: （住民基本台帳合計） | P39: 世帯数 | Q39: 男 | R39: 女 | S39: 計
B40: 45 | C40: 内田原 | D40: 151 | E40: 191 | F40: 208 | G40: 399 | H40: 住民基本台帳合計 | K40: 29069 | L40: 32699 | M40: 32494 | N40: 65193 | O40: 前年同月数値 | P40: 28874 | Q40: 32852 | R40: 32761 | S40: 65613
A41: 計 | D41: 1520 | E41: 1791 | F41: 1860 | G41: 3651 | H41: 前月数値 | K41: 29100 | L41: 32732 | M41: 32518 | N41: 65250 | O41: 前年同月比較 | P41: 195 | Q41: -153 | R41: -267 | S41: -420
B42: 50 | C42: 原新田 | D42: 1892 | E42: 2001 | F42: 1937 | G42: 3938 | H42: 前月比較 | K42: -31 | L42: -33 | M42: -24 | N42: -57 | O42: （内外国人住民数） | P42: 世帯数 | Q42: 男 | R42: 女 | S42: 計
A43: 広 | B43: 51 | C43: 堅石 | D43: 1056 | E43: 1279 | F43: 1288 | G43: 2567 | H43: （内外国人住民数） | K43: 1179 | L43: 721 | M43: 723 | N43: 1444 | O43: 前年同月数値 | P43: 1173 | Q43: 732 | R43: 721 | S43: 1453
B44: 52 | C44: 郷原 | D44: 693 | E44: 742 | F44: 716 | G44: 1458 | H44: （前月数値） | K44: 1183 | L44: 726 | M44: 724 | N44: 1450 | O44: 前年同月比較 | P44: 6 | Q44: -11 | R44: 2 | S44: -9
A45: 丘 | B45: 54 | C45: 野村 | D45: 2828 | E45: 2948 | F45: 2682 | G45: 5630 | H45: （前月比較） | K45: -4 | L45: -5 | M45: -1 | N45: -6
A46: 計 | D46: 6469 | E46: 6970 | F46: 6623 | G46: 13593

Sheet R6.12
A1: 区別住民基本台帳世帯人口一覧表
L2: 45627
A3: 地区 | B3: ＮＯ | C3: 区 | D3: 世帯数 | E3: 男 | F3: 女 | G3: 計 | H3: 地区 | I3: ＮＯ | J3: 区 | K3: 世帯数 | L3: 男 | M3: 女 | N3: 計
B4: 1 | C4: 大門一番町 | D4: 133 | E4: 114 | F4: 121 | G4: 235 | I4: 55 | J4: 吉田一区 | K4: 567 | L4: 609 | M4: 585 | N4: 1194
B5: 2 | C5: 大門二番町 | D5: 327 | E5: 364 | F5: 392 | G5: 756 | H5: 吉 | I5: 56 | J5: 吉田二区 | K5: 565 | L5: 587 | M5: 591 | N5: 1178
A6: 大 | B6: 3 | C6: 大門三番町 | D6: 362 | E6: 414 | F6: 409 | G6: 823 | I6: 57 | J6: 吉田三区 | K6: 1047 | L6: 1090 | M6: 1083 | N6: 2173
B7: 4 | C7: 大門四番町 | D7: 210 | E7: 226 | F7: 254 | G7: 480 | H7: 田 | I7: 58 | J7: 吉田四区 | K7: 932 | L7: 1055 | M7: 971 | N7: 2026
B8: 5 | C8: 大門五番町 | D8: 588 | E8: 672 | F8: 659 | G8: 1331 | I8: 59 | J8: 吉田五区 | K8: 1209 | L8: 1357 | M8: 1399 | N8: 2756
B9: 6 | C9: 大門六番町 | D9: 393 | E9: 405 | F9: 456 | G9: 861 | H9: 計 | K9: 4320 | L9: 4698 | M9: 4629 | N9: 9327
A10: 門 | B10: 7 | C10: 大門七番町 | D10: 267 | E10: 253 | F10: 260 | G10: 513 | I10: 60 | J10: 上組 | K10: 182 | L10: 259 | M10: 243 | N10: 502
B11: 8 | C11: 大門八番町 | D11: 208 | E11: 172 | F11: 199 | G11: 371 | H11: 洗 | I11: 61 | J11: 元町 | K11: 155 | L11: 188 | M11: 189 | N11: 377
B12: 9 | C12: 大門七区 | D12: 1895 | E12: 2110 | F12: 2050 | G12: 4160 | I12: 62 | J12: 芦ノ田 | K12: 306 | L12: 401 | M12: 400 | N12: 801
B13: 13 | C13: 大門田川町 | D13: 220 | E13: 246 | F13: 266 | G13: 512 | I13: 63 | J13: 太田 | K13: 514 | L13: 658 | M13: 668 | N13: 1326
A14: 計 | D14: 4603 | E14: 4976 | F14: 5066 | G14: 10042 | H14: 馬 | I14: 64 | J14: 岩垂 | K14: 215 | L14: 302 | M14: 304 | N14: 606
B15: 20 | C15: 東山 | D15: 102 | E15: 121 | F15: 116 | G15: 237 | I15: 65 | J15: 下小曽部 | K15: 267 | L15: 334 | M15: 361 | N15: 695
B16: 21 | C16: 柿沢 | D16: 160 | E16: 195 | F16: 205 | G16: 400 | I16: 66 | J16: 上小曽部 | K16: 135 | L16: 142 | M16: 140 | N16: 282
B17: 22 | C17: 金井 | D17: 81 | E17: 112 | F17: 93 | G17: 205 | H17: 計 | K17: 1774 | L17: 2284 | M17: 2305 | N17: 4589
A18: 塩 | B18: 23 | C18: 上西条 | D18: 213 | E18: 273 | F18: 296 | G18: 569 | I18: 70 | J18: 桔梗ケ原 | K18: 829 | L18: 888 | M18: 889 | N18: 1777
B19: 24 | C19: 中西条 | D19: 84 | E19: 110 | F19: 118 | G19: 228 | I19: 72 | J19: 平出 | K19: 312 | L19: 440 | M19: 393 | N19: 833
A20: 尻 | B20: 25 | C20: 下西条 | D20: 210 | E20: 264 | F20: 276 | G20: 540 | H20: 宗 | I20: 73 | J20: 床尾 | K20: 234 | L20: 260 | M20: 285 | N20: 545
B21: 26 | C21: 堀ノ内 | D21: 375 | E21: 447 | F21: 476 | G21: 923 | I21: 74 | J21: 洗馬 | K21: 265 | L21: 339 | M21: 374 | N21: 713
A22: 東 | B22: 27 | C22: 長畝 | D22: 165 | E22: 198 | F22: 219 | G22: 417 | I22: 75 | J22: 牧野 | K22: 342 | L22: 407 | M22: 422 | N22: 829
B23: 28 | C23: 桟敷 | D23: 216 | E23: 241 | F23: 244 | G23: 485 | H23: 賀 | I23: 76 | J23: 本山 | K23: 159 | L23: 182 | M23: 183 | N23: 365
B24: 29 | C24: 町区 | D24: 923 | E24: 1149 | F24: 1157 | G24: 2306 | I24: 77 | J24: 日出塩 | K24: 46 | L24: 62 | M24: 56 | N24: 118
B25: 30 | C25: 松原 | D25: 57 | E25: 31 | F25: 49 | G25: 80 | I25: 78 | J25: 小井戸 | K25: 64 | L25: 44 | M25: 55 | N25: 99
B26: 31 | C26: みどり湖 | D26: 141 | E26: 155 | F26: 160 | G26: 315 | H26: 計 | K26: 2251 | L26: 2622 | M26: 2657 | N26: 5279
B27: 32 | C27: 峰原 | D27: 236 | E27: 311 | F27: 312 | G27: 623 | I27: 80 | J27: 古町 | K27: 152 | L27: 182 | M27: 195 | N27: 377
A28: 計 | D28: 2963 | E28: 3607 | F28: 3721 | G28: 7328 | H28: 北 | I28: 81 | J28: 宮前 | K28: 87 | L28: 108 | M28: 99 | N28: 207
B29: 35 | C29: 高出一区 | D29: 417 | E29: 499 | F29: 461 | G29: 960 | H29: 小 | I29: 82 | J29: 大出 | K29: 217 | L29: 258 | M29: 284 | N29: 542
A30: 高 | B30: 36 | C30: 高出二区 | D30: 791 | E30: 881 | F30: 803 | G30: 1684 | H30: 野 | I30: 83 | J30: 上田 | K30: 112 | L30: 122 | M30: 124 | N30: 246
B31: 37 | C31: 高出三区 | D31: 878 | E31: 1022 | F31: 988 | G31: 2010 | I31: 84 | J31: 勝弦 | K31: 202 | L31: 216 | M31: 192 | N31: 408
A32: 出 | B32: 38 | C32: 高出四区 | D32: 766 | E32: 838 | F32: 845 | G32: 1683 | H32: 計 | K32: 770 | L32: 886 | M32: 894 | N32: 1780
B33: 39 | C33: 高出五区 | D33: 618 | E33: 677 | F33: 621 | G33: 1298 | H33: 楢 川 | I33: 90 | J33: 贄川 | K33: 245 | L33: 266 | M33: 276 | N33: 542
A34: 計 | D34: 3470 | E34: 3917 | F34: 3718 | G34: 7635 | I34: 91 | J34: 木曽平沢 | K34: 426 | L34: 434 | M34: 477 | N34: 911
B35: 40 | C35: 南内田 | D35: 498 | E35: 571 | F35: 567 | G35: 1138 | I35: 92 | J35: 奈良井 | K35: 270 | L35: 266 | M35: 292 | N35: 558
A36: 片 | B36: 41 | C36: 北熊井 | D36: 481 | E36: 639 | F36: 653 | G36: 1292 | H36: 計 | K36: 941 | L36: 966 | M36: 1045 | N36: 2011
B37: 42 | C37: 南熊井 | D37: 210 | E37: 247 | F37: 245 | G37: 492
A38: 丘 | B38: 43 | C38: 中挾 | D38: 36 | E38: 49 | F38: 47 | G38: 96
B39: 44 | C39: 君石 | D39: 142 | E39: 97 | F39: 139 | G39: 236 | K39: 世帯数 | L39: 男 | M39: 女 | N39: 計 | O39: （住民基本台帳合計） | P39: 世帯数 | Q39: 男 | R39: 女 | S39: 計
B40: 45 | C40: 内田原 | D40: 151 | E40: 191 | F40: 208 | G40: 399 | H40: 住民基本台帳合計 | K40: 29100 | L40: 32732 | M40: 32518 | N40: 65250 | O40: 前年同月数値 | P40: 28871 | Q40: 32877 | R40: 32777 | S40: 65654
A41: 計 | D41: 1518 | E41: 1794 | F41: 1859 | G41: 3653 | H41: 前月数値 | K41: 29125 | L41: 32775 | M41: 32542 | N41: 65317 | O41: 前年同月比較 | P41: 229 | Q41: -145 | R41: -259 | S41: -404
B42: 50 | C42: 原新田 | D42: 1901 | E42: 2005 | F42: 1941 | G42: 3946 | H42: 前月比較 | K42: -25 | L42: -43 | M42: -24 | N42: -67 | O42: （内外国人住民数） | P42: 世帯数 | Q42: 男 | R42: 女 | S42: 計
A43: 広 | B43: 51 | C43: 堅石 | D43: 1058 | E43: 1280 | F43: 1286 | G43: 2566 | H43: （内外国人住民数） | K43: 1183 | L43: 726 | M43: 724 | N43: 1450 | O43: 前年同月数値 | P43: 1170 | Q43: 738 | R43: 714 | S43: 1452
B44: 52 | C44: 郷原 | D44: 697 | E44: 743 | F44: 717 | G44: 1460 | H44: （前月数値） | K44: 1198 | L44: 736 | M44: 737 | N44: 1473 | O44: 前年同月比較 | P44: 13 | Q44: -12 | R44: 10 | S44: -2
A45: 丘 | B45: 54 | C45: 野村 | D45: 2834 | E45: 2954 | F45: 2680 | G45: 5634 | H45: （前月比較） | K45: -15 | L45: -10 | M45: -13 | N45: -23
A46: 計 | D46: 6490 | E46: 6982 | F46: 6624 | G46: 13606

Sheet R6.11
A1: 区別住民基本台帳世帯人口一覧表
L2: 45597
A3: 地区 | B3: ＮＯ | C3: 区 | D3: 世帯数 | E3: 男 | F3: 女 | G3: 計 | H3: 地区 | I3: ＮＯ | J3: 区 | K3: 世帯数 | L3: 男 | M3: 女 | N3: 計
B4: 1 | C4: 大門一番町 | D4: 134 | E4: 115 | F4: 121 | G4: 236 | I4: 55 | J4: 吉田一区 | K4: 571 | L4: 615 | M4: 587 | N4: 1202
B5: 2 | C5: 大門二番町 | D5: 326 | E5: 364 | F5: 392 | G5: 756 | H5: 吉 | I5: 56 | J5: 吉田二区 | K5: 565 | L5: 590 | M5: 590 | N5: 1180
A6: 大 | B6: 3 | C6: 大門三番町 | D6: 361 | E6: 412 | F6: 408 | G6: 820 | I6: 57 | J6: 吉田三区 | K6: 1044 | L6: 1092 | M6: 1085 | N6: 2177
B7: 4 | C7: 大門四番町 | D7: 211 | E7: 225 | F7: 255 | G7: 480 | H7: 田 | I7: 58 | J7: 吉田四区 | K7: 927 | L7: 1056 | M7: 968 | N7: 2024
B8: 5 | C8: 大門五番町 | D8: 588 | E8: 674 | F8: 663 | G8: 1337 | I8: 59 | J8: 吉田五区 | K8: 1209 | L8: 1359 | M8: 1397 | N8: 2756
B9: 6 | C9: 大門六番町 | D9: 397 | E9: 407 | F9: 458 | G9: 865 | H9: 計 | K9: 4316 | L9: 4712 | M9: 4627 | N9: 9339
A10: 門 | B10: 7 | C10: 大門七番町 | D10: 268 | E10: 253 | F10: 260 | G10: 513 | I10: 60 | J10: 上組 | K10: 182 | L10: 258 | M10: 244 | N10: 502
B11: 8 | C11: 大門八番町 | D11: 209 | E11: 173 | F11: 200 | G11: 373 | H11: 洗 | I11: 61 | J11: 元町 | K11: 155 | L11: 188 | M11: 190 | N11: 378
B12: 9 | C12: 大門七区 | D12: 1898 | E12: 2105 | F12: 2053 | G12: 4158 | I12: 62 | J12: 芦ノ田 | K12: 308 | L12: 402 | M12: 401 | N12: 803
B13: 13 | C13: 大門田川町 | D13: 221 | E13: 247 | F13: 266 | G13: 513 | I13: 63 | J13: 太田 | K13: 515 | L13: 658 | M13: 668 | N13: 1326
A14: 計 | D14: 4613 | E14: 4975 | F14: 5076 | G14: 10051 | H14: 馬 | I14: 64 | J14: 岩垂 | K14: 217 | L14: 305 | M14: 304 | N14: 609
B15: 20 | C15: 東山 | D15: 102 | E15: 121 | F15: 116 | G15: 237 | I15: 65 | J15: 下小曽部 | K15: 270 | L15: 333 | M15: 364 | N15: 697
B16: 21 | C16: 柿沢 | D16: 159 | E16: 196 | F16: 203 | G16: 399 | I16: 66 | J16: 上小曽部 | K16: 137 | L16: 142 | M16: 142 | N16: 284
B17: 22 | C17: 金井 | D17: 82 | E17: 112 | F17: 95 | G17: 207 | H17: 計 | K17: 1784 | L17: 2286 | M17: 2313 | N17: 4599
A18: 塩 | B18: 23 | C18: 上西条 | D18: 213 | E18: 273 | F18: 297 | G18: 570 | I18: 70 | J18: 桔梗ケ原 | K18: 833 | L18: 890 | M18: 894 | N18: 1784
B19: 24 | C19: 中西条 | D19: 84 | E19: 110 | F19: 118 | G19: 228 | I19: 72 | J19: 平出 | K19: 312 | L19: 440 | M19: 393 | N19: 833
A20: 尻 | B20: 25 | C20: 下西条 | D20: 210 | E20: 264 | F20: 276 | G20: 540 | H20: 宗 | I20: 73 | J20: 床尾 | K20: 233 | L20: 259 | M20: 284 | N20: 543
B21: 26 | C21: 堀ノ内 | D21: 375 | E21: 451 | F21: 476 | G21: 927 | I21: 74 | J21: 洗馬 | K21: 265 | L21: 341 | M21: 374 | N21: 715
A22: 東 | B22: 27 | C22: 長畝 | D22: 165 | E22: 199 | F22: 219 | G22: 418 | I22: 75 | J22: 牧野 | K22: 343 | L22: 410 | M22: 423 | N22: 833
B23: 28 | C23: 桟敷 | D23: 215 | E23: 244 | F23: 243 | G23: 487 | H23: 賀 | I23: 76 | J23: 本山 | K23: 160 | L23: 183 | M23: 184 | N23: 367
B24: 29 | C24: 町区 | D24: 920 | E24: 1148 | F24: 1152 | G24: 2300 | I24: 77 | J24: 日出塩 | K24: 47 | L24: 62 | M24: 58 | N24: 120
B25: 30 | C25: 松原 | D25: 57 | E25: 31 | F25: 49 | G25: 80 | I25: 78 | J25: 小井戸 | K25: 64 | L25: 44 | M25: 55 | N25: 99
B26: 31 | C26: みどり湖 | D26: 140 | E26: 153 | F26: 158 | G26: 311 | H26: 計 | K26: 2257 | L26: 2629 | M26: 2665 | N26: 5294
B27: 32 | C27: 峰原 | D27: 235 | E27: 311 | F27: 311 | G27: 622 | I27: 80 | J27: 古町 | K27: 152 | L27: 180 | M27: 195 | N27: 375
A28: 計 | D28: 2957 | E28: 3613 | F28: 3713 | G28: 7326 | H28: 北 | I28: 81 | J28: 宮前 | K28: 87 | L28: 108 | M28: 100 | N28: 208
B29: 35 | C29: 高出一区 | D29: 418 | E29: 498 | F29: 459 | G29: 957 | H29: 小 | I29: 82 | J29: 大出 | K29: 219 | L29: 260 | M29: 286 | N29: 546
A30: 高 | B30: 36 | C30: 高出二区 | D30: 789 | E30: 880 | F30: 796 | G30: 1676 | H30: 野 | I30: 83 | J30: 上田 | K30: 112 | L30: 122 | M30: 125 | N30: 247
B31: 37 | C31: 高出三区 | D31: 876 | E31: 1021 | F31: 986 | G31: 2007 | I31: 84 | J31: 勝弦 | K31: 202 | L31: 216 | M31: 193 | N31: 409
A32: 出 | B32: 38 | C32: 高出四区 | D32: 765 | E32: 836 | F32: 848 | G32: 1684 | H32: 計 | K32: 772 | L32: 886 | M32: 899 | N32: 1785
B33: 39 | C33: 高出五区 | D33: 624 | E33: 682 | F33: 626 | G33: 1308 | H33: 楢 川 | I33: 90 | J33: 贄川 | K33: 244 | L33: 264 | M33: 275 | N33: 539
A34: 計 | D34: 3472 | E34: 3917 | F34: 3715 | G34: 7632 | I34: 91 | J34: 木曽平沢 | K34: 426 | L34: 437 | M34: 479 | N34: 916
B35: 40 | C35: 南内田 | D35: 496 | E35: 568 | F35: 565 | G35: 1133 | I35: 92 | J35: 奈良井 | K35: 270 | L35: 265 | M35: 295 | N35: 560
A36: 片 | B36: 41 | C36: 北熊井 | D36: 481 | E36: 636 | F36: 652 | G36: 1288 | H36: 計 | K36: 940 | L36: 966 | M36: 1049 | N36: 2015
B37: 42 | C37: 南熊井 | D37: 211 | E37: 249 | F37: 245 | G37: 494
A38: 丘 | B38: 43 | C38: 中挾 | D38: 36 | E38: 49 | F38: 47 | G38: 96
B39: 44 | C39: 君石 | D39: 145 | E39: 98 | F39: 142 | G39: 240 | K39: 世帯数 | L39: 男 | M39: 女 | N39: 計 | O39: （住民基本台帳合計） | P39: 世帯数 | Q39: 男 | R39: 女 | S39: 計
B40: 45 | C40: 内田原 | D40: 152 | E40: 195 | F40: 211 | G40: 406 | H40: 住民基本台帳合計 | K40: 29125 | L40: 32775 | M40: 32542 | N40: 65317 | O40: 前年同月数値 | P40: 28881 | Q40: 32888 | R40: 32808 | S40: 65696
A41: 計 | D41: 1521 | E41: 1795 | F41: 1862 | G41: 3657 | H41: 前月数値 | K41: 29138 | L41: 32781 | M41: 32565 | N41: 65346 | O41: 前年同月比較 | P41: 244 | Q41: -113 | R41: -266 | S41: -379
B42: 50 | C42: 原新田 | D42: 1907 | E42: 2015 | F42: 1949 | G42: 3964 | H42: 前月比較 | K42: -13 | L42: -6 | M42: -23 | N42: -29 | O42: （内外国人住民数） | P42: 世帯数 | Q42: 男 | R42: 女 | S42: 計
A43: 広 | B43: 51 | C43: 堅石 | D43: 1056 | E43: 1277 | F43: 1287 | G43: 2564 | H43: （内外国人住民数） | K43: 1198 | L43: 736 | M43: 737 | N43: 1473 | O43: 前年同月数値 | P43: 1188 | Q43: 736 | R43: 731 | S43: 1467
B44: 52 | C44: 郷原 | D44: 701 | E44: 744 | F44: 721 | G44: 1465 | H44: （前月数値） | K44: 1211 | L44: 744 | M44: 746 | N44: 1490 | O44: 前年同月比較 | P44: 10 | Q44: 0 | R44: 6 | S44: 6
A45: 丘 | B45: 54 | C45: 野村 | D45: 2829 | E45: 2960 | F45: 2666 | G45: 5626 | H45: （前月比較） | K45: -13 | L45: -8 | M45: -9 | N45: -17
A46: 計 | D46: 6493 | E46: 6996 | F46: 6623 | G46: 13619

Sheet R6.10
A1: 区別住民基本台帳世帯人口一覧表
L2: 45566
A3: 地区 | B3: ＮＯ | C3: 区 | D3: 世帯数 | E3: 男 | F3: 女 | G3: 計 | H3: 地区 | I3: ＮＯ | J3: 区 | K3: 世帯数 | L3: 男 | M3: 女 | N3: 計
B4: 1 | C4: 大門一番町 | D4: 134 | E4: 114 | F4: 121 | G4: =E4+F4 -> 235 | I4: 55 | J4: 吉田一区 | K4: 570 | L4: 621 | M4: 589 | N4: =L4+M4 -> 1210
B5: 2 | C5: 大門二番町 | D5: 328 | E5: 365 | F5: 395 | G5: =E5+F5 -> 760 | H5: 吉 | I5: 56 | J5: 吉田二区 | K5: 563 | L5: 591 | M5: 590 | N5: =L5+M5 -> 1181
A6: 大 | B6: 3 | C6: 大門三番町 | D6: 363 | E6: 414 | F6: 408 | G6: =E6+F6 -> 822 | I6: 57 | J6: 吉田三区 | K6: 1050 | L6: 1097 | M6: 1088 | N6: =L6+M6 -> 2185
B7: 4 | C7: 大門四番町 | D7: 212 | E7: 228 | F7: 257 | G7: =E7+F7 -> 485 | H7: 田 | I7: 58 | J7: 吉田四区 | K7: 939 | L7: 1062 | M7: 968 | N7: =L7+M7 -> 2030
B8: 5 | C8: 大門五番町 | D8: 593 | E8: 680 | F8: 669 | G8: =E8+F8 -> 1349 | I8: 59 | J8: 吉田五区 | K8: 1211 | L8: 1357 | M8: 1406 | N8: =L8+M8 -> 2763
B9: 6 | C9: 大門六番町 | D9: 390 | E9: 404 | F9: 454 | G9: =E9+F9 -> 858 | H9: 計 | K9: =SUM(K4:K8) -> 4333 | L9: =SUM(L4:L8) -> 4728 | M9: =SUM(M4:M8) -> 4641 | N9: =SUM(N4:N8) -> 9369
A10: 門 | B10: 7 | C10: 大門七番町 | D10: 274 | E10: 256 | F10: 263 | G10: =E10+F10 -> 519 | I10: 60 | J10: 上組 | K10: 182 | L10: 258 | M10: 245 | N10: =L10+M10 -> 503
B11: 8 | C11: 大門八番町 | D11: 204 | E11: 170 | F11: 196 | G11: =E11+F11 -> 366 | H11: 洗 | I11: 61 | J11: 元町 | K11: 155 | L11: 187 | M11: 191 | N11: =L11+M11 -> 378
B12: 9 | C12: 大門七区 | D12: 1884 | E12: 2085 | F12: 2040 | G12: =E12+F12 -> 4125 | I12: 62 | J12: 芦ノ田 | K12: 309 | L12: 401 | M12: 404 | N12: =L12+M12 -> 805
B13: 13 | C13: 大門田川町 | D13: 221 | E13: 249 | F13: 266 | G13: =E13+F13 -> 515 | I13: 63 | J13: 太田 | K13: 514 | L13: 658 | M13: 668 | N13: =L13+M13 -> 1326
A14: 計 | D14: =SUM(D4:D13) -> 4603 | E14: =SUM(E4:E13) -> 4965 | F14: =SUM(F4:F13) -> 5069 | G14: =E14+F14 -> 10034 | H14: 馬 | I14: 64 | J14: 岩垂 | K14: 221 | L14: 308 | M14: 308 | N14: =L14+M14 -> 616
B15: 20 | C15: 東山 | D15: 102 | E15: 121 | F15: 117 | G15: =E15+F15 -> 238 | I15: 65 | J15: 下小曽部 | K15: 270 | L15: 332 | M15: 366 | N15: =L15+M15 -> 698
B16: 21 | C16: 柿沢 | D16: 159 | E16: 196 | F16: 203 | G16: =E16+F16 -> 399 | I16: 66 | J16: 上小曽部 | K16: 137 | L16: 142 | M16: 142 | N16: =L16+M16 -> 284
B17: 22 | C17: 金井 | D17: 82 | E17: 112 | F17: 95 | G17: =E17+F17 -> 207 | H17: 計 | K17: =SUM(K10:K16) -> 1788 | L17: =SUM(L10:L16) -> 2286 | M17: =SUM(M10:M16) -> 2324 | N17: =SUM(N10:N16) -> 4610
A18: 塩 | B18: 23 | C18: 上西条 | D18: 213 | E18: 271 | F18: 296 | G18: =E18+F18 -> 567 | I18: 70 | J18: 桔梗ケ原 | K18: 832 | L18: 891 | M18: 889 | N18: =L18+M18 -> 1780
B19: 24 | C19: 中西条 | D19: 84 | E19: 111 | F19: 118 | G19: =E19+F19 -> 229 | I19: 72 | J19: 平出 | K19: 311 | L19: 439 | M19: 394 | N19: =L19+M19 -> 833
A20: 尻 | B20: 25 | C20: 下西条 | D20: 210 | E20: 264 | F20: 276 | G20: =E20+F20 -> 540 | H20: 宗 | I20: 73 | J20: 床尾 | K20: 233 | L20: 259 | M20: 284 | N20: =L20+M20 -> 543
B21: 26 | C21: 堀ノ内 | D21: 373 | E21: 447 | F21: 475 | G21: =E21+F21 -> 922 | I21: 74 | J21: 洗馬 | K21: 265 | L21: 343 | M21: 375 | N21: =L21+M21 -> 718
A22: 東 | B22: 27 | C22: 長畝 | D22: 166 | E22: 201 | F22: 222 | G22: =E22+F22 -> 423 | I22: 75 | J22: 牧野 | K22: 346 | L22: 415 | M22: 427 | N22: =L22+M22 -> 842
B23: 28 | C23: 桟敷 | D23: 214 | E23: 243 | F23: 245 | G23: =E23+F23 -> 488 | H23: 賀 | I23: 76 | J23: 本山 | K23: 160 | L23: 184 | M23: 184 | N23: =L23+M23 -> 368
B24: 29 | C24: 町区 | D24: 913 | E24: 1136 | F24: 1147 | G24: =E24+F24 -> 2283 | I24: 77 | J24: 日出塩 | K24: 47 | L24: 62 | M24: 58 | N24: =L24+M24 -> 120
B25: 30 | C25: 松原 | D25: 58 | E25: 32 | F25: 51 | G25: =E25+F25 -> 83 | I25: 78 | J25: 小井戸 | K25: 61 | L25: 42 | M25: 55 | N25: =L25+M25 -> 97
B26: 31 | C26: みどり湖 | D26: 141 | E26: 153 | F26: 159 | G26: =E26+F26 -> 312 | H26: 計 | K26: =SUM(K18:K25) -> 2255 | L26: =SUM(L18:L25) -> 2635 | M26: =SUM(M18:M25) -> 2666 | N26: =SUM(N18:N25) -> 5301
B27: 32 | C27: 峰原 | D27: 236 | E27: 312 | F27: 312 | G27: =E27+F27 -> 624 | I27: 80 | J27: 古町 | K27: 151 | L27: 179 | M27: 195 | N27: =L27+M27 -> 374
A28: 計 | D28: =SUM(D15:D27) -> 2951 | E28: =SUM(E15:E27) -> 3599 | F28: =SUM(F15:F27) -> 3716 | G28: =SUM(G15:G27) -> 7315 | H28: 北 | I28: 81 | J28: 宮前 | K28: 88 | L28: 108 | M28: 101 | N28: =L28+M28 -> 209
B29: 35 | C29: 高出一区 | D29: 421 | E29: 502 | F29: 465 | G29: =E29+F29 -> 967 | H29: 小 | I29: 82 | J29: 大出 | K29: 218 | L29: 262 | M29: 286 | N29: =L29+M29 -> 548
A30: 高 | B30: 36 | C30: 高出二区 | D30: 785 | E30: 876 | F30: 791 | G30: =E30+F30 -> 1667 | H30: 野 | I30: 83 | J30: 上田 | K30: 112 | L30: 122 | M30: 125 | N30: =L30+M30 -> 247
B31: 37 | C31: 高出三区 | D31: 878 | E31: 1026 | F31: 980 | G31: =E31+F31 -> 2006 | I31: 84 | J31: 勝弦 | K31: 202 | L31: 216 | M31: 194 | N31: =L31+M31 -> 410
A32: 出 | B32: 38 | C32: 高出四区 | D32: 763 | E32: 835 | F32: 848 | G32: =E32+F32 -> 1683 | H32: 計 | K32: =SUM(K27:K31) -> 771 | L32: =SUM(L27:L31) -> 887 | M32: =SUM(M27:M31) -> 901 | N32: =SUM(N27:N31) -> 1788
B33: 39 | C33: 高出五区 | D33: 630 | E33: 685 | F33: 635 | G33: =E33+F33 -> 1320 | H33: 楢 川 | I33: 90 | J33: 贄川 | K33: 245 | L33: 266 | M33: 275 | N33: =L33+M33 -> 541
A34: 計 | D34: =SUM(D29:D33) -> 3477 | E34: =SUM(E29:E33) -> 3924 | F34: =SUM(F29:F33) -> 3719 | G34: =SUM(G29:G33) -> 7643 | I34: 91 | J34: 木曽平沢 | K34: 425 | L34: 436 | M34: 477 | N34: =L34+M34 -> 913
B35: 40 | C35: 南内田 | D35: 501 | E35: 569 | F35: 571 | G35: =E35+F35 -> 1140 | I35: 92 | J35: 奈良井 | K35: 272 | L35: 266 | M35: 294 | N35: =L35+M35 -> 560
A36: 片 | B36: 41 | C36: 北熊井 | D36: 482 | E36: 636 | F36: 653 | G36: =E36+F36 -> 1289 | H36: 計 | K36: =SUM(K33:K35) -> 942 | L36: =SUM(L33:L35) -> 968 | M36: =SUM(M33:M35) -> 1046 | N36: =SUM(N33:N35) -> 2014
B37: 42 | C37: 南熊井 | D37: 210 | E37: 248 | F37: 245 | G37: =E37+F37 -> 493
A38: 丘 | B38: 43 | C38: 中挾 | D38: 36 | E38: 49 | F38: 47 | G38: =E38+F38 -> 96
B39: 44 | C39: 君石 | D39: 142 | E39: 97 | F39: 138 | G39: =E39+F39 -> 235 | K39: 世帯数 | L39: 男 | M39: 女 | N39: 計 | O39: （住民基本台帳合計） | P39: 世帯数 | Q39: 男 | R39: 女 | S39: 計
B40: 45 | C40: 内田原 | D40: 151 | E40: 196 | F40: 209 | G40: =E40+F40 -> 405 | H40: 住民基本台帳合計 | K40: =D14+D28+D34+D41+D46+K9+K17+K26+K32+K36 -> 29138 | L40: =E14+E28+E34+E41+E46+L9+L17+L26+L32+L36 -> 32781 | M40: =F14+F28+F34+F41+F46+M9+M17+M26+M32+M36 -> 32565 | N40: =L40+M40 -> 65346 | O40: 前年同月数値 | P40: ='R5.10'!K40 -> 28859 | Q40: ='R5.10'!L40 -> 32906 | R40: ='R5.10'!M40 -> 32804 | S40: =Q40+R40 -> 65710
A41: 計 | D41: =SUM(D35:D40) -> 1522 | E41: =SUM(E35:E40) -> 1795 | F41: =SUM(F35:F40) -> 1863 | G41: =SUM(G35:G40) -> 3658 | H41: 前月数値 | K41: ='R6.9'!K40 -> 29147 | L41: ='R6.9'!L40 -> 32797 | M41: ='R6.9'!M40 -> 32595 | N41: =L41+M41 -> 65392 | O41: 前年同月比較 | P41: =K40-P40 -> 279 | Q41: =L40-Q40 -> -125 | R41: =M40-R40 -> -239 | S41: =N40-S40 -> -364
B42: 50 | C42: 原新田 | D42: 1899 | E42: 2008 | F42: 1946 | G42: =E42+F42 -> 3954 | H42: 前月比較 | K42: =K40-K41 -> -9 | L42: =L40-L41 -> -16 | M42: =M40-M41 -> -30 | N42: =N40-N41 -> -46 | O42: （内外国人住民数） | P42: 世帯数 | Q42: 男 | R42: 女 | S42: 計
A43: 広 | B43: 51 | C43: 堅石 | D43: 1052 | E43: 1272 | F43: 1285 | G43: =E43+F43 -> 2557 | H43: （内外国人住民数） | K43: 1211 | L43: 744 | M43: 746 | N43: =SUM(L43:M43) -> 1490 | O43: 前年同月数値 | P43: ='R5.10'!K43 -> 1178 | Q43: ='R5.10'!L43 -> 729 | R43: ='R5.10'!M43 -> 729 | S43: =Q43+R43 -> 1458
B44: 52 | C44: 郷原 | D44: 702 | E44: 746 | F44: 722 | G44: =E44+F44 -> 1468 | H44: （前月数値） | K44: ='R6.9'!K43 -> 1212 | L44: ='R6.9'!L43 -> 748 | M44: ='R6.9'!M43 -> 743 | N44: =SUM(L44:M44) -> 1491 | O44: 前年同月比較 | P44: =K43-P43 -> 33 | Q44: =L43-Q43 -> 15 | R44: =M43-R43 -> 17 | S44: =N43-S43 -> 32
A45: 丘 | B45: 54 | C45: 野村 | D45: 2843 | E45: 2968 | F45: 2667 | G45: =E45+F45 -> 5635 | H45: （前月比較） | K45: =K43-K44 -> -1 | L45: =L43-L44 -> -4 | M45: =M43-M44 -> 3 | N45: =N43-N44 -> -1
A46: 計 | D46: =SUM(D42:D45) -> 6496 | E46: =SUM(E42:E45) -> 6994 | F46: =SUM(F42:F45) -> 6620 | G46: =SUM(G42:G45) -> 13614

Sheet R6.9
A1: 区別住民基本台帳世帯人口一覧表
L2: 45536
A3: 地区 | B3: ＮＯ | C3: 区 | D3: 世帯数 | E3: 男 | F3: 女 | G3: 計 | H3: 地区 | I3: ＮＯ | J3: 区 | K3: 世帯数 | L3: 男 | M3: 女 | N3: 計
B4: 1 | C4: 大門一番町 | D4: 135 | E4: 114 | F4: 122 | G4: =E4+F4 -> 236 | I4: 55 | J4: 吉田一区 | K4: 566 | L4: 614 | M4: 589 | N4: =L4+M4 -> 1203
B5: 2 | C5: 大門二番町 | D5: 328 | E5: 364 | F5: 394 | G5: =E5+F5 -> 758 | H5: 吉 | I5: 56 | J5: 吉田二区 | K5: 563 | L5: 589 | M5: 591 | N5: =L5+M5 -> 1180
A6: 大 | B6: 3 | C6: 大門三番町 | D6: 362 | E6: 412 | F6: 408 | G6: =E6+F6 -> 820 | I6: 57 | J6: 吉田三区 | K6: 1053 | L6: 1099 | M6: 1093 | N6: =L6+M6 -> 2192
B7: 4 | C7: 大門四番町 | D7: 211 | E7: 227 | F7: 257 | G7: =E7+F7 -> 484 | H7: 田 | I7: 58 | J7: 吉田四区 | K7: 943 | L7: 1065 | M7: 966 | N7: =L7+M7 -> 2031
B8: 5 | C8: 大門五番町 | D8: 589 | E8: 680 | F8: 668 | G8: =E8+F8 -> 1348 | I8: 59 | J8: 吉田五区 | K8: 1213 | L8: 1359 | M8: 1407 | N8: =L8+M8 -> 2766
B9: 6 | C9: 大門六番町 | D9: 392 | E9: 404 | F9: 458 | G9: =E9+F9 -> 862 | H9: 計 | K9: =SUM(K4:K8) -> 4338 | L9: =SUM(L4:L8) -> 4726 | M9: =SUM(M4:M8) -> 4646 | N9: =SUM(N4:N8) -> 9372
A10: 門 | B10: 7 | C10: 大門七番町 | D10: 275 | E10: 255 | F10: 262 | G10: =E10+F10 -> 517 | I10: 60 | J10: 上組 | K10: 182 | L10: 258 | M10: 245 | N10: =L10+M10 -> 503
B11: 8 | C11: 大門八番町 | D11: 204 | E11: 170 | F11: 197 | G11: =E11+F11 -> 367 | H11: 洗 | I11: 61 | J11: 元町 | K11: 156 | L11: 191 | M11: 192 | N11: =L11+M11 -> 383
B12: 9 | C12: 大門七区 | D12: 1882 | E12: 2079 | F12: 2036 | G12: =E12+F12 -> 4115 | I12: 62 | J12: 芦ノ田 | K12: 311 | L12: 403 | M12: 408 | N12: =L12+M12 -> 811
B13: 13 | C13: 大門田川町 | D13: 222 | E13: 249 | F13: 267 | G13: =E13+F13 -> 516 | I13: 63 | J13: 太田 | K13: 514 | L13: 661 | M13: 668 | N13: =L13+M13 -> 1329
A14: 計 | D14: =SUM(D4:D13) -> 4600 | E14: =SUM(E4:E13) -> 4954 | F14: =SUM(F4:F13) -> 5069 | G14: =E14+F14 -> 10023 | H14: 馬 | I14: 64 | J14: 岩垂 | K14: 221 | L14: 308 | M14: 311 | N14: =L14+M14 -> 619
B15: 20 | C15: 東山 | D15: 104 | E15: 122 | F15: 118 | G15: =E15+F15 -> 240 | I15: 65 | J15: 下小曽部 | K15: 269 | L15: 331 | M15: 364 | N15: =L15+M15 -> 695
B16: 21 | C16: 柿沢 | D16: 160 | E16: 197 | F16: 204 | G16: =E16+F16 -> 401 | I16: 66 | J16: 上小曽部 | K16: 138 | L16: 144 | M16: 142 | N16: =L16+M16 -> 286
B17: 22 | C17: 金井 | D17: 82 | E17: 112 | F17: 95 | G17: =E17+F17 -> 207 | H17: 計 | K17: =SUM(K10:K16) -> 1791 | L17: =SUM(L10:L16) -> 2296 | M17: =SUM(M10:M16) -> 2330 | N17: =SUM(N10:N16) -> 4626
A18: 塩 | B18: 23 | C18: 上西条 | D18: 214 | E18: 271 | F18: 297 | G18: =E18+F18 -> 568 | I18: 70 | J18: 桔梗ケ原 | K18: 827 | L18: 890 | M18: 883 | N18: =L18+M18 -> 1773
B19: 24 | C19: 中西条 | D19: 84 | E19: 112 | F19: 118 | G19: =E19+F19 -> 230 | I19: 72 | J19: 平出 | K19: 311 | L19: 439 | M19: 394 | N19: =L19+M19 -> 833
A20: 尻 | B20: 25 | C20: 下西条 | D20: 210 | E20: 264 | F20: 277 | G20: =E20+F20 -> 541 | H20: 宗 | I20: 73 | J20: 床尾 | K20: 233 | L20: 259 | M20: 284 | N20: =L20+M20 -> 543
B21: 26 | C21: 堀ノ内 | D21: 374 | E21: 449 | F21: 477 | G21: =E21+F21 -> 926 | I21: 74 | J21: 洗馬 | K21: 265 | L21: 345 | M21: 375 | N21: =L21+M21 -> 720
A22: 東 | B22: 27 | C22: 長畝 | D22: 166 | E22: 201 | F22: 222 | G22: =E22+F22 -> 423 | I22: 75 | J22: 牧野 | K22: 346 | L22: 413 | M22: 429 | N22: =L22+M22 -> 842
B23: 28 | C23: 桟敷 | D23: 214 | E23: 243 | F23: 246 | G23: =E23+F23 -> 489 | H23: 賀 | I23: 76 | J23: 本山 | K23: 160 | L23: 184 | M23: 184 | N23: =L23+M23 -> 368
B24: 29 | C24: 町区 | D24: 911 | E24: 1134 | F24: 1148 | G24: =E24+F24 -> 2282 | I24: 77 | J24: 日出塩 | K24: 47 | L24: 62 | M24: 58 | N24: =L24+M24 -> 120
B25: 30 | C25: 松原 | D25: 59 | E25: 32 | F25: 52 | G25: =E25+F25 -> 84 | I25: 78 | J25: 小井戸 | K25: 61 | L25: 41 | M25: 55 | N25: =L25+M25 -> 96
B26: 31 | C26: みどり湖 | D26: 141 | E26: 153 | F26: 159 | G26: =E26+F26 -> 312 | H26: 計 | K26: =SUM(K18:K25) -> 2250 | L26: =SUM(L18:L25) -> 2633 | M26: =SUM(M18:M25) -> 2662 | N26: =SUM(N18:N25) -> 5295
B27: 32 | C27: 峰原 | D27: 236 | E27: 314 | F27: 313 | G27: =E27+F27 -> 627 | I27: 80 | J27: 古町 | K27: 151 | L27: 179 | M27: 195 | N27: =L27+M27 -> 374
A28: 計 | D28: =SUM(D15:D27) -> 2955 | E28: =SUM(E15:E27) -> 3604 | F28: =SUM(F15:F27) -> 3726 | G28: =SUM(G15:G27) -> 7330 | H28: 北 | I28: 81 | J28: 宮前 | K28: 88 | L28: 109 | M28: 102 | N28: =L28+M28 -> 211
B29: 35 | C29: 高出一区 | D29: 418 | E29: 501 | F29: 465 | G29: =E29+F29 -> 966 | H29: 小 | I29: 82 | J29: 大出 | K29: 218 | L29: 262 | M29: 286 | N29: =L29+M29 -> 548
A30: 高 | B30: 36 | C30: 高出二区 | D30: 788 | E30: 880 | F30: 799 | G30: =E30+F30 -> 1679 | H30: 野 | I30: 83 | J30: 上田 | K30: 111 | L30: 120 | M30: 124 | N30: =L30+M30 -> 244
B31: 37 | C31: 高出三区 | D31: 874 | E31: 1022 | F31: 982 | G31: =E31+F31 -> 2004 | I31: 84 | J31: 勝弦 | K31: 202 | L31: 217 | M31: 194 | N31: =L31+M31 -> 411
A32: 出 | B32: 38 | C32: 高出四区 | D32: 757 | E32: 834 | F32: 839 | G32: =E32+F32 -> 1673 | H32: 計 | K32: =SUM(K27:K31) -> 770 | L32: =SUM(L27:L31) -> 887 | M32: =SUM(M27:M31) -> 901 | N32: =SUM(N27:N31) -> 1788
B33: 39 | C33: 高出五区 | D33: 633 | E33: 693 | F33: 637 | G33: =E33+F33 -> 1330 | H33: 楢 川 | I33: 90 | J33: 贄川 | K33: 246 | L33: 267 | M33: 276 | N33: =L33+M33 -> 543
A34: 計 | D34: =SUM(D29:D33) -> 3470 | E34: =SUM(E29:E33) -> 3930 | F34: =SUM(F29:F33) -> 3722 | G34: =SUM(G29:G33) -> 7652 | I34: 91 | J34: 木曽平沢 | K34: 426 | L34: 435 | M34: 480 | N34: =L34+M34 -> 915
B35: 40 | C35: 南内田 | D35: 504 | E35: 568 | F35: 575 | G35: =E35+F35 -> 1143 | I35: 92 | J35: 奈良井 | K35: 272 | L35: 267 | M35: 294 | N35: =L35+M35 -> 561
A36: 片 | B36: 41 | C36: 北熊井 | D36: 482 | E36: 637 | F36: 654 | G36: =E36+F36 -> 1291 | H36: 計 | K36: =SUM(K33:K35) -> 944 | L36: =SUM(L33:L35) -> 969 | M36: =SUM(M33:M35) -> 1050 | N36: =SUM(N33:N35) -> 2019
B37: 42 | C37: 南熊井 | D37: 210 | E37: 250 | F37: 245 | G37: =E37+F37 -> 495
A38: 丘 | B38: 43 | C38: 中挾 | D38: 36 | E38: 49 | F38: 47 | G38: =E38+F38 -> 96
B39: 44 | C39: 君石 | D39: 142 | E39: 97 | F39: 138 | G39: =E39+F39 -> 235 | K39: 世帯数 | L39: 男 | M39: 女 | N39: 計 | O39: （住民基本台帳合計） | P39: 世帯数 | Q39: 男 | R39: 女 | S39: 計
B40: 45 | C40: 内田原 | D40: 151 | E40: 196 | F40: 210 | G40: =E40+F40 -> 406 | H40: 住民基本台帳合計 | K40: =D14+D28+D34+D41+D46+K9+K17+K26+K32+K36 -> 29147 | L40: =E14+E28+E34+E41+E46+L9+L17+L26+L32+L36 -> 32797 | M40: =F14+F28+F34+F41+F46+M9+M17+M26+M32+M36 -> 32595 | N40: =L40+M40 -> 65392 | O40: 前年同月数値 | P40: 28857 | Q40: 32908 | R40: 32834 | S40: =Q40+R40 -> 65742
A41: 計 | D41: =SUM(D35:D40) -> 1525 | E41: =SUM(E35:E40) -> 1797 | F41: =SUM(F35:F40) -> 1869 | G41: =SUM(G35:G40) -> 3666 | H41: 前月数値 | K41: 29127 | L41: 32780 | M41: 32594 | N41: =L41+M41 -> 65374 | O41: 前年同月比較 | P41: =K40-P40 -> 290 | Q41: =L40-Q40 -> -111 | R41: =M40-R40 -> -239 | S41: =N40-S40 -> -350
B42: 50 | C42: 原新田 | D42: 1906 | E42: 2015 | F42: 1954 | G42: =E42+F42 -> 3969 | H42: 前月比較 | K42: =K40-K41 -> 20 | L42: =L40-L41 -> 17 | M42: =M40-M41 -> 1 | N42: =N40-N41 -> 18 | O42: （内外国人住民数） | P42: 世帯数 | Q42: 男 | R42: 女 | S42: 計
A43: 広 | B43: 51 | C43: 堅石 | D43: 1046 | E43: 1266 | F43: 1279 | G43: =E43+F43 -> 2545 | H43: （内外国人住民数） | K43: 1212 | L43: 748 | M43: 743 | N43: =SUM(L43:M43) -> 1491 | O43: 前年同月数値 | P43: 1172 | Q43: 721 | R43: 729 | S43: =Q43+R43 -> 1450
B44: 52 | C44: 郷原 | D44: 702 | E44: 748 | F44: 723 | G44: =E44+F44 -> 1471 | H44: （前月数値） | K44: 1189 | L44: 729 | M44: 738 | N44: =SUM(L44:M44) -> 1467 | O44: 前年同月比較 | P44: =K43-P43 -> 40 | Q44: =L43-Q43 -> 27 | R44: =M43-R43 -> 14 | S44: =N43-S43 -> 41
A45: 丘 | B45: 54 | C45: 野村 | D45: 2850 | E45: 2972 | F45: 2664 | G45: =E45+F45 -> 5636 | H45: （前月比較） | K45: =K43-K44 -> 23 | L45: =L43-L44 -> 19 | M45: =M43-M44 -> 5 | N45: =N43-N44 -> 24
A46: 計 | D46: =SUM(D42:D45) -> 6504 | E46: =SUM(E42:E45) -> 7001 | F46: =SUM(F42:F45) -> 6620 | G46: =SUM(G42:G45) -> 13621

Sheet R6.8
A1: 区別住民基本台帳世帯人口一覧表
L2: 45505
A3: 地区 | B3: ＮＯ | C3: 区 | D3: 世帯数 | E3: 男 | F3: 女 | G3: 計 | H3: 地区 | I3: ＮＯ | J3: 区 | K3: 世帯数 | L3: 男 | M3: 女 | N3: 計
B4: 1 | C4: 大門一番町 | D4: 135 | E4: 115 | F4: 122 | G4: =E4+F4 -> 237 | I4: 55 | J4: 吉田一区 | K4: 568 | L4: 619 | M4: 590 | N4: =L4+M4 -> 1209
B5: 2 | C5: 大門二番町 | D5: 324 | E5: 360 | F5: 389 | G5: =E5+F5 -> 749 | H5: 吉 | I5: 56 | J5: 吉田二区 | K5: 562 | L5: 593 | M5: 592 | N5: =L5+M5 -> 1185
A6: 大 | B6: 3 | C6: 大門三番町 | D6: 358 | E6: 408 | F6: 401 | G6: =E6+F6 -> 809 | I6: 57 | J6: 吉田三区 | K6: 1056 | L6: 1100 | M6: 1095 | N6: =L6+M6 -> 2195
B7: 4 | C7: 大門四番町 | D7: 210 | E7: 225 | F7: 257 | G7: =E7+F7 -> 482 | H7: 田 | I7: 58 | J7: 吉田四区 | K7: 931 | L7: 1051 | M7: 963 | N7: =L7+M7 -> 2014
B8: 5 | C8: 大門五番町 | D8: 590 | E8: 681 | F8: 670 | G8: =E8+F8 -> 1351 | I8: 59 | J8: 吉田五区 | K8: 1221 | L8: 1363 | M8: 1411 | N8: =L8+M8 -> 2774
B9: 6 | C9: 大門六番町 | D9: 394 | E9: 403 | F9: 460 | G9: =E9+F9 -> 863 | H9: 計 | K9: =SUM(K4:K8) -> 4338 | L9: =SUM(L4:L8) -> 4726 | M9: =SUM(M4:M8) -> 4651 | N9: =SUM(N4:N8) -> 9377
A10: 門 | B10: 7 | C10: 大門七番町 | D10: 280 | E10: 258 | F10: 265 | G10: =E10+F10 -> 523 | I10: 60 | J10: 上組 | K10: 182 | L10: 258 | M10: 245 | N10: =L10+M10 -> 503
B11: 8 | C11: 大門八番町 | D11: 204 | E11: 167 | F11: 200 | G11: =E11+F11 -> 367 | H11: 洗 | I11: 61 | J11: 元町 | K11: 156 | L11: 192 | M11: 193 | N11: =L11+M11 -> 385
B12: 9 | C12: 大門七区 | D12: 1879 | E12: 2073 | F12: 2031 | G12: =E12+F12 -> 4104 | I12: 62 | J12: 芦ノ田 | K12: 311 | L12: 404 | M12: 408 | N12: =L12+M12 -> 812
B13: 13 | C13: 大門田川町 | D13: 223 | E13: 249 | F13: 268 | G13: =E13+F13 -> 517 | I13: 63 | J13: 太田 | K13: 514 | L13: 664 | M13: 668 | N13: =L13+M13 -> 1332
A14: 計 | D14: =SUM(D4:D13) -> 4597 | E14: =SUM(E4:E13) -> 4939 | F14: =SUM(F4:F13) -> 5063 | G14: =E14+F14 -> 10002 | H14: 馬 | I14: 64 | J14: 岩垂 | K14: 220 | L14: 308 | M14: 311 | N14: =L14+M14 -> 619
B15: 20 | C15: 東山 | D15: 104 | E15: 122 | F15: 118 | G15: =E15+F15 -> 240 | I15: 65 | J15: 下小曽部 | K15: 269 | L15: 331 | M15: 364 | N15: =L15+M15 -> 695
B16: 21 | C16: 柿沢 | D16: 159 | E16: 197 | F16: 205 | G16: =E16+F16 -> 402 | I16: 66 | J16: 上小曽部 | K16: 137 | L16: 143 | M16: 142 | N16: =L16+M16 -> 285
B17: 22 | C17: 金井 | D17: 82 | E17: 114 | F17: 95 | G17: =E17+F17 -> 209 | H17: 計 | K17: =SUM(K10:K16) -> 1789 | L17: =SUM(L10:L16) -> 2300 | M17: =SUM(M10:M16) -> 2331 | N17: =SUM(N10:N16) -> 4631
A18: 塩 | B18: 23 | C18: 上西条 | D18: 214 | E18: 271 | F18: 297 | G18: =E18+F18 -> 568 | I18: 70 | J18: 桔梗ケ原 | K18: 821 | L18: 882 | M18: 880 | N18: =L18+M18 -> 1762
B19: 24 | C19: 中西条 | D19: 84 | E19: 112 | F19: 118 | G19: =E19+F19 -> 230 | I19: 72 | J19: 平出 | K19: 311 | L19: 437 | M19: 393 | N19: =L19+M19 -> 830
A20: 尻 | B20: 25 | C20: 下西条 | D20: 209 | E20: 263 | F20: 278 | G20: =E20+F20 -> 541 | H20: 宗 | I20: 73 | J20: 床尾 | K20: 233 | L20: 259 | M20: 286 | N20: =L20+M20 -> 545
B21: 26 | C21: 堀ノ内 | D21: 375 | E21: 450 | F21: 479 | G21: =E21+F21 -> 929 | I21: 74 | J21: 洗馬 | K21: 267 | L21: 346 | M21: 378 | N21: =L21+M21 -> 724
A22: 東 | B22: 27 | C22: 長畝 | D22: 166 | E22: 201 | F22: 222 | G22: =E22+F22 -> 423 | I22: 75 | J22: 牧野 | K22: 346 | L22: 413 | M22: 430 | N22: =L22+M22 -> 843
B23: 28 | C23: 桟敷 | D23: 213 | E23: 245 | F23: 247 | G23: =E23+F23 -> 492 | H23: 賀 | I23: 76 | J23: 本山 | K23: 160 | L23: 183 | M23: 183 | N23: =L23+M23 -> 366
B24: 29 | C24: 町区 | D24: 914 | E24: 1136 | F24: 1151 | G24: =E24+F24 -> 2287 | I24: 77 | J24: 日出塩 | K24: 47 | L24: 62 | M24: 58 | N24: =L24+M24 -> 120
B25: 30 | C25: 松原 | D25: 59 | E25: 32 | F25: 52 | G25: =E25+F25 -> 84 | I25: 78 | J25: 小井戸 | K25: 61 | L25: 42 | M25: 55 | N25: =L25+M25 -> 97
B26: 31 | C26: みどり湖 | D26: 141 | E26: 153 | F26: 159 | G26: =E26+F26 -> 312 | H26: 計 | K26: =SUM(K18:K25) -> 2246 | L26: =SUM(L18:L25) -> 2624 | M26: =SUM(M18:M25) -> 2663 | N26: =SUM(N18:N25) -> 5287
B27: 32 | C27: 峰原 | D27: 237 | E27: 316 | F27: 316 | G27: =E27+F27 -> 632 | I27: 80 | J27: 古町 | K27: 151 | L27: 179 | M27: 195 | N27: =L27+M27 -> 374
A28: 計 | D28: =SUM(D15:D27) -> 2957 | E28: =SUM(E15:E27) -> 3612 | F28: =SUM(F15:F27) -> 3737 | G28: =SUM(G15:G27) -> 7349 | H28: 北 | I28: 81 | J28: 宮前 | K28: 87 | L28: 109 | M28: 102 | N28: =L28+M28 -> 211
B29: 35 | C29: 高出一区 | D29: 419 | E29: 501 | F29: 467 | G29: =E29+F29 -> 968 | H29: 小 | I29: 82 | J29: 大出 | K29: 218 | L29: 262 | M29: 287 | N29: =L29+M29 -> 549
A30: 高 | B30: 36 | C30: 高出二区 | D30: 782 | E30: 879 | F30: 792 | G30: =E30+F30 -> 1671 | H30: 野 | I30: 83 | J30: 上田 | K30: 111 | L30: 120 | M30: 125 | N30: =L30+M30 -> 245
B31: 37 | C31: 高出三区 | D31: 872 | E31: 1021 | F31: 978 | G31: =E31+F31 -> 1999 | I31: 84 | J31: 勝弦 | K31: 200 | L31: 214 | M31: 190 | N31: =L31+M31 -> 404
A32: 出 | B32: 38 | C32: 高出四区 | D32: 749 | E32: 826 | F32: 836 | G32: =E32+F32 -> 1662 | H32: 計 | K32: =SUM(K27:K31) -> 767 | L32: =SUM(L27:L31) -> 884 | M32: =SUM(M27:M31) -> 899 | N32: =SUM(N27:N31) -> 1783
B33: 39 | C33: 高出五区 | D33: 635 | E33: 696 | F33: 636 | G33: =E33+F33 -> 1332 | H33: 楢 川 | I33: 90 | J33: 贄川 | K33: 246 | L33: 268 | M33: 277 | N33: =L33+M33 -> 545
A34: 計 | D34: =SUM(D29:D33) -> 3457 | E34: =SUM(E29:E33) -> 3923 | F34: =SUM(F29:F33) -> 3709 | G34: =SUM(G29:G33) -> 7632 | I34: 91 | J34: 木曽平沢 | K34: 426 | L34: 435 | M34: 480 | N34: =L34+M34 -> 915
B35: 40 | C35: 南内田 | D35: 506 | E35: 568 | F35: 577 | G35: =E35+F35 -> 1145 | I35: 92 | J35: 奈良井 | K35: 275 | L35: 271 | M35: 294 | N35: =L35+M35 -> 565
A36: 片 | B36: 41 | C36: 北熊井 | D36: 484 | E36: 639 | F36: 658 | G36: =E36+F36 -> 1297 | H36: 計 | K36: =SUM(K33:K35) -> 947 | L36: =SUM(L33:L35) -> 974 | M36: =SUM(M33:M35) -> 1051 | N36: =SUM(N33:N35) -> 2025
B37: 42 | C37: 南熊井 | D37: 210 | E37: 251 | F37: 246 | G37: =E37+F37 -> 497
A38: 丘 | B38: 43 | C38: 中挾 | D38: 36 | E38: 50 | F38: 47 | G38: =E38+F38 -> 97
B39: 44 | C39: 君石 | D39: 144 | E39: 98 | F39: 139 | G39: =E39+F39 -> 237 | K39: 世帯数 | L39: 男 | M39: 女 | N39: 計 | O39: （住民基本台帳合計） | P39: 世帯数 | Q39: 男 | R39: 女 | S39: 計
B40: 45 | C40: 内田原 | D40: 150 | E40: 197 | F40: 208 | G40: =E40+F40 -> 405 | H40: 住民基本台帳合計 | K40: =D14+D28+D34+D41+D46+K9+K17+K26+K32+K36 -> 29127 | L40: =E14+E28+E34+E41+E46+L9+L17+L26+L32+L36 -> 32780 | M40: =F14+F28+F34+F41+F46+M9+M17+M26+M32+M36 -> 32594 | N40: =L40+M40 -> 65374 | O40: 前年同月数値 | P40: 28824 | Q40: 32882 | R40: 32848 | S40: =Q40+R40 -> 65730
A41: 計 | D41: =SUM(D35:D40) -> 1530 | E41: =SUM(E35:E40) -> 1803 | F41: =SUM(F35:F40) -> 1875 | G41: =SUM(G35:G40) -> 3678 | H41: 前月数値 | K41: 29122 | L41: 32780 | M41: 32607 | N41: =L41+M41 -> 65387 | O41: 前年同月比較 | P41: =K40-P40 -> 303 | Q41: =L40-Q40 -> -102 | R41: =M40-R40 -> -254 | S41: =N40-S40 -> -356
B42: 50 | C42: 原新田 | D42: 1899 | E42: 2009 | F42: 1954 | G42: =E42+F42 -> 3963 | H42: 前月比較 | K42: =K40-K41 -> 5 | L42: =L40-L41 -> 0 | M42: =M40-M41 -> -13 | N42: =N40-N41 -> -13 | O42: （内外国人住民数） | P42: 世帯数 | Q42: 男 | R42: 女 | S42: 計
A43: 広 | B43: 51 | C43: 堅石 | D43: 1048 | E43: 1264 | F43: 1280 | G43: =E43+F43 -> 2544 | H43: （内外国人住民数） | K43: 1189 | L43: 729 | M43: 738 | N43: =SUM(L43:M43) -> 1467 | O43: 前年同月数値 | P43: 1141 | Q43: 692 | R43: 720 | S43: =Q43+R43 -> 1412
B44: 52 | C44: 郷原 | D44: 708 | E44: 751 | F44: 724 | G44: =E44+F44 -> 1475 | H44: （前月数値） | K44: 1192 | L44: 731 | M44: 738 | N44: =SUM(L44:M44) -> 1469 | O44: 前年同月比較 | P44: =K43-P43 -> 48 | Q44: =L43-Q43 -> 37 | R44: =M43-R43 -> 18 | S44: =N43-S43 -> 55
A45: 丘 | B45: 54 | C45: 野村 | D45: 2844 | E45: 2971 | F45: 2657 | G45: =E45+F45 -> 5628 | H45: （前月比較） | K45: =K43-K44 -> -3 | L45: =L43-L44 -> -2 | M45: =M43-M44 -> 0 | N45: =N43-N44 -> -2
A46: 計 | D46: =SUM(D42:D45) -> 6499 | E46: =SUM(E42:E45) -> 6995 | F46: =SUM(F42:F45) -> 6615 | G46: =SUM(G42:G45) -> 13610

Sheet R6.7
A1: 区別住民基本台帳世帯人口一覧表
L2: 45474
A3: 地区 | B3: ＮＯ | C3: 区 | D3: 世帯数 | E3: 男 | F3: 女 | G3: 計 | H3: 地区 | I3: ＮＯ | J3: 区 | K3: 世帯数 | L3: 男 | M3: 女 | N3: 計
B4: 1 | C4: 大門一番町 | D4: 135 | E4: 116 | F4: 121 | G4: =E4+F4 -> 237 | I4: 55 | J4: 吉田一区 | K4: 569 | L4: 616 | M4: 595 | N4: =L4+M4 -> 1211
B5: 2 | C5: 大門二番町 | D5: 322 | E5: 360 | F5: 388 | G5: =E5+F5 -> 748 | H5: 吉 | I5: 56 | J5: 吉田二区 | K5: 562 | L5: 593 | M5: 596 | N5: =L5+M5 -> 1189
A6: 大 | B6: 3 | C6: 大門三番町 | D6: 358 | E6: 409 | F6: 403 | G6: =E6+F6 -> 812 | I6: 57 | J6: 吉田三区 | K6: 1053 | L6: 1098 | M6: 1092 | N6: =L6+M6 -> 2190
B7: 4 | C7: 大門四番町 | D7: 210 | E7: 225 | F7: 256 | G7: =E7+F7 -> 481 | H7: 田 | I7: 58 | J7: 吉田四区 | K7: 928 | L7: 1055 | M7: 962 | N7: =L7+M7 -> 2017
B8: 5 | C8: 大門五番町 | D8: 591 | E8: 683 | F8: 666 | G8: =E8+F8 -> 1349 | I8: 59 | J8: 吉田五区 | K8: 1218 | L8: 1365 | M8: 1412 | N8: =L8+M8 -> 2777
B9: 6 | C9: 大門六番町 | D9: 395 | E9: 405 | F9: 461 | G9: =E9+F9 -> 866 | H9: 計 | K9: =SUM(K4:K8) -> 4330 | L9: =SUM(L4:L8) -> 4727 | M9: =SUM(M4:M8) -> 4657 | N9: =SUM(N4:N8) -> 9384
A10: 門 | B10: 7 | C10: 大門七番町 | D10: 278 | E10: 256 | F10: 259 | G10: =E10+F10 -> 515 | I10: 60 | J10: 上組 | K10: 184 | L10: 258 | M10: 247 | N10: =L10+M10 -> 505
B11: 8 | C11: 大門八番町 | D11: 207 | E11: 167 | F11: 203 | G11: =E11+F11 -> 370 | H11: 洗 | I11: 61 | J11: 元町 | K11: 157 | L11: 192 | M11: 194 | N11: =L11+M11 -> 386
B12: 9 | C12: 大門七区 | D12: 1872 | E12: 2066 | F12: 2019 | G12: =E12+F12 -> 4085 | I12: 62 | J12: 芦ノ田 | K12: 310 | L12: 403 | M12: 405 | N12: =L12+M12 -> 808
B13: 13 | C13: 大門田川町 | D13: 223 | E13: 251 | F13: 269 | G13: =E13+F13 -> 520 | I13: 63 | J13: 太田 | K13: 513 | L13: 663 | M13: 667 | N13: =L13+M13 -> 1330
A14: 計 | D14: =SUM(D4:D13) -> 4591 | E14: =SUM(E4:E13) -> 4938 | F14: =SUM(F4:F13) -> 5045 | G14: =E14+F14 -> 9983 | H14: 馬 | I14: 64 | J14: 岩垂 | K14: 220 | L14: 311 | M14: 312 | N14: =L14+M14 -> 623
B15: 20 | C15: 東山 | D15: 105 | E15: 122 | F15: 119 | G15: =E15+F15 -> 241 | I15: 65 | J15: 下小曽部 | K15: 270 | L15: 332 | M15: 363 | N15: =L15+M15 -> 695
B16: 21 | C16: 柿沢 | D16: 159 | E16: 197 | F16: 207 | G16: =E16+F16 -> 404 | I16: 66 | J16: 上小曽部 | K16: 134 | L16: 140 | M16: 143 | N16: =L16+M16 -> 283
B17: 22 | C17: 金井 | D17: 83 | E17: 114 | F17: 96 | G17: =E17+F17 -> 210 | H17: 計 | K17: =SUM(K10:K16) -> 1788 | L17: =SUM(L10:L16) -> 2299 | M17: =SUM(M10:M16) -> 2331 | N17: =SUM(N10:N16) -> 4630
A18: 塩 | B18: 23 | C18: 上西条 | D18: 213 | E18: 270 | F18: 297 | G18: =E18+F18 -> 567 | I18: 70 | J18: 桔梗ケ原 | K18: 822 | L18: 879 | M18: 882 | N18: =L18+M18 -> 1761
B19: 24 | C19: 中西条 | D19: 84 | E19: 112 | F19: 118 | G19: =E19+F19 -> 230 | I19: 72 | J19: 平出 | K19: 312 | L19: 438 | M19: 393 | N19: =L19+M19 -> 831
A20: 尻 | B20: 25 | C20: 下西条 | D20: 210 | E20: 263 | F20: 278 | G20: =E20+F20 -> 541 | H20: 宗 | I20: 73 | J20: 床尾 | K20: 234 | L20: 257 | M20: 285 | N20: =L20+M20 -> 542
B21: 26 | C21: 堀ノ内 | D21: 373 | E21: 446 | F21: 479 | G21: =E21+F21 -> 925 | I21: 74 | J21: 洗馬 | K21: 265 | L21: 347 | M21: 373 | N21: =L21+M21 -> 720
A22: 東 | B22: 27 | C22: 長畝 | D22: 166 | E22: 202 | F22: 222 | G22: =E22+F22 -> 424 | I22: 75 | J22: 牧野 | K22: 346 | L22: 413 | M22: 431 | N22: =L22+M22 -> 844
B23: 28 | C23: 桟敷 | D23: 212 | E23: 245 | F23: 248 | G23: =E23+F23 -> 493 | H23: 賀 | I23: 76 | J23: 本山 | K23: 160 | L23: 182 | M23: 185 | N23: =L23+M23 -> 367
B24: 29 | C24: 町区 | D24: 913 | E24: 1133 | F24: 1147 | G24: =E24+F24 -> 2280 | I24: 77 | J24: 日出塩 | K24: 47 | L24: 63 | M24: 58 | N24: =L24+M24 -> 121
B25: 30 | C25: 松原 | D25: 59 | E25: 32 | F25: 52 | G25: =E25+F25 -> 84 | I25: 78 | J25: 小井戸 | K25: 61 | L25: 42 | M25: 55 | N25: =L25+M25 -> 97
B26: 31 | C26: みどり湖 | D26: 141 | E26: 154 | F26: 161 | G26: =E26+F26 -> 315 | H26: 計 | K26: =SUM(K18:K25) -> 2247 | L26: =SUM(L18:L25) -> 2621 | M26: =SUM(M18:M25) -> 2662 | N26: =SUM(N18:N25) -> 5283
B27: 32 | C27: 峰原 | D27: 236 | E27: 317 | F27: 316 | G27: =E27+F27 -> 633 | I27: 80 | J27: 古町 | K27: 149 | L27: 177 | M27: 194 | N27: =L27+M27 -> 371
A28: 計 | D28: =SUM(D15:D27) -> 2954 | E28: =SUM(E15:E27) -> 3607 | F28: =SUM(F15:F27) -> 3740 | G28: =SUM(G15:G27) -> 7347 | H28: 北 | I28: 81 | J28: 宮前 | K28: 89 | L28: 109 | M28: 104 | N28: =L28+M28 -> 213
B29: 35 | C29: 高出一区 | D29: 420 | E29: 502 | F29: 469 | G29: =E29+F29 -> 971 | H29: 小 | I29: 82 | J29: 大出 | K29: 218 | L29: 262 | M29: 287 | N29: =L29+M29 -> 549
A30: 高 | B30: 36 | C30: 高出二区 | D30: 779 | E30: 882 | F30: 787 | G30: =E30+F30 -> 1669 | H30: 野 | I30: 83 | J30: 上田 | K30: 111 | L30: 120 | M30: 125 | N30: =L30+M30 -> 245
B31: 37 | C31: 高出三区 | D31: 873 | E31: 1020 | F31: 979 | G31: =E31+F31 -> 1999 | I31: 84 | J31: 勝弦 | K31: 200 | L31: 215 | M31: 190 | N31: =L31+M31 -> 405
A32: 出 | B32: 38 | C32: 高出四区 | D32: 750 | E32: 831 | F32: 834 | G32: =E32+F32 -> 1665 | H32: 計 | K32: =SUM(K27:K31) -> 767 | L32: =SUM(L27:L31) -> 883 | M32: =SUM(M27:M31) -> 900 | N32: =SUM(N27:N31) -> 1783
B33: 39 | C33: 高出五区 | D33: 638 | E33: 696 | F33: 639 | G33: =E33+F33 -> 1335 | H33: 楢 川 | I33: 90 | J33: 贄川 | K33: 246 | L33: 268 | M33: 280 | N33: =L33+M33 -> 548
A34: 計 | D34: =SUM(D29:D33) -> 3460 | E34: =SUM(E29:E33) -> 3931 | F34: =SUM(F29:F33) -> 3708 | G34: =SUM(G29:G33) -> 7639 | I34: 91 | J34: 木曽平沢 | K34: 425 | L34: 435 | M34: 481 | N34: =L34+M34 -> 916
B35: 40 | C35: 南内田 | D35: 508 | E35: 568 | F35: 577 | G35: =E35+F35 -> 1145 | I35: 92 | J35: 奈良井 | K35: 275 | L35: 271 | M35: 296 | N35: =L35+M35 -> 567
A36: 片 | B36: 41 | C36: 北熊井 | D36: 484 | E36: 639 | F36: 659 | G36: =E36+F36 -> 1298 | H36: 計 | K36: =SUM(K33:K35) -> 946 | L36: =SUM(L33:L35) -> 974 | M36: =SUM(M33:M35) -> 1057 | N36: =SUM(N33:N35) -> 2031
B37: 42 | C37: 南熊井 | D37: 209 | E37: 250 | F37: 245 | G37: =E37+F37 -> 495
A38: 丘 | B38: 43 | C38: 中挾 | D38: 36 | E38: 50 | F38: 47 | G38: =E38+F38 -> 97
B39: 44 | C39: 君石 | D39: 143 | E39: 98 | F39: 138 | G39: =E39+F39 -> 236 | K39: 世帯数 | L39: 男 | M39: 女 | N39: 計 | O39: （住民基本台帳合計） | P39: 世帯数 | Q39: 男 | R39: 女 | S39: 計
B40: 45 | C40: 内田原 | D40: 150 | E40: 197 | F40: 208 | G40: =E40+F40 -> 405 | H40: 住民基本台帳合計 | K40: =D14+D28+D34+D41+D46+K9+K17+K26+K32+K36 -> 29122 | L40: =E14+E28+E34+E41+E46+L9+L17+L26+L32+L36 -> 32780 | M40: =F14+F28+F34+F41+F46+M9+M17+M26+M32+M36 -> 32607 | N40: =L40+M40 -> 65387 | O40: 前年同月数値 | P40: 28799 | Q40: 32896 | R40: 32853 | S40: =Q40+R40 -> 65749
A41: 計 | D41: =SUM(D35:D40) -> 1530 | E41: =SUM(E35:E40) -> 1802 | F41: =SUM(F35:F40) -> 1874 | G41: =SUM(G35:G40) -> 3676 | H41: 前月数値 | K41: 29113 | L41: 32766 | M41: 32622 | N41: =L41+M41 -> 65388 | O41: 前年同月比較 | P41: =K40-P40 -> 323 | Q41: =L40-Q40 -> -116 | R41: =M40-R40 -> -246 | S41: =N40-S40 -> -362
B42: 50 | C42: 原新田 | D42: 1899 | E42: 2008 | F42: 1954 | G42: =E42+F42 -> 3962 | H42: 前月比較 | K42: =K40-K41 -> 9 | L42: =L40-L41 -> 14 | M42: =M40-M41 -> -15 | N42: =N40-N41 -> -1 | O42: （内外国人住民数） | P42: 世帯数 | Q42: 男 | R42: 女 | S42: 計
A43: 広 | B43: 51 | C43: 堅石 | D43: 1049 | E43: 1264 | F43: 1285 | G43: =E43+F43 -> 2549 | H43: （内外国人住民数） | K43: 1192 | L43: 731 | M43: 738 | N43: =SUM(L43:M43) -> 1469 | O43: 前年同月数値 | P43: 1132 | Q43: 682 | R43: 718 | S43: =Q43+R43 -> 1400
B44: 52 | C44: 郷原 | D44: 713 | E44: 758 | F44: 727 | G44: =E44+F44 -> 1485 | H44: （前月数値） | K44: 1187 | L44: 726 | M44: 732 | N44: =SUM(L44:M44) -> 1458 | O44: 前年同月比較 | P44: =K43-P43 -> 60 | Q44: =L43-Q43 -> 49 | R44: =M43-R43 -> 20 | S44: =N43-S43 -> 69
A45: 丘 | B45: 54 | C45: 野村 | D45: 2848 | E45: 2968 | F45: 2667 | G45: =E45+F45 -> 5635 | H45: （前月比較） | K45: =K43-K44 -> 5 | L45: =L43-L44 -> 5 | M45: =M43-M44 -> 6 | N45: =N43-N44 -> 11
A46: 計 | D46: =SUM(D42:D45) -> 6509 | E46: =SUM(E42:E45) -> 6998 | F46: =SUM(F42:F45) -> 6633 | G46: =SUM(G42:G45) -> 13631

Sheet R6.6
A1: 区別住民基本台帳世帯人口一覧表
L2: 45444
A3: 地区 | B3: ＮＯ | C3: 区 | D3: 世帯数 | E3: 男 | F3: 女 | G3: 計 | H3: 地区 | I3: ＮＯ | J3: 区 | K3: 世帯数 | L3: 男 | M3: 女 | N3: 計
B4: 1 | C4: 大門一番町 | D4: 134 | E4: 116 | F4: 121 | G4: =E4+F4 -> 237 | I4: 55 | J4: 吉田一区 | K4: 570 | L4: 617 | M4: 595 | N4: =L4+M4 -> 1212
B5: 2 | C5: 大門二番町 | D5: 323 | E5: 362 | F5: 389 | G5: =E5+F5 -> 751 | H5: 吉 | I5: 56 | J5: 吉田二区 | K5: 566 | L5: 593 | M5: 599 | N5: =L5+M5 -> 1192
A6: 大 | B6: 3 | C6: 大門三番町 | D6: 359 | E6: 406 | F6: 403 | G6: =E6+F6 -> 809 | I6: 57 | J6: 吉田三区 | K6: 1049 | L6: 1090 | M6: 1089 | N6: =L6+M6 -> 2179
B7: 4 | C7: 大門四番町 | D7: 210 | E7: 223 | F7: 256 | G7: =E7+F7 -> 479 | H7: 田 | I7: 58 | J7: 吉田四区 | K7: 920 | L7: 1047 | M7: 957 | N7: =L7+M7 -> 2004
B8: 5 | C8: 大門五番町 | D8: 589 | E8: 684 | F8: 665 | G8: =E8+F8 -> 1349 | I8: 59 | J8: 吉田五区 | K8: 1224 | L8: 1365 | M8: 1419 | N8: =L8+M8 -> 2784
B9: 6 | C9: 大門六番町 | D9: 391 | E9: 404 | F9: 459 | G9: =E9+F9 -> 863 | H9: 計 | K9: =SUM(K4:K8) -> 4329 | L9: =SUM(L4:L8) -> 4712 | M9: =SUM(M4:M8) -> 4659 | N9: =SUM(N4:N8) -> 9371
A10: 門 | B10: 7 | C10: 大門七番町 | D10: 280 | E10: 257 | F10: 261 | G10: =E10+F10 -> 518 | I10: 60 | J10: 上組 | K10: 182 | L10: 258 | M10: 244 | N10: =L10+M10 -> 502
B11: 8 | C11: 大門八番町 | D11: 210 | E11: 171 | F11: 204 | G11: =E11+F11 -> 375 | H11: 洗 | I11: 61 | J11: 元町 | K11: 157 | L11: 192 | M11: 194 | N11: =L11+M11 -> 386
B12: 9 | C12: 大門七区 | D12: 1862 | E12: 2055 | F12: 2009 | G12: =E12+F12 -> 4064 | I12: 62 | J12: 芦ノ田 | K12: 309 | L12: 398 | M12: 404 | N12: =L12+M12 -> 802
B13: 13 | C13: 大門田川町 | D13: 224 | E13: 251 | F13: 270 | G13: =E13+F13 -> 521 | I13: 63 | J13: 太田 | K13: 512 | L13: 665 | M13: 666 | N13: =L13+M13 -> 1331
A14: 計 | D14: =SUM(D4:D13) -> 4582 | E14: =SUM(E4:E13) -> 4929 | F14: =SUM(F4:F13) -> 5037 | G14: =E14+F14 -> 9966 | H14: 馬 | I14: 64 | J14: 岩垂 | K14: 220 | L14: 314 | M14: 312 | N14: =L14+M14 -> 626
B15: 20 | C15: 東山 | D15: 105 | E15: 123 | F15: 119 | G15: =E15+F15 -> 242 | I15: 65 | J15: 下小曽部 | K15: 270 | L15: 333 | M15: 363 | N15: =L15+M15 -> 696
B16: 21 | C16: 柿沢 | D16: 158 | E16: 196 | F16: 205 | G16: =E16+F16 -> 401 | I16: 66 | J16: 上小曽部 | K16: 131 | L16: 138 | M16: 141 | N16: =L16+M16 -> 279
B17: 22 | C17: 金井 | D17: 83 | E17: 114 | F17: 96 | G17: =E17+F17 -> 210 | H17: 計 | K17: =SUM(K10:K16) -> 1781 | L17: =SUM(L10:L16) -> 2298 | M17: =SUM(M10:M16) -> 2324 | N17: =SUM(N10:N16) -> 4622
A18: 塩 | B18: 23 | C18: 上西条 | D18: 213 | E18: 271 | F18: 299 | G18: =E18+F18 -> 570 | I18: 70 | J18: 桔梗ケ原 | K18: 820 | L18: 877 | M18: 880 | N18: =L18+M18 -> 1757
B19: 24 | C19: 中西条 | D19: 84 | E19: 112 | F19: 118 | G19: =E19+F19 -> 230 | I19: 72 | J19: 平出 | K19: 313 | L19: 439 | M19: 393 | N19: =L19+M19 -> 832
A20: 尻 | B20: 25 | C20: 下西条 | D20: 211 | E20: 263 | F20: 280 | G20: =E20+F20 -> 543 | H20: 宗 | I20: 73 | J20: 床尾 | K20: 233 | L20: 256 | M20: 286 | N20: =L20+M20 -> 542
B21: 26 | C21: 堀ノ内 | D21: 375 | E21: 446 | F21: 478 | G21: =E21+F21 -> 924 | I21: 74 | J21: 洗馬 | K21: 265 | L21: 346 | M21: 373 | N21: =L21+M21 -> 719
A22: 東 | B22: 27 | C22: 長畝 | D22: 165 | E22: 201 | F22: 222 | G22: =E22+F22 -> 423 | I22: 75 | J22: 牧野 | K22: 347 | L22: 414 | M22: 432 | N22: =L22+M22 -> 846
B23: 28 | C23: 桟敷 | D23: 213 | E23: 249 | F23: 250 | G23: =E23+F23 -> 499 | H23: 賀 | I23: 76 | J23: 本山 | K23: 161 | L23: 183 | M23: 186 | N23: =L23+M23 -> 369
B24: 29 | C24: 町区 | D24: 910 | E24: 1129 | F24: 1142 | G24: =E24+F24 -> 2271 | I24: 77 | J24: 日出塩 | K24: 47 | L24: 63 | M24: 58 | N24: =L24+M24 -> 121
B25: 30 | C25: 松原 | D25: 59 | E25: 32 | F25: 52 | G25: =E25+F25 -> 84 | I25: 78 | J25: 小井戸 | K25: 60 | L25: 42 | M25: 54 | N25: =L25+M25 -> 96
B26: 31 | C26: みどり湖 | D26: 141 | E26: 154 | F26: 163 | G26: =E26+F26 -> 317 | H26: 計 | K26: =SUM(K18:K25) -> 2246 | L26: =SUM(L18:L25) -> 2620 | M26: =SUM(M18:M25) -> 2662 | N26: =SUM(N18:N25) -> 5282
B27: 32 | C27: 峰原 | D27: 236 | E27: 317 | F27: 317 | G27: =E27+F27 -> 634 | I27: 80 | J27: 古町 | K27: 150 | L27: 179 | M27: 194 | N27: =L27+M27 -> 373
A28: 計 | D28: =SUM(D15:D27) -> 2953 | E28: =SUM(E15:E27) -> 3607 | F28: =SUM(F15:F27) -> 3741 | G28: =SUM(G15:G27) -> 7348 | H28: 北 | I28: 81 | J28: 宮前 | K28: 89 | L28: 109 | M28: 104 | N28: =L28+M28 -> 213
B29: 35 | C29: 高出一区 | D29: 423 | E29: 501 | F29: 472 | G29: =E29+F29 -> 973 | H29: 小 | I29: 82 | J29: 大出 | K29: 218 | L29: 262 | M29: 287 | N29: =L29+M29 -> 549
A30: 高 | B30: 36 | C30: 高出二区 | D30: 779 | E30: 879 | F30: 788 | G30: =E30+F30 -> 1667 | H30: 野 | I30: 83 | J30: 上田 | K30: 111 | L30: 120 | M30: 125 | N30: =L30+M30 -> 245
B31: 37 | C31: 高出三区 | D31: 868 | E31: 1017 | F31: 974 | G31: =E31+F31 -> 1991 | I31: 84 | J31: 勝弦 | K31: 202 | L31: 215 | M31: 192 | N31: =L31+M31 -> 407
A32: 出 | B32: 38 | C32: 高出四区 | D32: 752 | E32: 836 | F32: 838 | G32: =E32+F32 -> 1674 | H32: 計 | K32: =SUM(K27:K31) -> 770 | L32: =SUM(L27:L31) -> 885 | M32: =SUM(M27:M31) -> 902 | N32: =SUM(N27:N31) -> 1787
B33: 39 | C33: 高出五区 | D33: 643 | E33: 703 | F33: 651 | G33: =E33+F33 -> 1354 | H33: 楢 川 | I33: 90 | J33: 贄川 | K33: 246 | L33: 268 | M33: 283 | N33: =L33+M33 -> 551
A34: 計 | D34: =SUM(D29:D33) -> 3465 | E34: =SUM(E29:E33) -> 3936 | F34: =SUM(F29:F33) -> 3723 | G34: =SUM(G29:G33) -> 7659 | I34: 91 | J34: 木曽平沢 | K34: 425 | L34: 436 | M34: 482 | N34: =L34+M34 -> 918
B35: 40 | C35: 南内田 | D35: 509 | E35: 569 | F35: 579 | G35: 1149 | I35: 92 | J35: 奈良井 | K35: 274 | L35: 270 | M35: 296 | N35: =L35+M35 -> 566
A36: 片 | B36: 41 | C36: 北熊井 | D36: 482 | E36: 636 | F36: 659 | G36: =E36+F36 -> 1295 | H36: 計 | K36: =SUM(K33:K35) -> 945 | L36: =SUM(L33:L35) -> 974 | M36: =SUM(M33:M35) -> 1061 | N36: =SUM(N33:N35) -> 2035
B37: 42 | C37: 南熊井 | D37: 210 | E37: 251 | F37: 245 | G37: =E37+F37 -> 496
A38: 丘 | B38: 43 | C38: 中挾 | D38: 37 | E38: 50 | F38: 48 | G38: =E38+F38 -> 98
B39: 44 | C39: 君石 | D39: 143 | E39: 99 | F39: 137 | G39: =E39+F39 -> 236 | K39: 世帯数 | L39: 男 | M39: 女 | N39: 計 | O39: （住民基本台帳合計） | P39: 世帯数 | Q39: 男 | R39: 女 | S39: 計
B40: 45 | C40: 内田原 | D40: 151 | E40: 197 | F40: 210 | G40: =E40+F40 -> 407 | H40: 住民基本台帳合計 | K40: =D14+D28+D34+D41+D46+K9+K17+K26+K32+K36 -> 29113 | L40: =E14+E28+E34+E41+E46+L9+L17+L26+L32+L36 -> 32766 | M40: =F14+F28+F34+F41+F46+M9+M17+M26+M32+M36 -> 32622 | N40: =L40+M40 -> 65388 | O40: 前年同月数値 | P40: 28800 | Q40: 32920 | R40: 32875 | S40: 65795
A41: 計 | D41: =SUM(D35:D40) -> 1532 | E41: =SUM(E35:E40) -> 1802 | F41: =SUM(F35:F40) -> 1878 | G41: =SUM(G35:G40) -> 3681 | H41: 前月数値 | K41: 29082 | L41: 32776 | M41: 32618 | N41: 65394 | O41: 前年同月比較 | P41: =K40-P40 -> 313 | Q41: =L40-Q40 -> -154 | R41: =M40-R40 -> -253 | S41: =N40-S40 -> -407
B42: 50 | C42: 原新田 | D42: 1901 | E42: 2013 | F42: 1957 | G42: =E42+F42 -> 3970 | H42: 前月比較 | K42: =K40-K41 -> 31 | L42: =L40-L41 -> -10 | M42: =M40-M41 -> 4 | N42: =N40-N41 -> -6 | O42: （内外国人住民数） | P42: 世帯数 | Q42: 男 | R42: 女 | S42: 計
A43: 広 | B43: 51 | C43: 堅石 | D43: 1050 | E43: 1269 | F43: 1292 | G43: =E43+F43 -> 2561 | H43: （内外国人住民数） | K43: 1187 | L43: 726 | M43: 732 | N43: =SUM(L43:M43) -> 1458 | O43: 前年同月数値 | P43: 1126 | Q43: 682 | R43: 715 | S43: 1397
B44: 52 | C44: 郷原 | D44: 710 | E44: 756 | F44: 725 | G44: =E44+F44 -> 1481 | H44: （前月数値） | K44: 1178 | L44: 729 | M44: 725 | N44: =SUM(L44:M44) -> 1454 | O44: 前年同月比較 | P44: =K43-P43 -> 61 | Q44: =L43-Q43 -> 44 | R44: =M43-R43 -> 17 | S44: =N43-S43 -> 61
A45: 丘 | B45: 54 | C45: 野村 | D45: 2849 | E45: 2965 | F45: 2661 | G45: =E45+F45 -> 5626 | H45: （前月比較） | K45: =K43-K44 -> 9 | L45: =L43-L44 -> -3 | M45: =M43-M44 -> 7 | N45: =N43-N44 -> 4
A46: 計 | D46: =SUM(D42:D45) -> 6510 | E46: =SUM(E42:E45) -> 7003 | F46: =SUM(F42:F45) -> 6635 | G46: =SUM(G42:G45) -> 13638

Sheet R6.5
A1: 区別住民基本台帳世帯人口一覧表
L2: 45413
A3: 地区 | B3: ＮＯ | C3: 区 | D3: 世帯数 | E3: 男 | F3: 女 | G3: 計 | H3: 地区 | I3: ＮＯ | J3: 区 | K3: 世帯数 | L3: 男 | M3: 女 | N3: 計
B4: 1 | C4: 大門一番町 | D4: 135 | E4: 118 | F4: 121 | G4: =E4+F4 -> 239 | I4: 55 | J4: 吉田一区 | K4: 568 | L4: 618 | M4: 593 | N4: =L4+M4 -> 1211
B5: 2 | C5: 大門二番町 | D5: 324 | E5: 363 | F5: 391 | G5: =E5+F5 -> 754 | H5: 吉 | I5: 56 | J5: 吉田二区 | K5: 567 | L5: 592 | M5: 600 | N5: =L5+M5 -> 1192
A6: 大 | B6: 3 | C6: 大門三番町 | D6: 358 | E6: 402 | F6: 403 | G6: =E6+F6 -> 805 | I6: 57 | J6: 吉田三区 | K6: 1045 | L6: 1090 | M6: 1086 | N6: =L6+M6 -> 2176
B7: 4 | C7: 大門四番町 | D7: 210 | E7: 222 | F7: 256 | G7: =E7+F7 -> 478 | H7: 田 | I7: 58 | J7: 吉田四区 | K7: 927 | L7: 1054 | M7: 962 | N7: =L7+M7 -> 2016
B8: 5 | C8: 大門五番町 | D8: 592 | E8: 686 | F8: 659 | G8: =E8+F8 -> 1345 | I8: 59 | J8: 吉田五区 | K8: 1221 | L8: 1365 | M8: 1426 | N8: =L8+M8 -> 2791
B9: 6 | C9: 大門六番町 | D9: 392 | E9: 407 | F9: 459 | G9: =E9+F9 -> 866 | H9: 計 | K9: =SUM(K4:K8) -> 4328 | L9: =SUM(L4:L8) -> 4719 | M9: =SUM(M4:M8) -> 4667 | N9: =SUM(N4:N8) -> 9386
A10: 門 | B10: 7 | C10: 大門七番町 | D10: 277 | E10: 256 | F10: 257 | G10: =E10+F10 -> 513 | I10: 60 | J10: 上組 | K10: 183 | L10: 258 | M10: 245 | N10: =L10+M10 -> 503
B11: 8 | C11: 大門八番町 | D11: 209 | E11: 171 | F11: 202 | G11: =E11+F11 -> 373 | H11: 洗 | I11: 61 | J11: 元町 | K11: 156 | L11: 191 | M11: 192 | N11: =L11+M11 -> 383
B12: 9 | C12: 大門七区 | D12: 1849 | E12: 2041 | F12: 1997 | G12: =E12+F12 -> 4038 | I12: 62 | J12: 芦ノ田 | K12: 308 | L12: 399 | M12: 404 | N12: =L12+M12 -> 803
B13: 13 | C13: 大門田川町 | D13: 224 | E13: 251 | F13: 271 | G13: =E13+F13 -> 522 | I13: 63 | J13: 太田 | K13: 513 | L13: 663 | M13: 667 | N13: =L13+M13 -> 1330
A14: 計 | D14: =SUM(D4:D13) -> 4570 | E14: =SUM(E4:E13) -> 4917 | F14: =SUM(F4:F13) -> 5016 | G14: =E14+F14 -> 9933 | H14: 馬 | I14: 64 | J14: 岩垂 | K14: 221 | L14: 314 | M14: 313 | N14: =L14+M14 -> 627
B15: 20 | C15: 東山 | D15: 104 | E15: 122 | F15: 119 | G15: =E15+F15 -> 241 | I15: 65 | J15: 下小曽部 | K15: 269 | L15: 333 | M15: 366 | N15: =L15+M15 -> 699
B16: 21 | C16: 柿沢 | D16: 158 | E16: 198 | F16: 210 | G16: =E16+F16 -> 408 | I16: 66 | J16: 上小曽部 | K16: 130 | L16: 138 | M16: 141 | N16: =L16+M16 -> 279
B17: 22 | C17: 金井 | D17: 83 | E17: 114 | F17: 96 | G17: =E17+F17 -> 210 | H17: 計 | K17: =SUM(K10:K16) -> 1780 | L17: =SUM(L10:L16) -> 2296 | M17: =SUM(M10:M16) -> 2328 | N17: =SUM(N10:N16) -> 4624
A18: 塩 | B18: 23 | C18: 上西条 | D18: 213 | E18: 272 | F18: 300 | G18: =E18+F18 -> 572 | I18: 70 | J18: 桔梗ケ原 | K18: 814 | L18: 873 | M18: 878 | N18: =L18+M18 -> 1751
B19: 24 | C19: 中西条 | D19: 84 | E19: 113 | F19: 118 | G19: =E19+F19 -> 231 | I19: 72 | J19: 平出 | K19: 313 | L19: 440 | M19: 392 | N19: =L19+M19 -> 832
A20: 尻 | B20: 25 | C20: 下西条 | D20: 211 | E20: 262 | F20: 281 | G20: =E20+F20 -> 543 | H20: 宗 | I20: 73 | J20: 床尾 | K20: 233 | L20: 256 | M20: 283 | N20: =L20+M20 -> 539
B21: 26 | C21: 堀ノ内 | D21: 374 | E21: 447 | F21: 479 | G21: =E21+F21 -> 926 | I21: 74 | J21: 洗馬 | K21: 266 | L21: 347 | M21: 374 | N21: =L21+M21 -> 721
A22: 東 | B22: 27 | C22: 長畝 | D22: 165 | E22: 201 | F22: 222 | G22: =E22+F22 -> 423 | I22: 75 | J22: 牧野 | K22: 348 | L22: 417 | M22: 435 | N22: =L22+M22 -> 852
B23: 28 | C23: 桟敷 | D23: 212 | E23: 248 | F23: 250 | G23: =E23+F23 -> 498 | H23: 賀 | I23: 76 | J23: 本山 | K23: 160 | L23: 183 | M23: 185 | N23: =L23+M23 -> 368
B24: 29 | C24: 町区 | D24: 905 | E24: 1127 | F24: 1140 | G24: =E24+F24 -> 2267 | I24: 77 | J24: 日出塩 | K24: 47 | L24: 63 | M24: 58 | N24: =L24+M24 -> 121
B25: 30 | C25: 松原 | D25: 59 | E25: 32 | F25: 52 | G25: =E25+F25 -> 84 | I25: 78 | J25: 小井戸 | K25: 60 | L25: 42 | M25: 54 | N25: =L25+M25 -> 96
B26: 31 | C26: みどり湖 | D26: 141 | E26: 154 | F26: 163 | G26: =E26+F26 -> 317 | H26: 計 | K26: =SUM(K18:K25) -> 2241 | L26: =SUM(L18:L25) -> 2621 | M26: =SUM(M18:M25) -> 2659 | N26: =SUM(N18:N25) -> 5280
B27: 32 | C27: 峰原 | D27: 237 | E27: 319 | F27: 321 | G27: =E27+F27 -> 640 | I27: 80 | J27: 古町 | K27: 151 | L27: 182 | M27: 197 | N27: =L27+M27 -> 379
A28: 計 | D28: =SUM(D15:D27) -> 2946 | E28: =SUM(E15:E27) -> 3609 | F28: =SUM(F15:F27) -> 3751 | G28: =SUM(G15:G27) -> 7360 | H28: 北 | I28: 81 | J28: 宮前 | K28: 88 | L28: 110 | M28: 103 | N28: =L28+M28 -> 213
B29: 35 | C29: 高出一区 | D29: 422 | E29: 501 | F29: 472 | G29: =E29+F29 -> 973 | H29: 小 | I29: 82 | J29: 大出 | K29: 218 | L29: 262 | M29: 286 | N29: =L29+M29 -> 548
A30: 高 | B30: 36 | C30: 高出二区 | D30: 776 | E30: 874 | F30: 792 | G30: =E30+F30 -> 1666 | H30: 野 | I30: 83 | J30: 上田 | K30: 111 | L30: 120 | M30: 125 | N30: =L30+M30 -> 245
B31: 37 | C31: 高出三区 | D31: 872 | E31: 1023 | F31: 974 | G31: =E31+F31 -> 1997 | I31: 84 | J31: 勝弦 | K31: 200 | L31: 215 | M31: 192 | N31: =L31+M31 -> 407
A32: 出 | B32: 38 | C32: 高出四区 | D32: 753 | E32: 837 | F32: 841 | G32: =E32+F32 -> 1678 | H32: 計 | K32: =SUM(K27:K31) -> 768 | L32: =SUM(L27:L31) -> 889 | M32: =SUM(M27:M31) -> 903 | N32: =SUM(N27:N31) -> 1792
B33: 39 | C33: 高出五区 | D33: 641 | E33: 701 | F33: 652 | G33: =E33+F33 -> 1353 | H33: 楢 川 | I33: 90 | J33: 贄川 | K33: 245 | L33: 267 | M33: 284 | N33: =L33+M33 -> 551
A34: 計 | D34: =SUM(D29:D33) -> 3464 | E34: =SUM(E29:E33) -> 3936 | F34: =SUM(F29:F33) -> 3731 | G34: =SUM(G29:G33) -> 7667 | I34: 91 | J34: 木曽平沢 | K34: 429 | L34: 439 | M34: 486 | N34: =L34+M34 -> 925
B35: 40 | C35: 南内田 | D35: 507 | E35: 570 | F35: 579 | G35: 1149 | I35: 92 | J35: 奈良井 | K35: 274 | L35: 270 | M35: 297 | N35: =L35+M35 -> 567
A36: 片 | B36: 41 | C36: 北熊井 | D36: 483 | E36: 640 | F36: 658 | G36: =E36+F36 -> 1298 | H36: 計 | K36: =SUM(K33:K35) -> 948 | L36: =SUM(L33:L35) -> 976 | M36: =SUM(M33:M35) -> 1067 | N36: =SUM(N33:N35) -> 2043
B37: 42 | C37: 南熊井 | D37: 210 | E37: 252 | F37: 245 | G37: =E37+F37 -> 497
A38: 丘 | B38: 43 | C38: 中挾 | D38: 37 | E38: 50 | F38: 48 | G38: =E38+F38 -> 98
B39: 44 | C39: 君石 | D39: 144 | E39: 100 | F39: 138 | G39: =E39+F39 -> 238 | K39: 世帯数 | L39: 男 | M39: 女 | N39: 計 | O39: （住民基本台帳合計） | P39: 世帯数 | Q39: 男 | R39: 女 | S39: 計
B40: 45 | C40: 内田原 | D40: 150 | E40: 196 | F40: 209 | G40: =E40+F40 -> 405 | H40: 住民基本台帳合計 | K40: =D14+D28+D34+D41+D46+K9+K17+K26+K32+K36 -> 29082 | L40: =E14+E28+E34+E41+E46+L9+L17+L26+L32+L36 -> 32776 | M40: =F14+F28+F34+F41+F46+M9+M17+M26+M32+M36 -> 32618 | N40: =L40+M40 -> 65394 | O40: 前年同月数値 | P40: 28784 | Q40: 32913 | R40: 32896 | S40: 65809
A41: 計 | D41: =SUM(D35:D40) -> 1531 | E41: =SUM(E35:E40) -> 1808 | F41: =SUM(F35:F40) -> 1877 | G41: =SUM(G35:G40) -> 3685 | H41: 前月数値 | K41: 29056 | L41: 32795 | M41: 32640 | N41: 65435 | O41: 前年同月比較 | P41: =K40-P40 -> 298 | Q41: =L40-Q40 -> -137 | R41: =M40-R40 -> -278 | S41: =N40-S40 -> -415
B42: 50 | C42: 原新田 | D42: 1904 | E42: 2016 | F42: 1955 | G42: =E42+F42 -> 3971 | H42: 前月比較 | K42: =K40-K41 -> 26 | L42: =L40-L41 -> -19 | M42: =M40-M41 -> -22 | N42: =N40-N41 -> -41 | O42: （内外国人住民数） | P42: 世帯数 | Q42: 男 | R42: 女 | S42: 計
A43: 広 | B43: 51 | C43: 堅石 | D43: 1045 | E43: 1265 | F43: 1288 | G43: =E43+F43 -> 2553 | H43: （内外国人住民数） | K43: 1178 | L43: 729 | M43: 725 | N43: =SUM(L43:M43) -> 1454 | O43: 前年同月数値 | P43: 1111 | Q43: 672 | R43: 698 | S43: 1370
B44: 52 | C44: 郷原 | D44: 704 | E44: 756 | F44: 722 | G44: =E44+F44 -> 1478 | H44: （前月数値） | K44: 1169 | L44: 724 | M44: 721 | N44: =SUM(L44:M44) -> 1445 | O44: 前年同月比較 | P44: =K43-P43 -> 67 | Q44: =L43-Q43 -> 57 | R44: =M43-R43 -> 27 | S44: =N43-S43 -> 84
A45: 丘 | B45: 54 | C45: 野村 | D45: 2853 | E45: 2968 | F45: 2654 | G45: =E45+F45 -> 5622 | H45: （前月比較） | K45: =K43-K44 -> 9 | L45: =L43-L44 -> 5 | M45: =M43-M44 -> 4 | N45: =N43-N44 -> 9
A46: 計 | D46: =SUM(D42:D45) -> 6506 | E46: =SUM(E42:E45) -> 7005 | F46: =SUM(F42:F45) -> 6619 | G46: =SUM(G42:G45) -> 13624

Sheet R6.4
A1: 区別住民基本台帳世帯人口一覧表
L2: 45383
A3: 地区 | B3: ＮＯ | C3: 区 | D3: 世帯数 | E3: 男 | F3: 女 | G3: 計 | H3: 地区 | I3: ＮＯ | J3: 区 | K3: 世帯数 | L3: 男 | M3: 女 | N3: 計
B4: 1 | C4: 大門一番町 | D4: 135 | E4: 119 | F4: 121 | G4: =E4+F4 -> 240 | I4: 55 | J4: 吉田一区 | K4: 560 | L4: 612 | M4: 585 | N4: =L4+M4 -> 1197
B5: 2 | C5: 大門二番町 | D5: 322 | E5: 360 | F5: 390 | G5: =E5+F5 -> 750 | H5: 吉 | I5: 56 | J5: 吉田二区 | K5: 563 | L5: 590 | M5: 596 | N5: =L5+M5 -> 1186
A6: 大 | B6: 3 | C6: 大門三番町 | D6: 364 | E6: 406 | F6: 410 | G6: =E6+F6 -> 816 | I6: 57 | J6: 吉田三区 | K6: 1046 | L6: 1095 | M6: 1084 | N6: =L6+M6 -> 2179
B7: 4 | C7: 大門四番町 | D7: 208 | E7: 222 | F7: 254 | G7: =E7+F7 -> 476 | H7: 田 | I7: 58 | J7: 吉田四区 | K7: 924 | L7: 1053 | M7: 964 | N7: =L7+M7 -> 2017
B8: 5 | C8: 大門五番町 | D8: 595 | E8: 688 | F8: 668 | G8: =E8+F8 -> 1356 | I8: 59 | J8: 吉田五区 | K8: 1215 | L8: 1362 | M8: 1424 | N8: =L8+M8 -> 2786
B9: 6 | C9: 大門六番町 | D9: 389 | E9: 408 | F9: 460 | G9: =E9+F9 -> 868 | H9: 計 | K9: =SUM(K4:K8) -> 4308 | L9: =SUM(L4:L8) -> 4712 | M9: =SUM(M4:M8) -> 4653 | N9: =SUM(N4:N8) -> 9365
A10: 門 | B10: 7 | C10: 大門七番町 | D10: 282 | E10: 259 | F10: 263 | G10: =E10+F10 -> 522 | I10: 60 | J10: 上組 | K10: 183 | L10: 256 | M10: 246 | N10: =L10+M10 -> 502
B11: 8 | C11: 大門八番町 | D11: 209 | E11: 171 | F11: 202 | G11: =E11+F11 -> 373 | H11: 洗 | I11: 61 | J11: 元町 | K11: 156 | L11: 191 | M11: 192 | N11: =L11+M11 -> 383
B12: 9 | C12: 大門七区 | D12: 1835 | E12: 2027 | F12: 1986 | G12: =E12+F12 -> 4013 | I12: 62 | J12: 芦ノ田 | K12: 307 | L12: 399 | M12: 404 | N12: =L12+M12 -> 803
B13: 13 | C13: 大門田川町 | D13: 224 | E13: 251 | F13: 271 | G13: =E13+F13 -> 522 | I13: 63 | J13: 太田 | K13: 511 | L13: 662 | M13: 667 | N13: =L13+M13 -> 1329
A14: 計 | D14: =SUM(D4:D13) -> 4563 | E14: =SUM(E4:E13) -> 4911 | F14: =SUM(F4:F13) -> 5025 | G14: =E14+F14 -> 9936 | H14: 馬 | I14: 64 | J14: 岩垂 | K14: 221 | L14: 314 | M14: 314 | N14: =L14+M14 -> 628
B15: 20 | C15: 東山 | D15: 104 | E15: 122 | F15: 119 | G15: =E15+F15 -> 241 | I15: 65 | J15: 下小曽部 | K15: 269 | L15: 334 | M15: 365 | N15: =L15+M15 -> 699
B16: 21 | C16: 柿沢 | D16: 158 | E16: 198 | F16: 210 | G16: =E16+F16 -> 408 | I16: 66 | J16: 上小曽部 | K16: 130 | L16: 135 | M16: 141 | N16: =L16+M16 -> 276
B17: 22 | C17: 金井 | D17: 84 | E17: 115 | F17: 98 | G17: =E17+F17 -> 213 | H17: 計 | K17: =SUM(K10:K16) -> 1777 | L17: =SUM(L10:L16) -> 2291 | M17: =SUM(M10:M16) -> 2329 | N17: =SUM(N10:N16) -> 4620
A18: 塩 | B18: 23 | C18: 上西条 | D18: 213 | E18: 273 | F18: 299 | G18: =E18+F18 -> 572 | I18: 70 | J18: 桔梗ケ原 | K18: 815 | L18: 872 | M18: 877 | N18: =L18+M18 -> 1749
B19: 24 | C19: 中西条 | D19: 84 | E19: 113 | F19: 118 | G19: =E19+F19 -> 231 | I19: 72 | J19: 平出 | K19: 314 | L19: 441 | M19: 394 | N19: =L19+M19 -> 835
A20: 尻 | B20: 25 | C20: 下西条 | D20: 211 | E20: 262 | F20: 281 | G20: =E20+F20 -> 543 | H20: 宗 | I20: 73 | J20: 床尾 | K20: 231 | L20: 256 | M20: 282 | N20: =L20+M20 -> 538
B21: 26 | C21: 堀ノ内 | D21: 371 | E21: 445 | F21: 473 | G21: =E21+F21 -> 918 | I21: 74 | J21: 洗馬 | K21: 266 | L21: 348 | M21: 375 | N21: =L21+M21 -> 723
A22: 東 | B22: 27 | C22: 長畝 | D22: 165 | E22: 201 | F22: 222 | G22: =E22+F22 -> 423 | I22: 75 | J22: 牧野 | K22: 349 | L22: 419 | M22: 437 | N22: =L22+M22 -> 856
B23: 28 | C23: 桟敷 | D23: 212 | E23: 248 | F23: 251 | G23: =E23+F23 -> 499 | H23: 賀 | I23: 76 | J23: 本山 | K23: 160 | L23: 183 | M23: 185 | N23: =L23+M23 -> 368
B24: 29 | C24: 町区 | D24: 903 | E24: 1134 | F24: 1135 | G24: =E24+F24 -> 2269 | I24: 77 | J24: 日出塩 | K24: 47 | L24: 63 | M24: 58 | N24: =L24+M24 -> 121
B25: 30 | C25: 松原 | D25: 60 | E25: 32 | F25: 53 | G25: =E25+F25 -> 85 | I25: 78 | J25: 小井戸 | K25: 60 | L25: 42 | M25: 54 | N25: =L25+M25 -> 96
B26: 31 | C26: みどり湖 | D26: 141 | E26: 154 | F26: 163 | G26: =E26+F26 -> 317 | H26: 計 | K26: =SUM(K18:K25) -> 2242 | L26: =SUM(L18:L25) -> 2624 | M26: =SUM(M18:M25) -> 2662 | N26: =SUM(N18:N25) -> 5286
B27: 32 | C27: 峰原 | D27: 236 | E27: 322 | F27: 324 | G27: =E27+F27 -> 646 | I27: 80 | J27: 古町 | K27: 149 | L27: 180 | M27: 197 | N27: =L27+M27 -> 377
A28: 計 | D28: =SUM(D15:D27) -> 2942 | E28: =SUM(E15:E27) -> 3619 | F28: =SUM(F15:F27) -> 3746 | G28: =SUM(G15:G27) -> 7365 | H28: 北 | I28: 81 | J28: 宮前 | K28: 88 | L28: 112 | M28: 104 | N28: =L28+M28 -> 216
B29: 35 | C29: 高出一区 | D29: 424 | E29: 505 | F29: 471 | G29: =E29+F29 -> 976 | H29: 小 | I29: 82 | J29: 大出 | K29: 221 | L29: 262 | M29: 288 | N29: =L29+M29 -> 550
A30: 高 | B30: 36 | C30: 高出二区 | D30: 765 | E30: 870 | F30: 783 | G30: =E30+F30 -> 1653 | H30: 野 | I30: 83 | J30: 上田 | K30: 110 | L30: 119 | M30: 125 | N30: =L30+M30 -> 244
B31: 37 | C31: 高出三区 | D31: 880 | E31: 1026 | F31: 988 | G31: =E31+F31 -> 2014 | I31: 84 | J31: 勝弦 | K31: 200 | L31: 218 | M31: 191 | N31: =L31+M31 -> 409
A32: 出 | B32: 38 | C32: 高出四区 | D32: 751 | E32: 837 | F32: 839 | G32: =E32+F32 -> 1676 | H32: 計 | K32: =SUM(K27:K31) -> 768 | L32: =SUM(L27:L31) -> 891 | M32: =SUM(M27:M31) -> 905 | N32: =SUM(N27:N31) -> 1796
B33: 39 | C33: 高出五区 | D33: 643 | E33: 702 | F33: 656 | G33: =E33+F33 -> 1358 | H33: 楢 川 | I33: 90 | J33: 贄川 | K33: 245 | L33: 269 | M33: 283 | N33: =L33+M33 -> 552
A34: 計 | D34: =SUM(D29:D33) -> 3463 | E34: =SUM(E29:E33) -> 3940 | F34: =SUM(F29:F33) -> 3737 | G34: =SUM(G29:G33) -> 7677 | I34: 91 | J34: 木曽平沢 | K34: 431 | L34: 441 | M34: 487 | N34: =L34+M34 -> 928
B35: 40 | C35: 南内田 | D35: 510 | E35: 572 | F35: 579 | G35: =E35+F35 -> 1151 | I35: 92 | J35: 奈良井 | K35: 273 | L35: 270 | M35: 298 | N35: =L35+M35 -> 568
A36: 片 | B36: 41 | C36: 北熊井 | D36: 484 | E36: 646 | F36: 659 | G36: =E36+F36 -> 1305 | H36: 計 | K36: =SUM(K33:K35) -> 949 | L36: =SUM(L33:L35) -> 980 | M36: =SUM(M33:M35) -> 1068 | N36: =SUM(N33:N35) -> 2048
B37: 42 | C37: 南熊井 | D37: 210 | E37: 250 | F37: 247 | G37: =E37+F37 -> 497
A38: 丘 | B38: 43 | C38: 中挾 | D38: 37 | E38: 50 | F38: 48 | G38: =E38+F38 -> 98
B39: 44 | C39: 君石 | D39: 145 | E39: 99 | F39: 139 | G39: =E39+F39 -> 238 | K39: 世帯数 | L39: 男 | M39: 女 | N39: 計 | O39: （住民基本台帳合計） | P39: 世帯数 | Q39: 男 | R39: 女 | S39: 計
B40: 45 | C40: 内田原 | D40: 150 | E40: 199 | F40: 210 | G40: =E40+F40 -> 409 | H40: 住民基本台帳合計 | K40: =D14+D28+D34+D41+D46+K9+K17+K26+K32+K36 -> 29056 | L40: =E14+E28+E34+E41+E46+L9+L17+L26+L32+L36 -> 32795 | M40: =F14+F28+F34+F41+F46+M9+M17+M26+M32+M36 -> 32640 | N40: =L40+M40 -> 65435 | O40: 前年同月数値 | P40: 28725 | Q40: 32927 | R40: 32901 | S40: 65828
A41: 計 | D41: =SUM(D35:D40) -> 1536 | E41: =SUM(E35:E40) -> 1816 | F41: =SUM(F35:F40) -> 1882 | G41: =SUM(G35:G40) -> 3698 | H41: 前月数値 | K41: 28878 | L41: 32791 | M41: 32688 | N41: 65479 | O41: 前年同月比較 | P41: =K40-P40 -> 331 | Q41: =L40-Q40 -> -132 | R41: =M40-R40 -> -261 | S41: =N40-S40 -> -393
B42: 50 | C42: 原新田 | D42: 1903 | E42: 2019 | F42: 1961 | G42: =E42+F42 -> 3980 | H42: 前月比較 | K42: =K40-K41 -> 178 | L42: =L40-L41 -> 4 | M42: =M40-M41 -> -48 | N42: =N40-N41 -> -44 | O42: （内外国人住民数） | P42: 世帯数 | Q42: 男 | R42: 女 | S42: 計
A43: 広 | B43: 51 | C43: 堅石 | D43: 1047 | E43: 1267 | F43: 1290 | G43: =E43+F43 -> 2557 | H43: （内外国人住民数） | K43: 1169 | L43: 724 | M43: 721 | N43: =SUM(L43:M43) -> 1445 | O43: 前年同月数値 | P43: 1088 | Q43: 658 | R43: 677 | S43: 1335
B44: 52 | C44: 郷原 | D44: 701 | E44: 753 | F44: 725 | G44: =E44+F44 -> 1478 | H44: （前月数値） | K44: 1150 | L44: 722 | M44: 706 | N44: =SUM(L44:M44) -> 1428 | O44: 前年同月比較 | P44: =K43-P43 -> 81 | Q44: =L43-Q43 -> 66 | R44: =M43-R43 -> 44 | S44: =N43-S43 -> 110
A45: 丘 | B45: 54 | C45: 野村 | D45: 2857 | E45: 2972 | F45: 2657 | G45: =E45+F45 -> 5629 | H45: （前月比較） | K45: =K43-K44 -> 19 | L45: =L43-L44 -> 2 | M45: =M43-M44 -> 15 | N45: =N43-N44 -> 17
A46: 計 | D46: =SUM(D42:D45) -> 6508 | E46: =SUM(E42:E45) -> 7011 | F46: =SUM(F42:F45) -> 6633 | G46: =SUM(G42:G45) -> 13644

Sheet R6.3
A1: 区別住民基本台帳世帯人口一覧表
L2: 45352
A3: 地区 | B3: ＮＯ | C3: 区 | D3: 世帯数 | E3: 男 | F3: 女 | G3: 計 | H3: 地区 | I3: ＮＯ | J3: 区 | K3: 世帯数 | L3: 男 | M3: 女 | N3: 計
B4: 1 | C4: 大門一番町 | D4: 132 | E4: 115 | F4: 118 | G4: =E4+F4 -> 233 | I4: 55 | J4: 吉田一区 | K4: 562 | L4: 615 | M4: 585 | N4: =L4+M4 -> 1200
B5: 2 | C5: 大門二番町 | D5: 326 | E5: 364 | F5: 388 | G5: =E5+F5 -> 752 | H5: 吉 | I5: 56 | J5: 吉田二区 | K5: 557 | L5: 589 | M5: 598 | N5: =L5+M5 -> 1187
A6: 大 | B6: 3 | C6: 大門三番町 | D6: 366 | E6: 413 | F6: 416 | G6: =E6+F6 -> 829 | I6: 57 | J6: 吉田三区 | K6: 1042 | L6: 1085 | M6: 1084 | N6: =L6+M6 -> 2169
B7: 4 | C7: 大門四番町 | D7: 207 | E7: 222 | F7: 252 | G7: =E7+F7 -> 474 | H7: 田 | I7: 58 | J7: 吉田四区 | K7: 917 | L7: 1055 | M7: 967 | N7: =L7+M7 -> 2022
B8: 5 | C8: 大門五番町 | D8: 591 | E8: 683 | F8: 663 | G8: =E8+F8 -> 1346 | I8: 59 | J8: 吉田五区 | K8: 1195 | L8: 1358 | M8: 1419 | N8: =L8+M8 -> 2777
B9: 6 | C9: 大門六番町 | D9: 389 | E9: 413 | F9: 469 | G9: =E9+F9 -> 882 | H9: 計 | K9: =SUM(K4:K8) -> 4273 | L9: =SUM(L4:L8) -> 4702 | M9: =SUM(M4:M8) -> 4653 | N9: =SUM(N4:N8) -> 9355
A10: 門 | B10: 7 | C10: 大門七番町 | D10: 264 | E10: 250 | F10: 256 | G10: =E10+F10 -> 506 | I10: 60 | J10: 上組 | K10: 183 | L10: 262 | M10: 252 | N10: =L10+M10 -> 514
B11: 8 | C11: 大門八番町 | D11: 211 | E11: 174 | F11: 203 | G11: =E11+F11 -> 377 | H11: 洗 | I11: 61 | J11: 元町 | K11: 156 | L11: 191 | M11: 195 | N11: =L11+M11 -> 386
B12: 9 | C12: 大門七区 | D12: 1809 | E12: 2005 | F12: 1963 | G12: =E12+F12 -> 3968 | I12: 62 | J12: 芦ノ田 | K12: 306 | L12: 401 | M12: 410 | N12: =L12+M12 -> 811
B13: 13 | C13: 大門田川町 | D13: 225 | E13: 250 | F13: 272 | G13: =E13+F13 -> 522 | I13: 63 | J13: 太田 | K13: 507 | L13: 662 | M13: 666 | N13: =L13+M13 -> 1328
A14: 計 | D14: =SUM(D4:D13) -> 4520 | E14: =SUM(E4:E13) -> 4889 | F14: =SUM(F4:F13) -> 5000 | G14: =E14+F14 -> 9889 | H14: 馬 | I14: 64 | J14: 岩垂 | K14: 219 | L14: 315 | M14: 316 | N14: =L14+M14 -> 631
B15: 20 | C15: 東山 | D15: 105 | E15: 123 | F15: 120 | G15: =E15+F15 -> 243 | I15: 65 | J15: 下小曽部 | K15: 266 | L15: 337 | M15: 365 | N15: =L15+M15 -> 702
B16: 21 | C16: 柿沢 | D16: 159 | E16: 198 | F16: 211 | G16: =E16+F16 -> 409 | I16: 66 | J16: 上小曽部 | K16: 130 | L16: 134 | M16: 142 | N16: =L16+M16 -> 276
B17: 22 | C17: 金井 | D17: 83 | E17: 115 | F17: 98 | G17: =E17+F17 -> 213 | H17: 計 | K17: =SUM(K10:K16) -> 1767 | L17: =SUM(L10:L16) -> 2302 | M17: =SUM(M10:M16) -> 2346 | N17: =SUM(N10:N16) -> 4648
A18: 塩 | B18: 23 | C18: 上西条 | D18: 213 | E18: 275 | F18: 299 | G18: =E18+F18 -> 574 | I18: 70 | J18: 桔梗ケ原 | K18: 824 | L18: 883 | M18: 880 | N18: =L18+M18 -> 1763
B19: 24 | C19: 中西条 | D19: 84 | E19: 113 | F19: 119 | G19: =E19+F19 -> 232 | I19: 72 | J19: 平出 | K19: 316 | L19: 446 | M19: 399 | N19: =L19+M19 -> 845
A20: 尻 | B20: 25 | C20: 下西条 | D20: 210 | E20: 266 | F20: 282 | G20: =E20+F20 -> 548 | H20: 宗 | I20: 73 | J20: 床尾 | K20: 230 | L20: 257 | M20: 286 | N20: =L20+M20 -> 543
B21: 26 | C21: 堀ノ内 | D21: 368 | E21: 449 | F21: 476 | G21: =E21+F21 -> 925 | I21: 74 | J21: 洗馬 | K21: 268 | L21: 353 | M21: 379 | N21: =L21+M21 -> 732
A22: 東 | B22: 27 | C22: 長畝 | D22: 164 | E22: 199 | F22: 222 | G22: =E22+F22 -> 421 | I22: 75 | J22: 牧野 | K22: 347 | L22: 420 | M22: 439 | N22: =L22+M22 -> 859
B23: 28 | C23: 桟敷 | D23: 214 | E23: 248 | F23: 252 | G23: =E23+F23 -> 500 | H23: 賀 | I23: 76 | J23: 本山 | K23: 163 | L23: 185 | M23: 185 | N23: =L23+M23 -> 370
B24: 29 | C24: 町区 | D24: 898 | E24: 1138 | F24: 1129 | G24: =E24+F24 -> 2267 | I24: 77 | J24: 日出塩 | K24: 48 | L24: 66 | M24: 59 | N24: =L24+M24 -> 125
B25: 30 | C25: 松原 | D25: 59 | E25: 31 | F25: 53 | G25: =E25+F25 -> 84 | I25: 78 | J25: 小井戸 | K25: 61 | L25: 43 | M25: 57 | N25: =L25+M25 -> 100
B26: 31 | C26: みどり湖 | D26: 141 | E26: 154 | F26: 163 | G26: =E26+F26 -> 317 | H26: 計 | K26: =SUM(K18:K25) -> 2257 | L26: =SUM(L18:L25) -> 2653 | M26: =SUM(M18:M25) -> 2684 | N26: =SUM(N18:N25) -> 5337
B27: 32 | C27: 峰原 | D27: 235 | E27: 332 | F27: 330 | G27: =E27+F27 -> 662 | I27: 80 | J27: 古町 | K27: 149 | L27: 181 | M27: 199 | N27: =L27+M27 -> 380
A28: 計 | D28: =SUM(D15:D27) -> 2933 | E28: =SUM(E15:E27) -> 3641 | F28: =SUM(F15:F27) -> 3754 | G28: =SUM(G15:G27) -> 7395 | H28: 北 | I28: 81 | J28: 宮前 | K28: 88 | L28: 112 | M28: 103 | N28: =L28+M28 -> 215
B29: 35 | C29: 高出一区 | D29: 419 | E29: 504 | F29: 468 | G29: =E29+F29 -> 972 | H29: 小 | I29: 82 | J29: 大出 | K29: 220 | L29: 261 | M29: 287 | N29: =L29+M29 -> 548
A30: 高 | B30: 36 | C30: 高出二区 | D30: 765 | E30: 875 | F30: 793 | G30: =E30+F30 -> 1668 | H30: 野 | I30: 83 | J30: 上田 | K30: 111 | L30: 120 | M30: 126 | N30: =L30+M30 -> 246
B31: 37 | C31: 高出三区 | D31: 877 | E31: 1027 | F31: 992 | G31: =E31+F31 -> 2019 | I31: 84 | J31: 勝弦 | K31: 201 | L31: 220 | M31: 191 | N31: =L31+M31 -> 411
A32: 出 | B32: 38 | C32: 高出四区 | D32: 747 | E32: 840 | F32: 838 | G32: =E32+F32 -> 1678 | H32: 計 | K32: =SUM(K27:K31) -> 769 | L32: =SUM(L27:L31) -> 894 | M32: =SUM(M27:M31) -> 906 | N32: =SUM(N27:N31) -> 1800
B33: 39 | C33: 高出五区 | D33: 638 | E33: 692 | F33: 660 | G33: =E33+F33 -> 1352 | H33: 楢 川 | I33: 90 | J33: 贄川 | K33: 242 | L33: 267 | M33: 280 | N33: =L33+M33 -> 547
A34: 計 | D34: =SUM(D29:D33) -> 3446 | E34: =SUM(E29:E33) -> 3938 | F34: =SUM(F29:F33) -> 3751 | G34: =SUM(G29:G33) -> 7689 | I34: 91 | J34: 木曽平沢 | K34: 431 | L34: 444 | M34: 494 | N34: =L34+M34 -> 938
B35: 40 | C35: 南内田 | D35: 508 | E35: 570 | F35: 583 | G35: =E35+F35 -> 1153 | I35: 92 | J35: 奈良井 | K35: 275 | L35: 274 | M35: 301 | N35: =L35+M35 -> 575
A36: 片 | B36: 41 | C36: 北熊井 | D36: 477 | E36: 636 | F36: 657 | G36: =E36+F36 -> 1293 | H36: 計 | K36: =SUM(K33:K35) -> 948 | L36: =SUM(L33:L35) -> 985 | M36: =SUM(M33:M35) -> 1075 | N36: =SUM(N33:N35) -> 2060
B37: 42 | C37: 南熊井 | D37: 216 | E37: 253 | F37: 253 | G37: =E37+F37 -> 506
A38: 丘 | B38: 43 | C38: 中挾 | D38: 37 | E38: 51 | F38: 48 | G38: =E38+F38 -> 99
B39: 44 | C39: 君石 | D39: 146 | E39: 100 | F39: 141 | G39: =E39+F39 -> 241 | K39: 世帯数 | L39: 男 | M39: 女 | N39: 計 | O39: （住民基本台帳合計） | P39: 世帯数 | Q39: 男 | R39: 女 | S39: 計
B40: 45 | C40: 内田原 | D40: 150 | E40: 201 | F40: 213 | G40: =E40+F40 -> 414 | H40: 住民基本台帳合計 | K40: =D14+D28+D34+D41+D46+K9+K17+K26+K32+K36 -> 28878 | L40: =E14+E28+E34+E41+E46+L9+L17+L26+L32+L36 -> 32791 | M40: =F14+F28+F34+F41+F46+M9+M17+M26+M32+M36 -> 32688 | N40: =L40+M40 -> 65479 | O40: 前年同月数値 | P40: 28658 | Q40: 33006 | R40: 32991 | S40: 65997
A41: 計 | D41: =SUM(D35:D40) -> 1534 | E41: =SUM(E35:E40) -> 1811 | F41: =SUM(F35:F40) -> 1895 | G41: =SUM(G35:G40) -> 3706 | H41: 前月数値 | K41: 28898 | L41: 32852 | M41: 32738 | N41: 65590 | O41: 前年同月比較 | P41: =K40-P40 -> 220 | Q41: =L40-Q40 -> -215 | R41: =M40-R40 -> -303 | S41: =N40-S40 -> -518
B42: 50 | C42: 原新田 | D42: 1892 | E42: 2017 | F42: 1957 | G42: =E42+F42 -> 3974 | H42: 前月比較 | K42: =K40-K41 -> -20 | L42: =L40-L41 -> -61 | M42: =M40-M41 -> -50 | N42: =N40-N41 -> -111 | O42: （内外国人住民数） | P42: 世帯数 | Q42: 男 | R42: 女 | S42: 計
A43: 広 | B43: 51 | C43: 堅石 | D43: 1049 | E43: 1277 | F43: 1298 | G43: =E43+F43 -> 2575 | H43: （内外国人住民数） | K43: 1150 | L43: 722 | M43: 706 | N43: =SUM(L43:M43) -> 1428 | O43: 前年同月数値 | P43: 1085 | Q43: 654 | R43: 679 | S43: =Q43+R43 -> 1333
